Workbook
Name D: [1]Hoja1!$A$2:$A$6
Name ExportarAExcel: #REF!
Name ExportarAExcel: #REF!

Sheet 2022 HW
A1: ID | B1: LONG | C1: Mayor | D1: Cuenta contable | E1: Nombre cuenta contable | F1: Clasificación EF 2022 | G1: Saldo Inicial 2021 | H1: Débito Moneda Local | I1: Crédito Moneda Local | J1: Saldo Final 2022
A2: 1 | B2: =LEN(D2) -> 8 | C2: =MID(D2,1,4) -> 1105 | D2: 11050501 | E2: CAJA GENERAL OFICINA | F2: Efectivo en caja | G2: 0 | H2: 2323700 | I2: 2323700 | J2: 0
A3: 2 | B3: =LEN(D3) -> 8 | C3: =MID(D3,1,4) -> 1105 | D3: 11050502 | E3: CAJA RECICLABLE | F3: Efectivo en caja | G3: 446675 | H3: 1125100 | I3: 343700 | J3: 1228075
A4: 3 | B4: =LEN(D4) -> 8 | C4: =MID(D4,1,4) -> 1105 | D4: 11051001 | E4: CAJA MENOR PRINCIPAL | F4: Efectivo en caja | G4: 1500000 | H4: 0 | I4: 0 | J4: 1500000
A5: 4 | B5: =LEN(D5) -> 8 | C5: =MID(D5,1,4) -> 1105 | D5: 11051002 | E5: CAJA MENOR AREA OPERACIONES | F5: Efectivo en caja | G5: 0 | H5: 1300000 | I5: 0 | J5: 1300000
A6: 5 | B6: =LEN(D6) -> 8 | C6: =MID(D6,1,4) -> 1110 | D6: 11100501 | E6: BANCOLOMBIA 58579378883 | F6: Efectivo en bancos - COP | G6: 1.8673135e+08 | H6: 1.125907e+10 | I6: 1.1445801e+10 | J6: 0
A7: 6 | B7: =LEN(D7) -> 8 | C7: =MID(D7,1,4) -> 1110 | D7: 11100502 | E7: BANCO BOGOTA 022045587 | F7: Efectivo en bancos - COP | G7: 41911701 | H7: 1.1721114e+09 | I7: 1.1966271e+09 | J7: 17396092
A8: 7 | B8: =LEN(D8) -> 8 | C8: =MID(D8,1,4) -> 1110 | D8: 11100503 | E8: BANCO CAJA SOCIAL 21002914823 | F8: Efectivo en bancos - COP | G8: 328041.83 | H8: 0 | I8: 0 | J8: 328041.83
A9: 8 | B9: =LEN(D9) -> 8 | C9: =MID(D9,1,4) -> 1110 | D9: 11100505 | E9: BANCO AV VILLAS 002359826 | F9: Efectivo en bancos - COP | G9: 219262.65 | H9: 0 | I9: 0 | J9: 219262.65
A10: 9 | B10: =LEN(D10) -> 8 | C10: =MID(D10,1,4) -> 1110 | D10: 11100508 | E10: BANCO BBVA 070005830 | F10: Efectivo en bancos - COP | G10: 32300184 | H10: 9.0635484e+08 | I10: 826326459 | J10: 1.1232857e+08
A11: 10 | B11: =LEN(D11) -> 8 | C11: =MID(D11,1,4) -> 1110 | D11: 11100509 | E11: BBVA CTA AHORROS FIJO 393280672 | F11: Efectivo en bancos - COP | G11: 0 | H11: 45000000 | I11: 45000000 | J11: 0
A12: 11 | B12: =LEN(D12) -> 8 | C12: =MID(D12,1,4) -> 1110 | D12: 11101001 | E12: CUENTA COMPENSACION BANCOLOMBIA PANAMA | F12: Efectivo en bancos - USD | G12: 17545171 | H12: 2.2109552e+11 | I12: 2.2068982e+11 | J12: 4.2324555e+08
A13: 12 | B13: =LEN(D13) -> 8 | C13: =MID(D13,1,4) -> 1120 | D13: 11200501 | E13: BANCOLOMBIA AHORROS 66850044946 | F13: Efectivo en bancos - COP | G13: 3737.82 | H13: 71105630 | I13: 71001031 | J13: 108337.23
... A475: 474 | B475: =LEN(D475) -> 8 | C475: =MID(D475,1,4) -> 9999 | D475: 99999999 | E475: CIERRE DE AÑO | F475: Ganancias y pérdidas | G475: 6.8244301e+08 | H475: 0 | I475: 0 | J475: 1.1306669e+09
G477: =SUBTOTAL(9,G1:G475) -> -5.8412552e-06 | H477: =SUBTOTAL(9,H1:H475) -> 8.6259761e+11 | I477: =SUBTOTAL(9,I1:I475) -> 8.6259761e+11 | J477: =SUBTOTAL(9,J1:J475) -> -1.2874603e-05
F479: Balance | G479: =SUM(G2:G210) -> 7.4505806e-07 | J479: =SUM(J2:J210) -> -2.8610229e-06
F480: Resultados | G480: =SUM(G211:G475) -> -5.8412552e-06 | J480: =SUM(J211:J475) -> -1.0967255e-05

Sheet HW NIIF
A3: CLASIFICACIÓN EF | B3: Etiquetas de fila | C3: Suma de Saldo Final 2022 | D3: Suma de Saldo Inicial 2021
A4: Efectivo | B4: Efectivo en caja | C4: 4028075 | D4: 1946675
A5: Efectivo | B5: Efectivo en bancos - COP | C5: 1.303803e+08 | D5: 2.6149428e+08
A6: Efectivo | B6: Efectivo en bancos - USD | C6: 4.2324555e+08 | D6: 17545171
A7: Cuentas comerciales por cobrar | B7: Cuentas comerciales por cobrar - nacionales | C7: 1.6671839e+09 | D7: 1.9842797e+09
A8: Cuentas comerciales por cobrar | B8: Cuentas comerciales por cobrar - del exterior | C8: 0 | D8: 0
A9: Cuentas comerciales por cobrar LP | B9: Cuentas comerciales por cobrar - nacionales LP | C9: 0 | D9: 0
A10: Otras cuentas por cobrar | B10: Otras cuentas por cobrar - anticipos a proveedores | C10: 1.0356141e+08 | D10: 4.6527135e+08
A11: Otras cuentas por cobrar | B11: Otras cuentas por cobrar - préstamos a empleados | C11: 2981720 | D11: 1200000
A12: Otras cuentas por cobrar | B12: Otras cuentas por cobrar - otros | C12: 2766667 | D12: 3000386
A13: Otras cuentas por cobrar | B13: Otras cuentas por cobrar - procedentes de impuestos | C13: 2408000 | D13: 0
A14: Activos por impuestos corrientes | B14: Activos por impuestos corrientes | C14: 125336000 | D14: 0
A15: Inventarios | B15: Inventario - materia prima | C15: 2621974063 | D15: 1.4625979e+09
... A112: Gasto por impuesto sobre la renta | B112: IRT - Corriente | C112: 763398000 | D112: 487132000
B113: Ganancias y pérdidas | C113: 1.1306669e+09 | D113: 6.8244301e+08
A114: Cuentas por cobrar a partes relacionadas | B114: Cuentas por cobrar a partes relacionadas | C114: 84882000 | D114: 0
B115: Total general | C115: -4.7683716e-06 | D115: 0

Sheet EST FIN
A1: EJEMPLO SAS | I1: EJEMPLO SAS | Q1: EJEMPLO SAS | Y1: EJEMPLO SAS
A3: ESTADO DE SITUACIÓN FINANCIERA | I3: ESTADO DE SITUACIÓN FINANCIERA | Q3: ESTADO DE SITUACIÓN FINANCIERA | Y3: ESTADO DE SITUACIÓN FINANCIERA
A4: AL 1 DE ENERO DE 2020 | I4: AL 31 DE DICIEMBRE DE 2020 | Q4: AL 31 DE DICIEMBRE DE 2021 | Y4: AL 31 DE DICIEMBRE DE 2022
A5: (Cifras en pesos colombianos - COP) | F5: Re-expresado | I5: (Cifras en pesos colombianos - COP) | N5: Re-expresado | Q5: (Cifras en pesos colombianos - COP) | Y5: (Cifras en pesos colombianos - COP)
A7: ACTIVOS | I7: ACTIVOS | Q7: ACTIVOS | Y7: ACTIVOS
A9: ACTIVOS CORRIENTES | I9: ACTIVOS CORRIENTES | Q9: ACTIVOS CORRIENTES | Y9: ACTIVOS CORRIENTES
A11: Efectivo | F11: 19953533 | I11: Efectivo | N11: 577888195 | O11: =N11-F11 -> 557934662 | Q11: Efectivo | V11: =ROUND(SUMIF('HW NIIF'!A:D,Q11,'HW NIIF'!D:D),0) -> 280986124 | W11: =V11-N11 -> -296902071 | Y11: Efectivo | AD11: =ROUND(SUMIF('HW NIIF'!A:D,Y11,'HW NIIF'!C:C),0) -> 557653929 | AE11: =AD11-V11 -> 276667805
A12: Cuentas comerciales por cobrar | F12: 1305055323 | I12: Cuentas comerciales por cobrar | N12: 1103205805 | O12: =N12-F12 -> -201849518 | Q12: Cuentas comerciales por cobrar | V12: =ROUND(SUMIF('HW NIIF'!A:D,Q12,'HW NIIF'!D:D),0) -> 1984279720 | W12: =V12-N12 -> 881073915 | Y12: Cuentas comerciales por cobrar | AD12: =ROUND(SUMIF('HW NIIF'!A:D,Y12,'HW NIIF'!C:C),0) -> 1667183935 | AE12: =AD12-V12 -> -317095785
A13: Otras cuentas por cobrar | F13: 150444449 | I13: Otras cuentas por cobrar | N13: 474710166 | O13: =N13-F13 -> 324265717 | Q13: Otras cuentas por cobrar | V13: =ROUND(SUMIF('HW NIIF'!A:D,Q13,'HW NIIF'!D:D),0) -> 469471737 | W13: =V13-N13 -> -5238429 | Y13: Otras cuentas por cobrar | AD13: =ROUND(SUMIF('HW NIIF'!A:D,Y13,'HW NIIF'!C:C),0) -> 111717793 | AE13: =AD13-V13 -> -357753944
A14: Cuentas por cobrar a partes relacionadas | F14: 0 | I14: Cuentas por cobrar a partes relacionadas | N14: 0 | O14: =N14-F14 -> 0 | Q14: Cuentas por cobrar a partes relacionadas | V14: =ROUND(SUMIF('HW NIIF'!A:D,Q14,'HW NIIF'!D:D),0) -> 0 | W14: =V14-N14 -> 0 | Y14: Cuentas por cobrar a partes relacionadas | AD14: =ROUND(SUMIF('HW NIIF'!A:D,Y14,'HW NIIF'!C:C),0) -> 84882000 | AE14: =AD14-V14 -> 84882000
A15: Activos por impuestos corrientes | F15: 0 | I15: Activos por impuestos corrientes | N15: 0 | O15: =N15-F15 -> 0 | Q15: Activos por impuestos corrientes | V15: =ROUND(SUMIF('HW NIIF'!A:D,Q15,'HW NIIF'!D:D),0) -> 0 | W15: =V15-N15 -> 0 | Y15: Activos por impuestos corrientes | AD15: =ROUND(SUMIF('HW NIIF'!A:D,Y15,'HW NIIF'!C:C),0) -> 125336000 | AE15: =AD15-V15 -> 125336000
A16: Inventarios | F16: 2490116688 | I16: Inventarios | N16: 1933516203 | O16: =N16-F16 -> -556600485 | Q16: Inventarios | V16: =ROUND(SUMIF('HW NIIF'!A:D,Q16,'HW NIIF'!D:D),0) -> 1664211578 | W16: =V16-N16 -> -269304625 | Y16: Inventarios | AD16: =ROUND(SUMIF('HW NIIF'!A:D,Y16,'HW NIIF'!C:C),0)+1 -> 4066897219 | AE16: =AD16-V16 -> 2402685641
A18: TOTAL ACTIVOS CORRIENTES | F18: =SUM(F11:F17) -> 3965569993 | I18: TOTAL ACTIVOS CORRIENTES | N18: =SUM(N11:N17) -> 4089320369 | Q18: TOTAL ACTIVOS CORRIENTES | V18: =SUM(V11:V17) -> 4398949159 | Y18: TOTAL ACTIVOS CORRIENTES | AD18: =SUM(AD11:AD17) -> 6613670876
A20: ACTIVOS NO CORRIENTES | I20: ACTIVOS NO CORRIENTES | Q20: ACTIVOS NO CORRIENTES | Y20: ACTIVOS NO CORRIENTES
A22: Cuentas comerciales por cobrar LP | F22: 45739362 | I22: Cuentas comerciales por cobrar LP | N22: 92588639 | O22: =N22-F22 -> 46849277 | Q22: Cuentas comerciales por cobrar LP | V22: =ROUND(SUMIF('HW NIIF'!A:D,Q22,'HW NIIF'!D:D),0) -> 0 | W22: =V22-N22 -> -92588639 | Y22: Cuentas comerciales por cobrar LP | AD22: =ROUND(SUMIF('HW NIIF'!A:D,Y22,'HW NIIF'!C:C),0) -> 0 | AE22: =AD22-V22 -> 0
A23: Propiedades, planta y equipo | F23: 1842029518 | I23: Propiedades, planta y equipo | N23: 1755332603 | O23: =N23-F23 -> -86696915 | Q23: Propiedades, planta y equipo | V23: =ROUND(SUMIF('HW NIIF'!A:D,Q23,'HW NIIF'!D:D),0) -> 1732041190 | W23: =V23-N23 -> -23291413 | Y23: Propiedades, planta y equipo | AD23: =ROUND(SUMIF('HW NIIF'!A:D,Y23,'HW NIIF'!C:C),0) -> 2290381595 | AE23: =AD23-V23 -> 558340405
A24: Activos intangibles | F24: 135064513 | I24: Activos intangibles | N24: 120057345 | O24: =N24-F24 -> -15007168 | Q24: Activos intangibles | V24: =ROUND(SUMIF('HW NIIF'!A:D,Q24,'HW NIIF'!D:D),0) -> 105050181 | W24: =V24-N24 -> -15007164 | Y24: Activos intangibles | AD24: =ROUND(SUMIF('HW NIIF'!A:D,Y24,'HW NIIF'!C:C),0) -> 90043017 | AE24: =AD24-V24 -> -15007164
A26: TOTAL ACTIVOS NO CORRIENTES | F26: =SUM(F22:F25) -> 2022833393 | I26: TOTAL ACTIVOS NO CORRIENTES | N26: =SUM(N22:N25) -> 1967978587 | Q26: TOTAL ACTIVOS NO CORRIENTES | V26: =SUM(V22:V25) -> 1837091371 | Y26: TOTAL ACTIVOS NO CORRIENTES | AD26: =SUM(AD22:AD25) -> 2380424612
A28: TOTAL DE ACTIVOS | F28: =SUM(F18,F26) -> 5988403386 | I28: TOTAL DE ACTIVOS | N28: =SUM(N18,N26) -> 6057298956 | Q28: TOTAL DE ACTIVOS | V28: =SUM(V18,V26) -> 6236040530 | Y28: TOTAL DE ACTIVOS | AD28: =SUM(AD18,AD26) -> 8994095488
A30: PASIVOS | I30: PASIVOS | Q30: PASIVOS | Y30: PASIVOS
A32: PASIVOS CORRIENTES | I32: PASIVOS CORRIENTES | Q32: PASIVOS CORRIENTES | Y32: PASIVOS CORRIENTES
A34: Obligaciones financieras | F34: 649079273 | I34: Obligaciones financieras | N34: 3.3867076e+08 | O34: =F34-N34 -> 3.1040851e+08 | Q34: Obligaciones financieras | V34: =-ROUND(SUMIF('HW NIIF'!A:D,Q34,'HW NIIF'!D:D),0) -> 634189938 | W34: =N34-V34 -> -2.9551917e+08 | Y34: Obligaciones financieras | AD34: =-ROUND(SUMIF('HW NIIF'!A:D,Y34,'HW NIIF'!C:C),0) -> 1702473773 | AE34: =V34-AD34 -> -1068283835
A35: Cuentas comerciales por pagar | F35: 1175383678 | I35: Cuentas comerciales por pagar | N35: 949481875 | O35: =F35-N35 -> 225901803 | Q35: Cuentas comerciales por pagar | V35: =-ROUND(SUMIF('HW NIIF'!A:D,Q35,'HW NIIF'!D:D),0) -> 798335232 | W35: =N35-V35 -> 151146643 | Y35: Cuentas comerciales por pagar | AD35: =-ROUND(SUMIF('HW NIIF'!A:D,Y35,'HW NIIF'!C:C),0) -> 797554079 | AE35: =V35-AD35 -> 781153
A36: Otras cuentas por pagar | F36: 693477325 | I36: Otras cuentas por pagar | N36: 558074871 | O36: =F36-N36 -> 135402454 | Q36: Otras cuentas por pagar | V36: =-ROUND(SUMIF('HW NIIF'!A:D,Q36,'HW NIIF'!D:D),0) -> 453670641 | W36: =N36-V36 -> 104404230 | Y36: Otras cuentas por pagar | AD36: =-ROUND(SUMIF('HW NIIF'!A:D,Y36,'HW NIIF'!C:C),0) -> 544457764 | AE36: =V36-AD36 -> -90787123
A37: Pasivos por impuestos corrientes - | F37: 263855000 | I37: Pasivos por impuestos corrientes - | N37: 285753000 | O37: =F37-N37 -> -21898000 | Q37: Pasivos por impuestos corrientes - | V37: =-ROUND(SUMIF('HW NIIF'!A:D,Q37,'HW NIIF'!D:D),0) -> 184573000 | W37: =N37-V37 -> 101180000 | Y37: Pasivos por impuestos corrientes - | AD37: =-ROUND(SUMIF('HW NIIF'!A:D,Y37,'HW NIIF'!C:C),0) -> 518371000 | AE37: =V37-AD37 -> -333798000
A39: TOTAL PASIVOS CORRIENTES | F39: =SUM(F34:F38) -> 2781795276 | I39: TOTAL PASIVOS CORRIENTES | N39: =SUM(N34:N38) -> 2.1319805e+09 | Q39: TOTAL PASIVOS CORRIENTES | V39: =SUM(V34:V38) -> 2070768811 | Y39: TOTAL PASIVOS CORRIENTES | AD39: =SUM(AD34:AD38) -> 3562856616
A41: PASIVOS NO CORRIENTES | I41: PASIVOS NO CORRIENTES | Q41: PASIVOS NO CORRIENTES | Y41: PASIVOS NO CORRIENTES
A43: Obligaciones financieras LP | F43: 1318201724 | I43: Obligaciones financieras LP | N43: 1.4903484e+09 | O43: =F43-N43 -> -1.7214672e+08 | Q43: Obligaciones financieras LP | V43: =-ROUND(SUMIF('HW NIIF'!A:D,Q43,'HW NIIF'!D:D),0) -> 1234344063 | W43: =N43-V43 -> 2.5600438e+08 | Y43: Obligaciones financieras LP | AD43: =-ROUND(SUMIF('HW NIIF'!A:D,Y43,'HW NIIF'!C:C),0) -> 1370668512 | AE43: =V43-AD43 -> -136324449
A44: Cuentas por pagar a partes relacionadas LP - | F44: 366511300 | I44: Cuentas por pagar a partes relacionadas LP - | N44: 187509564 | O44: =F44-N44 -> 179001736 | Q44: Cuentas por pagar a partes relacionadas LP - | V44: =-ROUND(SUMIF('HW NIIF'!A:D,Q44,'HW NIIF'!D:D),0) -> 1024203 | W44: =N44-V44 -> 186485361 | Y44: Cuentas por pagar a partes relacionadas LP - | AD44: =-ROUND(SUMIF('HW NIIF'!A:D,Y44,'HW NIIF'!C:C),0) -> 0 | AE44: =V44-AD44 -> 1024203
A46: TOTAL PASIVOS NO CORRIENTES | F46: =SUM(F43:F45) -> 1684713024 | I46: TOTAL PASIVOS NO CORRIENTES | N46: =SUM(N43:N45) -> 1.677858e+09 | Q46: TOTAL PASIVOS NO CORRIENTES | V46: =SUM(V43:V45) -> 1235368266 | Y46: TOTAL PASIVOS NO CORRIENTES | AD46: =SUM(AD43:AD45) -> 1370668512
A48: TOTAL DE PASIVOS | F48: =SUM(F39,F46) -> 4466508300 | I48: TOTAL DE PASIVOS | N48: =SUM(N39,N46) -> 3809838517 | Q48: TOTAL DE PASIVOS | V48: =SUM(V39,V46) -> 3306137077 | Y48: TOTAL DE PASIVOS | AD48: =SUM(AD39,AD46) -> 4933525128
A50: PATRIMONIO | I50: PATRIMONIO | Q50: PATRIMONIO | Y50: PATRIMONIO
A52: Capital suscrito y pagado - | F52: 600000000 | I52: Capital suscrito y pagado - | N52: 600000000 | O52: =F52-N52 -> 0 | Q52: Capital suscrito y pagado - | V52: =-ROUND(SUMIF('HW NIIF'!A:D,Q52,'HW NIIF'!D:D),0) -> 600000000 | W52: =N52-V52 -> 0 | Y52: Capital suscrito y pagado - | AD52: =-ROUND(SUMIF('HW NIIF'!A:D,Y52,'HW NIIF'!C:C),0) -> 2100000000 | AE52: =V52-AD52 -> -1500000000
A53: Reservas - | F53: 169378297 | I53: Reservas - | N53: 205183329 | O53: =F53-N53 -> -35805032 | Q53: Reservas - | V53: =-ROUND(SUMIF('HW NIIF'!A:D,Q53,'HW NIIF'!D:D),0) -> 273427630 | W53: =N53-V53 -> -68244301 | Y53: Reservas - | AD53: =-ROUND(SUMIF('HW NIIF'!A:D,Y53,'HW NIIF'!C:C),0) -> 273427630 | AE53: =V53-AD53 -> 0
A54: Resultados acumulados - | F54: 752516789 | I54: Resultados acumulados - | N54: 1442277110 | O54: =F54-N54 -> -689760321 | Q54: Resultados acumulados - | V54: =-ROUND(SUMIF('HW NIIF'!A:D,Q54,'HW NIIF'!D:D),0)-1 -> 2056475823 | W54: =N54-V54 -> -614198713 | Y54: Resultados acumulados - | AD54: =-ROUND(SUMIF('HW NIIF'!A:D,Y54,'HW NIIF'!C:C),0) -> 1687142730 | AE54: =V54-AD54 -> 369333093
A56: PATRIMONIO TOTAL | F56: =SUM(F52:F55) -> 1521895086 | I56: PATRIMONIO TOTAL | N56: =SUM(N52:N55) -> 2247460439 | Q56: PATRIMONIO TOTAL | V56: =SUM(V52:V55) -> 2929903453 | Y56: PATRIMONIO TOTAL | AD56: =SUM(AD52:AD55) -> 4060570360
A58: TOTAL DE PASIVOS Y PATRIMONIO | F58: =SUM(F48,F56) -> 5988403386 | I58: TOTAL DE PASIVOS Y PATRIMONIO | N58: =SUM(N48,N56) -> 6057298956 | Q58: TOTAL DE PASIVOS Y PATRIMONIO | V58: =SUM(V48,V56) -> 6236040530 | Y58: TOTAL DE PASIVOS Y PATRIMONIO | AD58: =SUM(AD48,AD56) -> 8994095488
E60: Diferencia | F60: =F28-F58 -> 0 | M60: Diferencia | N60: =N28-N58 -> 0 | U60: Diferencia | V60: =V28-V58 -> 0 | AC60: Diferencia | AD60: =AD28-AD58 -> 0
A63: EJEMPLO SAS | I63: EJEMPLO SAS | Q63: EJEMPLO SAS | Y63: EJEMPLO SAS
A65: ESTADO DE RESULTADOS | I65: ESTADO DE RESULTADOS | Q65: ESTADO DE RESULTADOS | Y65: ESTADO DE RESULTADOS
...

Sheet Hoja1
A1: (en miles de pesos)
A2: SECCIÓN 17 | B2: PROPIEDADES, PLANTA Y EQUIPO | F2: SECCIÓN 29 | G2: IMPUESTO A LAS GANANCIAS
A4: Adquisición de un terreno: | C4: 1000000 | F4: Valor contable | G4: =C23 -> 1345000 | I4: Valor fiscal | J4: =C4 -> 1000000
A5: [Enero de 2023]
G6: Diferencia: | H6: =G4-J4 -> 345000
A7: Política de medición posterior: | C7: Modelo de revaluación | G7: Tipo: | H7: Temporaria
A8: Avalúo técnico: | C8: 1345000 | G8: Naturaleza: | H8: Imponible
A9: [Diciembre de 2023]
G10: Tarifa: | H10: 0.15 | I10: Ganancia ocasional
A11: DB - ESF - Terreno | C11: =C4 -> 1000000
A12: CR - ESF - Cuenta por pagar | C12: =-C11 -> -1000000 | G12: Impuesto de renta diferido | I12: =H6*H10 -> 51750
A14: DB - ESF - Terreno | C14: =C8-C11 -> 345000 | G14: DB - ESF - Superávit de revaluación, imp | J14: =I12 -> 51750
A15: CR - ESF - Superávit de revaluación | C15: (Restringido) | G15: CR - ESF - Pasivo por impuesto diferido | J15: =-J14 -> -51750
A16: [Patrimonio] | C16: =-C14 -> -345000
A18: Estado de situación financiera | E18: Estado de resultados integrales
A19: Diciembre de 2023
E20: Ingresos de actividades ordinarias
A21: Activos | E21: - Costo de ventas
A22: Activos no corientes | E22: - Gastos de adm y ventas
A23: Terreno | C23: =C11+C14 -> 1345000 | E23: = Utilidad antes de impuestos
E24: - Ingreso o pérdida por impuestos
A25: Pasivos | E25: = Resultado de ejercicio
A26: Pasivos corrientes
A27: Cuentas por pagar | C27: =C12 -> -1000000 | E27: Otro resultado integral
E28: Superávit de revaluación | G28: =C16 -> -345000
A29: Pasivos no corrientes | E29: Impuesto de renta diferido | G29: =J14 -> 51750
A30: Impuesto de renta diferido | C30: =J15 -> -51750 | E30: Otro resultado integral total | G30: =SUM(G28:G29) -> -293250
A32: Patrimonio | E32: = Resultado integral de ejercicio
A33: Capital social
A34: Reservas
A35: Ganancias acumuladas
A36: Otro resultado integral | C36: =C16+J14 -> -293250
A38: Venta del terreno: | C38: 1800000
A39: [Junio de 2024]
A41: DB - ESF - Efectivo / CXC | C41: =C38 -> 1800000 | E41: DB - ESF - Superávit de revaluación
A42: CR - ESF - Terreno | C42: =-C23 -> -1345000 | E42: [Patrimonio] | H42: =-C16 -> 345000
A43: CR - ER - Ganancia en venta de PPE | C43: =-SUM(C41:C42) -> -455000 | E43: CR - ESF - Ganancias acumuladas
E44: [Patrimonio] | H44: =-H42 -> -345000
E46: DB - ESF - Pasivo por impuesto diferido | H46: =J14 -> 51750
E47: CR - ESF - Superávit de revaluación, imp | H47: =-H46 -> -51750
