Workbook

Sheet Financial Statements
E2: EMIS
E3: 12TH FLOOR 30 CROWN PLACE
E4: London, EC2A 4EB, United Kingdom
E5: www.emis.com
A7: Organización Terpel S.A. (Colombia)
A8: Fuente:
A10: Tipo de Estado Financiero | B10: Anual, Indiv. | D10: Anual, Indiv. | E10: Anual, Indiv. | F10: Anual, Indiv. | G10: Anual, Indiv.
A11: Fecha final del período | B11: 2021-12-31 | D11: 2020-12-31 | E11: 2019-12-31 | F11: 2018-12-31 | G11: 2017-12-31
A12: Unidades | B12: Millones COP | D12: Millones COP | E12: Millones COP | F12: Millones COP | G12: Millones COP
A15: Estado de Resultados | B15: 2021 | C15: Analisis vertical | D15: 2020 | E15: 2019 | F15: 2018 | G15: 2017
A16: Total Ingreso Operativo | B16: 16893035 | D16: 12605085 | E16: 17088112 | F16: 14856518 | G16: 12465598
A17: Ingresos netos por ventas | B17: 16823500 | D17: 12579289 | E17: 17039798 | F17: 14733960 | G17: 12440021
A18: Costo de mercancías vendidas | B18: -15365206 | D18: -11590214 | E18: -15694467 | F18: -13585091 | G18: -11367569
A19: Utilidad bruta | B19: =+B17+B18 -> 1458293.6 | D19: 989074.97 | E19: 1345331.1 | F19: 1148868.9 | G19: 1072451.2 | H19: F1 | I19: =+D19/D17 -> 0.078627257 | J19: =+B19/B17 -> 0.086681943
A20: Gastos de venta y distribución | B20: -671638.2 | D20: -619935.61 | E20: -659902.31 | F20: -595624.41 | G20: -518871.56
A21: Gastos administrativos | B21: -190576.99 | D21: -165645.48 | E21: -170996.42 | F21: -143555.28 | G21: -131969.53
A22: Otros resultados operativos netos | B22: -8368.25 | D22: -33397.15 | E22: -26489.09 | F22: -116042.87 | G22: -34300.89
A23: Otros ingresos operativos | B23: 69534.83 | D23: 25796.48 | E23: 48313.58 | F23: 122557.76 | G23: 25576.93
A24: Otros gastos operativos | B24: -77903.08 | D24: -59193.63 | E24: -74802.67 | F24: -238600.63 | G24: -59877.82
A25: Ganancia operativa (EBIT) | B25: 587710.21 | D25: 170096.74 | E25: 487943.29 | F25: 293646.37 | G25: 387309.22 | H25: F2 | I25: =+B19+B20+B21+B23+B24 -> 587710.21 | J25: =+B25*3 -> 1763130.6
A26: Resultado financiero | B26: -31772 | D26: -201372.18 | E26: -135928.82 | F26: -149708.16 | G26: -51070.24 | J26: =+B25*15 -> 8815653.1
A27: Ingresos financieros | B27: 11965.42 | D27: 12922.8 | E27: 7181.21 | F27: 6334.81 | G27: 8040.3
A28: Gastos financieros | B28: -163113.33 | D28: -176649.07 | E28: -183904.26 | F28: -178965.45 | G28: -86769.58
A29: Participación en ganancia (pérdida) de asociados | B29: 119375.91 | D29: -37645.91 | E29: 40794.22 | F29: 22922.48 | G29: 27659.04 | H29: EFECTO NEUUTRO
A30: Ganancias antes de impuestos | B30: =+B25+B26 -> 555938.21 | D30: -31275.44 | E30: 352014.47 | F30: 143938.21 | G30: 336238.98 | H30: F3 | I30: =+B25+B27+B28+B29 -> 555938.21
A31: Impuesto a la renta | B31: -180216.51 | D31: -8462.81 | E31: -114094.8 | F31: -10196.86 | G31: -140957.77 | H31: 0.35 | I31: =+B30*35% -> 194578.37 | J31: =+I31/B30 -> 0.35
A32: Ganancias después de impuestos | B32: 375721.71 | D32: -39738.25 | E32: 237919.67 | F32: 133741.35 | G32: 195281.21 | J32: =-B31/B30 -> 0.32416644
A33: Ganancia (Pérdida) Neta | B33: =+B30+B31 -> 375721.7 | D33: -39738.25 | E33: 237919.67 | F33: 133741.35 | G33: 195281.21 | H33: F4
B34: =+B30+B31 -> 375721.7
A36: Balance General /ESF | B36: 2021 | D36: 2020 | E36: 2019 | F36: 2018 | G36: 2017
A37: Activos Totales | B37: 6336788.2 | D37: 5631290.9 | E37: 5761315.9 | F37: 5488095.7 | G37: 3863475.1 | I37: =+B37-B69 -> 2574977.6
A38: Activos no corrientes | B38: 4420022 | D38: 4081636.1 | E38: 4148814.2 | F38: 3909790.2 | G38: 2552711.9
A39: Propiedad, planta y equipo | B39: 2123183.1 | D39: 1851980.1 | E39: 1821370 | F39: 1515895 | G39: 1305818.8
A40: Activos intangibles y valor llave | B40: 492610.19 | D40: 909940.33 | E40: 934225.94 | F40: 961443.05 | G40: 786533.04
A41: Valor llave | B41: 228932.47 | D41: 228932.47 | E41: 228932.47 | F41: 228932.47 | G41: 306031.99
A42: Otros activos intangibles | B42: 263677.72 | D42: 681007.86 | E42: 705293.47 | F42: 732510.58 | G42: 480501.05
A43: Comerciales y otras cuentas a cobrar no corrientes | B43: 5667.5 | D43: 7224.31 | E43: 8566.38 | F43: 9723.33 | G43: 10472.59
A44: Cuentas por cobrar no corrientes | B44: 5667.5 | D44: 7224.31 | E44: 8566.38 | F44: 9723.33 | G44: 10472.59
A45: Activos financieros a largo plazo | B45: 1796703.6 | D45: 1311438.5 | E45: 1352259.8 | F45: 1390596.7 | G45: 418554.35
A46: Propiedades de inversión | B46: 5450.98 | D46: 5523 | E46: 5922.12 | F46: 5958.73 | G46: 5967.92
...

Sheet AV
A1: Estado de Resultados | B1: 2021 | C1: %
A2: Total Ingreso Operativo | B2: 16893035 | C2: =+B2/B2 -> 1 | D2: COMPARACIÓN INGRESOS
A3: Ingresos netos por ventas | B3: 16823500 | C3: =+B3/B2 -> 0.99588382
A4: Costo de mercancías vendidas | B4: -15365206 | C4: =-B4/B2 -> 0.90955867
A5: Utilidad bruta | B5: =+B3+B4 -> 1458293.6 | C5: =+B5/B2 -> 0.086325144
A6: Gastos de venta y distribución | B6: -671638.2 | C6: =-B6/B2 -> 0.039758292
A7: Gastos administrativos | B7: -190576.99 | C7: =-B7/B2 -> 0.011281395
A8: Otros resultados operativos netos | B8: -8368.25
A9: Otros ingresos operativos | B9: 69534.83 | C9: =+B9/B2 -> 0.0041161835
A10: Otros gastos operativos | B10: -77903.08 | C10: =-B10/B2 -> 0.0046115504
A11: Ganancia operativa (EBIT) | B11: 587710.21 | C11: =+B11/B2 -> 0.034790091
A12: Resultado financiero | B12: =+B13+B14+B15 -> -31772
A13: Ingresos financieros | B13: 11965.42 | C13: =+B13/B2 -> 0.00070830495
A14: Gastos financieros | B14: -163113.33 | C14: =-B14/B2 -> 0.0096556559
A15: Participación en ganancia (pérdida) de asociados | B15: 119375.91 | C15: =+B15/B2 -> 0.0070665758
A16: Ganancias antes de impuestos | B16: =+B11+B12 -> 555938.21 | C16: =+B16/B2 -> 0.032909316
A17: Impuesto a la renta | B17: -180216.51 | C17: =-B17/B2 -> 0.010668096 | D17: *
A18: Ganancias después de impuestos | B18: 375721.71 | C18: =+B18/B2 -> 0.022241221
A19: Ganancia (Pérdida) Neta | B19: =+B16+B17 -> 375721.7
A22: Balance General /ESF | B22: 2021
A23: Activos Totales | B23: 6336788.2
A24: Activos no corrientes | B24: 4420022 | C24: =+B24/B23 -> 0.69751771 | D24: Lo que utiliza la compañía para operar
A25: Propiedad, planta y equipo | B25: 2123183.1 | C25: =+B25/B23 -> 0.33505666 | D25: en empresas de servicios no debería ser tan elevado
A26: Activos intangibles y valor llave | B26: 492610.19 | C26: =+B26/B23 -> 0.07773815
A27: Valor llave | B27: 228932.47 | C27: =+B27/B23 -> 0.036127525
A28: Otros activos intangibles | B28: 263677.72 | C28: =+B28/B23 -> 0.041610626
A29: Comerciales y otras cuentas a cobrar no corrientes | B29: 5667.5
A30: Cuentas por cobrar no corrientes | B30: 5667.5 | C30: =+B30/B23 -> 0.00089438054
A31: Activos financieros a largo plazo | B31: 1796703.6
A32: Propiedades de inversión | B32: 5450.98 | C32: =+B32/B23 -> 0.00086021181
A33: Otros activos financieros no corrientes | B33: 1791252.6 | C33: =+B33/B23 -> 0.28267516
A34: Otros activos no corrientes | B34: 1857.61 | C34: =+B34/$B$23 -> 0.00029314693
A35: Activos Corrientes | B35: 1916766.2 | C35: =+B35/$B$23 -> 0.30248229 | D35: Deben ser superiores a los pasivos corrientes
A36: Inventarios | B36: 705677.94 | C36: =+B36/B23 -> 0.11136208
A37: Comerciales y otras cuentas a cobrar | B37: 609886.55 | C37: =+B37/$B$23 -> 0.096245375
A38: Cuentas comerciales por cobrar | B38: 534184.89 | C38: =+B38/$B$23 -> 0.084298998 | D38: Controlar
A39: Cuentas por cobrar a partes relacionadas | B39: 63793.77 | C39: =+B39/$B$23 -> 0.010067209
A40: Créditos de impuestos | B40: 11907.89 | C40: =+B40/$B$23 -> 0.0018791681
A41: Activos financieros de corto plazo | B41: 59746.54 | C41: =+B41/$B$23 -> 0.009428521
A42: Otros activos financieros corrientes | B42: 59746.54 | C42: =+B42/$B$23 -> 0.009428521
...

Sheet AH
A1: Estado de Resultados | B1: 2021 | C1: 2020 | D1: Variación absoluta | E1: Variación %
A2: Total Ingreso Operativo | B2: 16893035 | C2: 12605085 | D2: =+B2-C2 -> 4287949.5 | E2: =+D2/C2 -> 0.34017616
A3: Ingresos netos por ventas | B3: 16823500 | C3: 12579289 | D3: =+B3-C3 -> 4244211.1 | E3: =+D3/C3 -> 0.33739675
A4: Costo de mercancías vendidas | B4: -15365206 | C4: -11590214 | D4: =+B4-C4 -> -3774992.5 | E4: =+D4/C4 -> 0.32570516
A5: Utilidad bruta | B5: =+B3+B4 -> 1458293.6 | C5: 989074.97 | D5: =+B5-C5 -> 469218.68 | E5: =+D5/C5 -> 0.47440153
A6: Gastos de venta y distribución | B6: -671638.2 | C6: -619935.61 | D6: =+B6-C6 -> -51702.59 | E6: =+D6/C6 -> 0.083399936
A7: Gastos administrativos | B7: -190576.99 | C7: -165645.48 | D7: =+B7-C7 -> -24931.51 | E7: =+D7/C7 -> 0.15051126
A8: Otros resultados operativos netos | B8: =+B9+B10 -> -8368.25 | C8: =+C9+C10 -> -33397.15 | D8: =+B8-C8 -> 25028.9 | E8: =+D8/C8 -> -0.74943221 | F8: no lo analizaría global
A9: Otros ingresos operativos | B9: 69534.83 | C9: 25796.48 | D9: =+B9-C9 -> 43738.35 | E9: =+D9/C9 -> 1.6955162
A10: Otros gastos operativos | B10: -77903.08 | C10: -59193.63 | D10: =+B10-C10 -> -18709.45 | E10: =+D10/C10 -> 0.31607202
A11: Ganancia operativa (EBIT) | B11: 587710.21 | C11: 170096.74 | D11: =+B11-C11 -> 417613.47 | E11: =+D11/C11 -> 2.4551527 | F11: =+B11*2 -> 1175420.4
A12: Resultado financiero | B12: -31772 | C12: -201372.18 | D12: =+B12-C12 -> 169600.18 | E12: =+D12/C12 -> -0.8422225 | F12: =+B11*7 -> 4113971.5
A13: Ingresos financieros | B13: 11965.42 | C13: 12922.8 | D13: =+B13-C13 -> -957.38 | E13: =+D13/C13 -> -0.074084564 | F13: =+B11*10 -> 5877102.1
A14: Gastos financieros | B14: -163113.33 | C14: -176649.07 | D14: =+B14-C14 -> 13535.74 | E14: =+D14/C14 -> -0.076625028 | F14: =+F13-'Financial Statements'!I37 -> 3302124.5
A15: Participación en ganancia (pérdida) de asociados | B15: 119375.91 | C15: -37645.91 | D15: =+B15-C15 -> 157021.82 | E15: =+D15/C15 -> -4.1710194
A16: Ganancias antes de impuestos | B16: =+B11+B12 -> 555938.21 | C16: -31275.44 | D16: =+B16-C16 -> 587213.65 | E16: =+D16/C16 -> -18.775552
A17: Impuesto a la renta | B17: -180216.51 | C17: -8462.81 | D17: =+B17-C17 -> -171753.7 | E17: =+D17/C17 -> 20.295115
A18: Ganancias después de impuestos | B18: 375721.71 | C18: -39738.25 | D18: =+B18-C18 -> 415459.96 | E18: =+D18/C18 -> -10.454913
A19: Ganancia (Pérdida) Neta | B19: =+B16+B17 -> 375721.7 | C19: -39738.25 | D19: =+B19-C19 -> 415459.95 | E19: =+D19/C19 -> -10.454913
A22: Balance General /ESF | B22: 2021 | C22: 2020 | D22: Variación absoluta | E22: Variación %
A23: Activos Totales | B23: 6336788.2 | C23: 5631290.9 | D23: =+B23-C23 -> 705497.23 | E23: =+D23/C23 -> 0.12528162
A24: Activos no corrientes | B24: 4420022 | C24: 4081636.1 | D24: =+B24-C24 -> 338385.89 | E24: =+D24/C24 -> 0.082904474
A25: Propiedad, planta y equipo | B25: 2123183.1 | C25: 1851980.1 | D25: =+B25-C25 -> 271203.01 | E25: =+D25/C25 -> 0.14643949
A26: Activos intangibles y valor llave | B26: 492610.19 | C26: 909940.33 | D26: =+B26-C26 -> -417330.14 | E26: =+D26/C26 -> -0.45863462
A27: Valor llave | B27: 228932.47 | C27: 228932.47 | D27: =+B27-C27 -> 0 | E27: =+D27/C27 -> 0
A28: Otros activos intangibles | B28: 263677.72 | C28: 681007.86 | D28: =+B28-C28 -> -417330.14 | E28: =+D28/C28 -> -0.61281252
A29: Comerciales y otras cuentas a cobrar no corrientes | B29: 5667.5 | C29: 7224.31 | D29: =+B29-C29 -> -1556.81 | E29: =+D29/C29 -> -0.21549601
A30: Cuentas por cobrar no corrientes | B30: 5667.5 | C30: 7224.31 | D30: =+B30-C30 -> -1556.81 | E30: =+D30/C30 -> -0.21549601
A31: Activos financieros a largo plazo | B31: 1796703.6 | C31: 1311438.5 | D31: =+B31-C31 -> 485265.11 | E31: =+D31/C31 -> 0.37002507
A32: Propiedades de inversión | B32: 5450.98 | C32: 5523 | D32: =+B32-C32 -> -72.02 | E32: =+D32/C32 -> -0.013040014
A33: Otros activos financieros no corrientes | B33: 1791252.6 | C33: 1305915.4 | D33: =+B33-C33 -> 485337.13 | E33: =+D33/C33 -> 0.37164514
A34: Otros activos no corrientes | B34: 1857.61 | C34: 1052.88 | D34: =+B34-C34 -> 804.73 | E34: =+D34/C34 -> 0.76431312
... A40: Créditos de impuestos | B40: 11907.89 | C40: 49151.79 | D40: =+B40-C40 -> -37243.9 | E40: =+D40/C40 -> -0.75773232
A41: Activos financieros de corto plazo | B41: 59746.54 | C41: 0 | D41: =+B41-C41 -> 59746.54
A42: Otros activos financieros corrientes | B42: 59746.54 | C42: 0 | D42: =+B42-C42 -> 59746.54
A43: Efectivo o Equivalentes | B43: 476940.97 | C43: 411113.34 | D43: =+B43-C43 -> 65827.63 | E43: =+D43/C43 -> 0.16012039
A44: Otros Activos Corrientes | B44: 62860.31 | C44: 49919.72 | D44: =+B44-C44 -> 12940.59 | E44: =+D44/C44 -> 0.25922802
A45: Activos del grupo de disposición clasificados como mantenidos para la venta | B45: 1653.89 | C45: 0 | D45: =+B45-C45 -> 1653.89
A46: Total de patrimonio y pasivos | B46: 6336788.2 | C46: 5631290.9 | D46: =+B46-C46 -> 705497.23 | E46: =+D46/C46 -> 0.12528162
A47: Total de patrimonio | B47: 2574977.6 | C47: 1998374.5 | D47: =+B47-C47 -> 576603.15 | E47: =+D47/C47 -> 0.28853609
...

Sheet RAZON LIQUIDEZ
B1: Capital neto de trabajo
B2: CNT | C2: =+'Financial Statements'!B49-'Financial Statements'!B75 -> 815054.4 | E2: CNT=ACTIVO CORRIENTE-PASIVO CORRIENTE
E3: es una medida financiera importante que indica la capacidad de una empresa para cubrir sus obligaciones a corto plazo con sus activos corrientes
E4: Un resultado positivo en el Capital de Trabajo Neto indica que la empresa tiene suficientes activos corrientes para cubrir sus pasivos corrientes, lo que es una señal de solidez financiera. Por otro lado, un resultado negativo podría indicar que la empresa podría tener dificultades para cumplir con sus obligaciones a corto plazo. Es importante recordar que el Capital de Trabajo Neto es una métrica clave en la gestión financiera, ya que ayuda a evaluar la salud financiera de una empresa y su capacidad para hacer frente a contingencias a corto plazo.
B5: Razón corriente
B6: activo corriente/pasivo corriente | C6: =+'Financial Statements'!B49/'Financial Statements'!B75 -> 1.7398073 | E6: este indicador tiene la finalidad de cubrir sus obligaciones de corto plazo con sus activos de corto plazo. Para que exista liquidez en la empresa el resultado de estos valores debe dar mayor que 1. Si el resultado es mayor a esta cantidad, la empresa pudiesetener una fuerte liquidez (Fontalvo, Vergara, & De la Hoz,2012).
B8: Prueba ácida
B9: Prueba Ácida = (Activos Corrientes - Inventario) / Pasivos Corrientes | C9: =+('Financial Statements'!B49-'Financial Statements'!B50)/'Financial Statements'!B75 -> 1.0992786 | E9: La prueba ácida, también conocida como "prueba rápida" o "relación ácida", es una medida financiera que se utiliza para evaluar la capacidad de una empresa para cumplir con sus obligaciones a corto plazo utilizando sus activos corrientes más líquidos. Se llama "prueba ácida" porque es una versión más estricta del cálculo del capital de trabajo neto, ya que excluye el inventario de los activos corrientes.
E10: El resultado de la prueba ácida se expresa como un número, y un valor mayor que 1 generalmente se considera saludable, ya que indica que la empresa tiene suficientes activos líquidos para cubrir sus obligaciones a corto plazo sin depender en gran medida del inventario. Sin embargo, el valor óptimo puede variar según la industria y las circunstancias específicas de la empresa.
E11: La prueba ácida es una herramienta importante para los analistas financieros y los inversionistas, ya que proporciona información sobre la capacidad de una empresa para enfrentar situaciones de liquidez inmediata sin tener que vender su inventario a precios de descuento.

Sheet DE GESTION
B1: Rotación de cuentas por cobrar | E1: Esta razón también es conocida como de actividad, son aquellas que le dan a la empresa la capacidad de operar diariamente, a través de la gestión de la recuperación de las cuentas por cobrar, rotación de inventarios.
B2: RCC
B3: RRC= VENTAS A CRÉDITO /CUENTAS POR COBRAR PROMEDIO | C3: =+'Financial Statements'!B17 -> 16823500 | D3: =+C3/D4 -> 36.824348 | E3: Este indicador mide la rapidez en que las cuentas por cobrar y los inventarios pueden efectivizarse
B4: Cuentas por cobrar promedio | C4: =+('Financial Statements'!D52+'Financial Statements'!B52) -> 913716.11 | D4: =+C4/2 -> 456858.05 | E4: Rotación de Cuentas por Cobrar, también conocida como razón de recuperación de cartera, este indicador nos muestra el número de veces que se recuperan las cuentas por cobrar. Mientras más veces se recupere la cartera vencida la empresa tendrá mayor liquidez y, por lo tanto, un mejor capital de trabajo. EN VECES
B6: PROMEDIO DE COBRO | E6: Período promedio de Cobro, este indicador establece el promedio de días que la empresa se tarda para recuperar sus cuentas por cobrar. Mientras menor sea el resultado de este indicador, significa que causa un efecto positivo en la liquidez, debido a la pronta recuperación de la cartera de crédito. EN DIAS
B7: CCP= 365 DÍAS/ ROTACIÓN DE CUENTAS POR COBRAR | C7: =+D3 -> 36.824348 | D7: =365/C7 -> 9.9119203
B9: ROTACIÓN DE CUENTAS POR PAGAR | E9: La Rotación de Cuentas por Pagar es un indicador financiero que mide la eficiencia con la que una empresa paga a sus proveedores. A diferencia de la Rotación de Cuentas por Cobrar, que mide cuánto tiempo se tarda en cobrar el dinero de los clientes, la Rotación de Cuentas por Pagar se centra en cuánto tiempo se tarda en pagar a los proveedores por los bienes y servicios adquiridos a crédito. Este indicador es importante porque puede proporcionar información sobre la gestión de liquidez de una empresa y su relación con los proveedores.
B10: RCP= Compras / Saldo Promedio de Cuentas por Pagar | C10: =-'Financial Statements'!B18 -> 15365206 | D10: =+C10/D12 -> 21.415983
B12: Promedio de cuentas por pagar | C12: =+'Financial Statements'!B78+'Financial Statements'!D78 -> 1434928.9 | D12: =+C12/2 -> 717464.43
B14: RCP= 365 DÍAS/ ROTACIÓN DE CXP | C14: =+D10 -> 21.415983 | D14: =365/C14 -> 17.043345
B16: ROTACIÓN DE INVENTARIOS | E16: Este indicador demuestra como rota el inventario de la empresa, si este rota constantemente quiere decir que la empresa está aumentando sus ventas y necesita de inventarios constantemente, caso contrario, si no rota de manera constante, quiere de decir que la empresa está perdiendo su posición en el mercado.
B17: RI= COSTO VENTAS/INVENTARIO PROMEDIO | C17: =-'Financial Statements'!B18 -> 15365206 | D17: =+C17/D19 -> 23.060178 | E17: es un indicador financiero que mide la eficiencia con la que una empresa administra su inventario y cuántas veces en promedio el inventario se vende y se reemplaza durante un período de tiempo determinado, generalmente un año.
B19: Inventario promedio | C19: =+'Financial Statements'!B50+'Financial Statements'!D50 -> 1332618.2 | D19: =+C19/2 -> 666309.08
B21: ROTACIÓN DE ACTIVOS TOTALES | E21: Este indicador determina la capacidad que tiene la empresa para obtener ingresos a partir de la utilización de activos. Sí el resultado es mayor a datos de períodos anteriores, quiere decir que la empresa utiliza de manera adecuada sus recursos
C22: 2021 | D22: 2020 | E22: Se trata de un ratio que nos indica el buen funcionamiento de la empresa y su función es indicar la eficiencia de la empresa a la hora de gestionar sus activos para producir nuevas ventas.
B23: RA= VENTAS/ACTIVOS TOTALES | C23: =+'Financial Statements'!B17/'Financial Statements'!B37 -> 2.6548938 | D23: =+'Financial Statements'!D17/'Financial Statements'!D37 -> 2.2338197 | E23: Cuanto mayor sea el valor de este ratio, la empresa tendrá una productividad mayor. Ya que, esto nos indicará que los activos tienen más facilidad para producir ventas, lo que nos dará una mayor rentabilidad. Por tanto, el ratio de rotación de activos mide el número de veces que el activo está contenido en la cifra de ventas, esto es, el número de veces que se recupera el activo a través de las ventas
E24: Un valor bajo, podría indicar que la compañía tiene mucho capital inutilizado en sus activos, mientras que un valor demasiado alto se puede traducir en que una compañía tiene pocos activos para afrontar un repunte de las ventas o bien que sus activos necesitan ser cambiados por unos más productivos.
E25: Hay sectores en donde lo habitual es que el ratio se mueva entre 1 y 2 y otros en los que se sitúa en 10. Así, si se quiere saber si este ratio es alto o bajo en una empresa concreta será necesario conocer el dato de sus competidores.

Sheet DE ENDEUDAMIENTO
B1: INDICADORES DE ENDEUDAMIENTO
E2: Este tipo de razón también es conocida como razón de apalancamiento, y determinan la medida de los niveles de deuda y la medida que están comprometidos los activos y patrimonio con acreedores y proveedores.
B4: NIVEL DE DEUDA
B5: ND= PASIVO/TOTAL ACTIVOS | C5: =+'Financial Statements'!B69/'Financial Statements'!B37 -> 0.59364625 | E5: Permite conocer a la empresa el nivel de endeudamiento que posee con respecto a la inversión en activos, para las empresas es fundamental tener un bajo grado de deuda para disminuir el costo del financiamiento.
E6: Mide la proporción de los activos que están financiados por terceros. Recordemos que los activos de una empresa son financiados o bien por los socios o bien por terceros (proveedores o acreedores).
B8: Razón de patrimonio a activo total
B9: = Patrimonio / activo total X 100 | C9: =+'Financial Statements'!B61/'Financial Statements'!B37 -> 0.40635375 | E9: Mide la proporción de los activos que están financiados por los socios. Recordemos que los activos de una empresa son financiados o bien por los socios o bien por terceros (proveedores o acreedores).
B11: Nivel de deuda/patrimonio
E12: esta razón nos indica el porcentaje de deuda que la empresa tiene con respecto a su patrimonio
E13: Es el nivel de deuda sobre los fondos propios que tiene una empresa. De esta manera, se puede conocer la dependencia que se tiene en cuanto a la financiación de terceros para conocer el estado de las cuentas de la compañía y poder tomar decisiones de gestión o de inversión
E14: Con esta fórmula se puede conocer el dato de endeudamiento que tiene una empresa en concreto. Ya que lo que hace es medir los recursos propios que se tienen frente a los ajenos. Algo que sirve a los inversores para analizar el volumen de apalancamiento que ha asumido la firma en concreto, ya que un endeudamiento demasiado alto puede significar problemas financieros para la compañía debido a una gran dependencia de los fondos de terceros para poder funcionar.
B15: ESTRUCTURA DE CAPITAL= PASIVO/PATRIMONIO | C15: =+'Financial Statements'!B69/'Financial Statements'!B61 -> 1.46091 | E15: Mientras que un endeudamiento demasiado bajo también puede encerrar otros riesgos, por eso es importante saber interpretar el dato que se obtenga después de realizar esta operación matemática. Si bien es cierto que no hay un dato que pueda ser el mejor de todos, es cierto que la media general establece que el ratio debería ser menor que 1, aunque depende también de las particularidades del sector y de la empresa. Aunque, en términos generales, se establece que el valor ideal se sitúa entre el 0.5 y 0.7
E16: < 0,30; Buena autonomía financiera. Alta capacidad de endeudamiento < 0,50-0,7; Adecuada autonomía financiera > 0,7; Deficiente autonomía financiera, la empresa hace un uso excesivo del crédito.
B18: ENDEUDAMIENTO A CORTO PLAZO
B20: = Pasivo Corriente / Pasivo total X 100 | C20: =+'Financial Statements'!B75/'Financial Statements'!B69 -> 0.29286744

Sheet DE RENTABILIDAD
B2: RAZONES DE RENTABILIDAD | D2: 2021
B4: Margen de utilidad bruta sobre ventas | C4: = Utilidad Bruta / Ventas X 100 | D4: ='Financial Statements'!B19/'Financial Statements'!B17 -> 0.086681943 | E4: El margen de utilidad bruta es uno de los indicadores financieros y de gestión que permite determinar el beneficio directo que obtiene una empresa por la fabricación de un producto o servicio. La importancia del cálculo de este indicador de eficacia es que permite saber si un negocio es rentable o no dentro de un sector determinado.
B6: Margen de utilidad operacional sobre ventas | C6: = Utilidad Operacional / Ventas X 100 | D6: =+'Financial Statements'!B25/'Financial Statements'!B17 -> 0.034933885 | E6: El margen operacional permite conocer el porcentaje de utilidad que se obtiene de las ventas después de descontarle los costos asociados a la producción del bien o a la prestación del servicio y los gastos de administración y ventas. Muestra la rentabilidad del objeto social de la compañía.
E7: se busca es que las empresas mantengan o mejoren, esto implica una mayor ganancia en el precio de venta, un mejor manejo de costos y una buena gestión de gastos de administración y ventas. Por el contrario, una disminución del margen operacional implica que los costos de producción estarían subiendo o que ha tenido que disminuir precios para hacerle frente a una competencia más agresiva o que algo está incrementándose en los gastos de administración y ventas.
E8: Aquí es importante mencionar que si el margen bruto se mantiene estable y el margen operacional mejora o empeora se podrá identificar la razón de estos cambios en la estructura de gastos administrativos y de ventas. Es importante que el margen bruto y el operacional se analicen en conjunto.
B10: Margen de utilidad neta sobre ventas | C10: = Utilidad Neta / Ventas X 100 | D10: ='Financial Statements'!B33/'Financial Statements'!B17 -> 0.022333147 | E10: El margen neto permite conocer el porcentaje de utilidad que se obtiene de las ventas después todos los costos y gastos en los que incurre un negocio. En otras palabras, muestra que porcentaje de las ventas queda como utilidad, de ahí su nombre; es el neto del negocio.
B13: Rentabilidad sobre el activo total | C13: = Utilidad Neta / Activo Total X 100 | D13: ='Financial Statements'!B33/'Financial Statements'!B37 -> 0.059292135 | E13: El rendimiento de los activos (ROA) es un tipo de métrica de rendimiento de la inversión (ROI) que mide la rentabilidad de una empresa en relación con sus activos totales. Este ratio indica el rendimiento de una empresa comparando los beneficios (ingresos netos) que está generando con el capital que ha invertido en activos. Cuanto más alto sea el rendimiento, más productiva y eficiente es la gestión en la utilización de los recursos económicos.
B16: Rentabilidad sobre el patrimonio | C16: = Utilidad Neta / Patrimonio Total X 100 | D16: ='Financial Statements'!B33/'Financial Statements'!B61 -> 0.14591261 | E16: El ROE o Returno on Equity es el ratio más utilizado por los analistas financieros para calcular la rentabilidad de una compañía. De esta manera, a mayor ROE mayor rentabilidad tendrá esa empresa en relación con sus recursos propios que utiliza para financiarse. Este dato sirve para conocer cuál es la capacidad que tiene una firma a la hora de producir valor para sus accionistas. Lo que hace es medir el beneficio de una compañía en relación con sus fondos propios para conocer la rentabilidad de la misma.
E17: Esta empresa recibe 14.6% es decir que por cada 1000 recibe 146 pesos
E18: El paso de saber utilizar el indicador también es importante porque nos puede servir para comparar la compañía contra ella misma y ver así su evolución o para analizar un sector en concreto y qué compañía del sector puede interesarnos más desde el punto de vista inversor. En el primer caso, si una compañía consigue aumentar su ROE año tras año querrá decir que la empresa es cada vez más rentable, lo cual será un dato positivo y valorado por los inversores en esa empresa. Sin embargo, si el ROE va decreciendo habría que analizar los motivos por los que esa empresa está perdiendo rentabilidad.
