Workbook

Sheet BG
C3: ESTADOS FINANCIEROS PROYECTADOS | F3: Unidad | G3: 0 | H3: =+G3+1 -> 1 | I3: =+H3+1 -> 2 | J3: =+I3+1 -> 3 | K3: =+J3+1 -> 4 | L3: =+K3+1 -> 5
C5: ESTADO DE SITUACIÓN FINANCIERA
D6: ACTIVOS
E7: Disponible | F7: $ 000 | G7: 8000 | H7: =+'EFE Indirecto'!H28 -> 893.8656 | I7: =+'EFE Indirecto'!I28 -> 657.03685 | J7: =+'EFE Indirecto'!J28 -> 744.79748 | K7: =+'EFE Indirecto'!K28 -> 776.56994 | L7: =+'EFE Indirecto'!L28 -> 3817.7204
E8: Cuentas por Cobrar | F8: $ 000 | G8: 25000 | H8: =+G8*(1.12) -> 28000 | I8: =+H8*(1.12) -> 31360 | J8: =+I8*(1.12) -> 35123.2 | K8: =+J8*(1.12) -> 39337.984 | L8: =+K8*(1.12) -> 44058.542
E9: Inventarios | F9: $ 000 | G9: 9000 | H9: =+G9*(1+12%) -> 10080 | I9: =+H9*(1+12%) -> 11289.6 | J9: =+I9*(1+12%) -> 12644.352 | K9: =+J9*(1+12%) -> 14161.674 | L9: =+K9*(1+12%) -> 15861.075
D10: Total Activo Corriente | F10: $ 000 | G10: =+SUM(G7:G9) -> 42000 | H10: =+SUM(H7:H9) -> 38973.866 | I10: =+SUM(I7:I9) -> 43306.637 | J10: =+SUM(J7:J9) -> 48512.349 | K10: =+SUM(K7:K9) -> 54276.228 | L10: =+SUM(L7:L9) -> 63737.338
E11: Activo Fijo Bruto | F11: $ 000 | G11: 40000 | H11: 50000 | I11: 55400 | J11: =+I11 -> 55400 | K11: =+J11 -> 55400 | L11: =+K11 -> 55400
E12: Depreciación Acumulada | F12: $ 000 | G12: 0 | H12: =-G11/10 -> -4000 | I12: =+H12-H11/10 -> -9000 | J12: =+I12-I11/10 -> -14540 | K12: =+J12-J11/10 -> -20080 | L12: =+K12-K11/10 -> -25620
E13: Total Activo Fijo Neto | F13: $ 000 | G13: =+SUM(G11:G12) -> 40000 | H13: =+SUM(H11:H12) -> 46000 | I13: =+SUM(I11:I12) -> 46400 | J13: =+SUM(J11:J12) -> 40860 | K13: =+SUM(K11:K12) -> 35320 | L13: =+SUM(L11:L12) -> 29780
E14: Activos intangibles | F14: $ 000 | G14: 10000 | H14: =+G14 -> 10000 | I14: =+H14 -> 10000 | J14: =+I14 -> 10000 | K14: =+J14 -> 10000 | L14: =+K14 -> 10000
E15: Amortización Acumulada | F15: $ 000 | G15: 0 | H15: -2000 | I15: =+H15-2000 -> -4000 | J15: =+I15-2000 -> -6000 | K15: =+J15-2000 -> -8000 | L15: =+K15-2000 -> -10000
E16: Total Activos Diferidos | F16: $ 000 | G16: =+SUM(G14:G15) -> 10000 | H16: =+SUM(H14:H15) -> 8000 | I16: =+SUM(I14:I15) -> 6000 | J16: =+SUM(J14:J15) -> 4000 | K16: =+SUM(K14:K15) -> 2000 | L16: =+SUM(L14:L15) -> 0
E17: Otros Activos | F17: $ 000 | G17: 0 | H17: 2500 | I17: 3000 | J17: 3000 | K17: 3000 | L17: 3000
D18: Total Activo No Corriente | F18: $ 000 | G18: =+G13+G16+G17 -> 50000 | H18: =+H13+H16+H17 -> 56500 | I18: =+I13+I16+I17 -> 55400 | J18: =+J13+J16+J17 -> 47860 | K18: =+K13+K16+K17 -> 40320 | L18: =+L13+L16+L17 -> 32780
D20: Total Activos | F20: $ 000 | G20: =+G18+G10 -> 92000 | H20: =+H18+H10 -> 95473.866 | I20: =+I18+I10 -> 98706.637 | J20: =+J18+J10 -> 96372.349 | K20: =+K18+K10 -> 94596.228 | L20: =+L18+L10 -> 96517.338
D22: PASIVOS
E23: Proveedores | F23: $ 000 | G23: 25308 | H23: =+G23*1.05 -> 26573.4 | I23: =+H23*1.05 -> 27902.07 | J23: =+I23*1.05 -> 29297.174 | K23: =+J23*1.05 -> 30762.032 | L23: =+K23*1.05 -> 32300.134
E24: Cuentas por Pagar | F24: $ 000 | G24: 9500 | H24: =+G24*(1+5%) -> 9975 | I24: =+H24*(1+5%) -> 10473.75 | J24: =+I24*(1+5%) -> 10997.438 | K24: =+J24*(1+5%) -> 11547.309 | L24: =+K24*(1+5%) -> 12124.675
E25: Impuestos por Pagar | F25: $ 000 | G25: =-PG!G25 -> 1092.96 | H25: =-PG!H25 -> 562.7424 | I25: =-PG!I25 -> 850.97754 | J25: =-PG!J25 -> 1444.5863 | K25: =-PG!K25 -> 1760.6761 | L25: =-PG!L25 -> 1885.787
D26: Total Pasivo Corriente | F26: $ 000 | G26: =+SUM(G23:G25) -> 35900.96 | H26: =+SUM(H23:H25) -> 37111.142 | I26: =+SUM(I23:I25) -> 39226.798 | J26: =+SUM(J23:J25) -> 41739.197 | K26: =+SUM(K23:K25) -> 44070.018 | L26: =+SUM(L23:L25) -> 46310.596
E27: Obligaciones Financieras | F27: $ 000 | G27: 7880 | H27: 9000 | I27: 10000 | J27: 5000 | K27: 0 | L27: 0
D28: Total Pasivo No Corriente | F28: $ 000 | G28: =+G27 -> 7880 | H28: =+H27 -> 9000 | I28: =+I27 -> 10000 | J28: =+J27 -> 5000 | K28: =+K27 -> 0 | L28: =+L27 -> 0
D30: Total Pasivos | F30: $ 000 | G30: =+G26+G28 -> 43780.96 | H30: =+H26+H28 -> 46111.142 | I30: =+I26+I28 -> 49226.798 | J30: =+J26+J28 -> 46739.197 | K30: =+K26+K28 -> 44070.018 | L30: =+L26+L28 -> 46310.596
D32: PATRIMONIO
E33: Capital | F33: $ 000 | G33: 43000 | H33: =+G33+2000 -> 45000 | I33: =+H33 -> 45000 | J33: =+I33 -> 45000 | K33: =+J33 -> 45000 | L33: =+K33 -> 45000
E34: Reserva Legal | F34: $ 000 | G34: 0 | H34: =+G34+G35*10% -> 221.904 | I34: =+H34+H35*10% -> 336.15776 | J34: =+I34+I35*10% -> 508.93199 | K34: =+J34+J35*10% -> 802.22679 | L34: =+K34+K35*10% -> 1159.6974
E35: Utilidad del Periodo | F35: $ 000 | G35: =+PG!G27 -> 2219.04 | H35: =+PG!H27 -> 1142.5376 | I35: =+PG!I27 -> 1727.7423 | J35: =+PG!J27 -> 2932.948 | K35: =+PG!K27 -> 3574.7061 | L35: =+PG!L27 -> 3828.719
E36: Utilidades Retenidas | F36: $ 000 | G36: 3000 | H36: =+G36+G35-H34+G34-'EFE Indirecto'!H47 -> 2998.2816 | I36: =+H36+H35-I34+H34-'EFE Indirecto'!I47 -> 2415.9393 | J36: =+I36+I35-J34+I34-'EFE Indirecto'!J47 -> 1191.2722 | K36: =+J36+J35-K34+J34-'EFE Indirecto'!K47 -> 1149.2776 | L36: =+K36+K35-L34+K34-'EFE Indirecto'!L47 -> 218.32565
D37: Total Patrimonio | F37: $ 000 | G37: =+SUM(G33:G36) -> 48219.04 | H37: =+SUM(H33:H36) -> 49362.723 | I37: =+SUM(I33:I36) -> 49479.839 | J37: =+SUM(J33:J36) -> 49633.152 | K37: =+SUM(K33:K36) -> 50526.21 | L37: =+SUM(L33:L36) -> 50206.742
D39: Total Pasivo + Patrimonio | F39: $ 000 | G39: =+G30+G37 -> 92000 | H39: =+H30+H37 -> 95473.866 | I39: =+I30+I37 -> 98706.637 | J39: =+J30+J37 -> 96372.349 | K39: =+K30+K37 -> 94596.228 | L39: =+L30+L37 -> 96517.338
D41: Balance Check | F41: $ 000 | G41: =+G20-G39 -> 0 | H41: =+H20-H39 -> 0 | I41: =+I20-I39 -> 0 | J41: =+J20-J39 -> 0 | K41: =+K20-K39 -> 0 | L41: =+L20-L39 -> 0

Sheet PG
C3: ESTADOS FINANCIEROS PROYECTADOS | F3: Unidad | G3: 0 | H3: =+G3+1 -> 1 | I3: =+H3+1 -> 2 | J3: =+I3+1 -> 3 | K3: =+J3+1 -> 4 | L3: =+K3+1 -> 5
C5: ESTADO DE RESULTADOS (P&G)
D6: (+) | E6: Ingresos Operacionales Brutos | F6: $ 000 | G6: 120000 | H6: =+G6*1.14 -> 136800 | I6: =+H6*1.1 -> 150480 | J6: =+I6*1.1 -> 165528 | K6: =+J6*1.09 -> 180425.52 | L6: =+K6*1.09 -> 196663.82
D7: (-) | E7: Devoluciones | F7: $ 000 | G7: =-G6*3% -> -3600 | H7: =-H6*3% -> -4104 | I7: =-I6*3% -> -4514.4 | J7: =-J6*3% -> -4965.84 | K7: =-K6*3% -> -5412.7656 | L7: =-L6*3% -> -5899.9145
D8: Total Ingresos Operacionales Netos | F8: $ 000 | G8: =+SUM(G6:G7) -> 116400 | H8: =+SUM(H6:H7) -> 132696 | I8: =+SUM(I6:I7) -> 145965.6 | J8: =+SUM(J6:J7) -> 160562.16 | K8: =+SUM(K6:K7) -> 175012.75 | L8: =+SUM(L6:L7) -> 190763.9
D9: (-) | E9: Costo de Ventas | F9: $ 000 | G9: -91000 | H9: -99645 | I9: -108722.55 | J9: -118627.48 | K9: -129435.25 | L9: -141084.42
D10: Total Costo de Ventas | F10: $ 000 | G10: =+SUM(G9:G9) -> -91000 | H10: =+SUM(H9:H9) -> -99645 | I10: =+SUM(I9:I9) -> -108722.55 | J10: =+SUM(J9:J9) -> -118627.48 | K10: =+SUM(K9:K9) -> -129435.25 | L10: =+SUM(L9:L9) -> -141084.42
D11: (-) | E11: Gastos de Administración | F11: $ 000 | G11: -10000 | H11: -11090 | I11: -12302.05 | J11: -13650.247 | K11: -15150.373 | L11: -16820.101
D12: (-) | E12: Gastos de Ventas | F12: $ 000 | G12: -11308 | H12: -12625.72 | I12: -14098.035 | J12: -15743.178 | K12: -17581.542 | L12: -19635.937
D13: (-) | E13: Gasto de Depreciación | F13: $ 000 | G13: 0 | H13: =+BG!H12-BG!G12 -> -4000 | I13: =+BG!I12-BG!H12 -> -5000 | J13: =+BG!J12-BG!I12 -> -5540 | K13: =+BG!K12-BG!J12 -> -5540 | L13: =+BG!L12-BG!K12 -> -5540
D14: (-) | E14: Gasto de Amortización | F14: $ 000 | G14: 0 | H14: =+BG!H15-BG!G15 -> -2000 | I14: =+BG!I15-BG!H15 -> -2000 | J14: =+BG!J15-BG!I15 -> -2000 | K14: =+BG!K15-BG!J15 -> -2000 | L14: =+BG!L15-BG!K15 -> -2000
D15: Total Gastos de Operación | F15: $ 000 | G15: =+SUM(G11:G14) -> -21308 | H15: =+SUM(H11:H14) -> -29715.72 | I15: =+SUM(I11:I14) -> -33400.085 | J15: =+SUM(J11:J14) -> -36933.425 | K15: =+SUM(K11:K14) -> -40271.915 | L15: =+SUM(L11:L14) -> -43996.038
D17: Utilidad Operacional | F17: $ 000 | G17: =+G8+G10+G15 -> 4092 | H17: =+H8+H10+H15 -> 3335.28 | I17: =+I8+I10+I15 -> 3842.9652 | J17: =+J8+J10+J15 -> 5001.2528 | K17: =+K8+K10+K15 -> 5305.5903 | L17: =+L8+L10+L15 -> 5683.4431
D19: (+) | E19: Ingresos Financieros | F19: $ 000 | G19: 0 | H19: =+BG!G7*4% -> 320 | I19: =+BG!H7*4% -> 35.754624 | J19: =+BG!I7*4% -> 26.281474 | K19: =+BG!J7*4% -> 29.791899 | L19: =+BG!K7*4% -> 31.062798
D20: (-) | E20: Gastos Financieros | F20: $ 000 | G20: -780 | H20: -1950 | I20: -1300 | J20: -650 | K20: 0 | L20: 0
D21: Total Ingresos / Gastos Financieros | F21: $ 000 | G21: =+SUM(G19:G20) -> -780 | H21: =+SUM(H19:H20) -> -1630 | I21: =+SUM(I19:I20) -> -1264.2454 | J21: =+SUM(J19:J20) -> -623.71853 | K21: =+SUM(K19:K20) -> 29.791899 | L21: =+SUM(L19:L20) -> 31.062798
D23: Utilidad antes de Impuestos | F23: $ 000 | G23: =+G17+G21 -> 3312 | H23: =+H17+H21 -> 1705.28 | I23: =+I17+I21 -> 2578.7198 | J23: =+J17+J21 -> 4377.5343 | K23: =+K17+K21 -> 5335.3822 | L23: =+L17+L21 -> 5714.5059
D25: (-) | E25: Provisión Impuesto de Renta | F25: $ 000 | G25: =-G23*33% -> -1092.96 | H25: =-H23*33% -> -562.7424 | I25: =-I23*33% -> -850.97754 | J25: =-J23*33% -> -1444.5863 | K25: =-K23*33% -> -1760.6761 | L25: =-L23*33% -> -1885.787
D27: Utilidad Neta | F27: $ 000 | G27: =+G23+G25 -> 2219.04 | H27: =+H23+H25 -> 1142.5376 | I27: =+I23+I25 -> 1727.7423 | J27: =+J23+J25 -> 2932.948 | K27: =+K23+K25 -> 3574.7061 | L27: =+L23+L25 -> 3828.719

Sheet EFE Directo
C3: ESTADOS FINANCIEROS PROYECTADOS | F3: Unidad | G3: 0 | H3: =+G3+1 -> 1 | I3: =+H3+1 -> 2 | J3: =+I3+1 -> 3 | K3: =+J3+1 -> 4 | L3: =+K3+1 -> 5
C5: ESTADO DE FLUJO DE EFECTIVO (EFE) - METODO DIRECTO
D6: (+) | E6: Ingresos Operacionales Brutos | F6: $ 000
D7: (-) | E7: Devoluciones | F7: $ 000
D8: (-) | E8: Costo de Ventas | F8: $ 000
D9: (-) | E9: Gastos de Administración | F9: $ 000
D10: (-) | E10: Gastos de Ventas | F10: $ 000
D11: EBITDA | F11: $ 000
D12: (+/-) | E12: D Capital de Trabajo | F12: $ 000
D13: (-) | E13: Impuesto de Renta | F13: $ 000
D14: Flujo de Caja Actividades de Operación | F14: $ 000 | H14: =+SUM(H11:H13) -> 0 | I14: =+SUM(I11:I13) -> 0 | J14: =+SUM(J11:J13) -> 0 | K14: =+SUM(K11:K13) -> 0 | L14: =+SUM(L11:L13) -> 0
D15: (+/-) | E15: Inversión (Desinversión) Activos Fijos | F15: $ 000
D16: (+/-) | E16: Inversión (Desinversión) Activos Diferidos | F16: $ 000
D17: (+/-) | E17: Inversión (Desinversión) Otros Activos | F17: $ 000
D18: Flujo de Caja Actividades de Inversión | F18: $ 000 | H18: =+SUM(H15:H17) -> 0 | I18: =+SUM(I15:I17) -> 0 | J18: =+SUM(J15:J17) -> 0 | K18: =+SUM(K15:K17) -> 0 | L18: =+SUM(L15:L17) -> 0
D19: (+/-) | E19: Deuda Financiera | F19: $ 000
D20: (+) | E20: Ingresos Financieros | F20: $ 000
D21: (-) | E21: Gastos Financieros | F21: $ 000
D22: (+) | E22: Aportes de Capital Socios | F22: $ 000
D23: (-) | E23: Dividendos Pagados Socios | F23: $ 000
D24: Flujo de Caja Actividades Financiamiento | F24: $ 000 | H24: =+SUM(H19:H23) -> 0 | I24: =+SUM(I19:I23) -> 0 | J24: =+SUM(J19:J23) -> 0 | K24: =+SUM(K19:K23) -> 0 | L24: =+SUM(L19:L23) -> 0
D25: Flujo de Caja del Periodo | F25: $ 000 | H25: =+H14+H18+H24 -> 0 | I25: =+I14+I18+I24 -> 0 | J25: =+J14+J18+J24 -> 0 | K25: =+K14+K18+K24 -> 0 | L25: =+L14+L18+L24 -> 0
D26: Saldo Inicial de Efectivo | F26: $ 000 | H26: =+G27 -> 8000 | I26: =+H27 -> 8000 | J26: =+I27 -> 8000 | K26: =+J27 -> 8000 | L26: =+K27 -> 8000
D27: Saldo Final de Efectivo | F27: $ 000 | G27: =+BG!G7 -> 8000 | H27: =+H25+H26 -> 8000 | I27: =+I25+I26 -> 8000 | J27: =+J25+J26 -> 8000 | K27: =+K25+K26 -> 8000 | L27: =+L25+L26 -> 8000
C29: D CAPITAL DE TRABAJO
D30: (+) | E30: Cuentas por Cobrar | F30: $ 000
D31: (+) | E31: Inventarios | F31: $ 000
D32: (-) | E32: Proveedores | F32: $ 000
D33: (-) | E33: Cuentas por Pagar | F33: $ 000
D34: Capital de Trabajo Neto Operativo | F34: $ 000 | G34: =+SUM(G30:G33) -> 0 | H34: =+SUM(H30:H33) -> 0 | I34: =+SUM(I30:I33) -> 0 | J34: =+SUM(J30:J33) -> 0 | K34: =+SUM(K30:K33) -> 0 | L34: =+SUM(L30:L33) -> 0
D35: D Capital de Trabajo | F35: $ 000 | H35: =+G34-H34 -> 0 | I35: =+H34-I34 -> 0 | J35: =+I34-J34 -> 0 | K35: =+J34-K34 -> 0 | L35: =+K34-L34 -> 0
C37: DIVIDENDOS PAGADOS A SOCIOS
D38: (+) | E38: Utilidades Ejercicio Anterior | F38: $ 000
D39: (+) | E39: Utilidades Retenidas Periodo Anterior | F39: $ 000
D40: (-) | E40: Reserva Legal del Periodo | F40: $ 000
D41: (=) | E41: Utilidad Distribuible | F41: $ 000 | H41: =+SUM(H38:H40) -> 0 | I41: =+SUM(I38:I40) -> 0 | J41: =+SUM(J38:J40) -> 0 | K41: =+SUM(K38:K40) -> 0 | L41: =+SUM(L38:L40) -> 0
D42: (+) | E42: Saldo Inicial de caja | F42: $ 000
D43: (+) | E43: Caja del periodo antes de dividendos | F43: $ 000
D44: (=) | E44: Caja para Dividendos | F44: $ 000 | H44: =+H42+H43 -> 0 | I44: =+I42+I43 -> 0 | J44: =+J42+J43 -> 0 | K44: =+K42+K43 -> 0 | L44: =+L42+L43 -> 0
E45: Dividendos PayOut | F45: % | H45: 0.4 | I45: 0.4 | J45: 0.7 | K45: 0.7 | L45: 0.95
...

Sheet EFE Indirecto
C3: ESTADOS FINANCIEROS PROYECTADOS | F3: Unidad | G3: 0 | H3: =+G3+1 -> 1 | I3: =+H3+1 -> 2 | J3: =+I3+1 -> 3 | K3: =+J3+1 -> 4 | L3: =+K3+1 -> 5
C5: ESTADO DE FLUJO DE EFECTIVO (EFE) - METODO INDIRECTO
D6: (+) | E6: Utilidad Neta | F6: $ 000 | H6: =+PG!H27 -> 1142.5376 | I6: =+PG!I27 -> 1727.7423 | J6: =+PG!J27 -> 2932.948 | K6: =+PG!K27 -> 3574.7061 | L6: =+PG!L27 -> 3828.719
D7: (+) | E7: Provisión Impuesto de Renta | F7: $ 000 | H7: =-PG!H25 -> 562.7424 | I7: =-PG!I25 -> 850.97754 | J7: =-PG!J25 -> 1444.5863 | K7: =-PG!K25 -> 1760.6761 | L7: =-PG!L25 -> 1885.787
D8: (+) | E8: Gastos Financieros | F8: $ 000 | H8: =-PG!H20 -> 1950 | I8: =-PG!I20 -> 1300 | J8: =-PG!J20 -> 650 | K8: =-PG!K20 -> 0 | L8: =-PG!L20 -> 0
D9: (-) | E9: Ingresos Financieros | F9: $ 000 | H9: =-PG!H19 -> -320 | I9: =-PG!I19 -> -35.754624 | J9: =-PG!J19 -> -26.281474 | K9: =-PG!K19 -> -29.791899 | L9: =-PG!L19 -> -31.062798
D10: (+) | E10: Depreciación | F10: $ 000 | H10: =-PG!H13 -> 4000 | I10: =-PG!I13 -> 5000 | J10: =-PG!J13 -> 5540 | K10: =-PG!K13 -> 5540 | L10: =-PG!L13 -> 5540
D11: (+) | E11: Amortización | F11: $ 000 | H11: =-PG!H14 -> 2000 | I11: =-PG!I14 -> 2000 | J11: =-PG!J14 -> 2000 | K11: =-PG!K14 -> 2000 | L11: =-PG!L14 -> 2000
D12: EBITDA | F12: $ 000 | H12: =+SUM(H6:H11) -> 9335.28 | I12: =+SUM(I6:I11) -> 10842.965 | J12: =+SUM(J6:J11) -> 12541.253 | K12: =+SUM(K6:K11) -> 12845.59 | L12: =+SUM(L6:L11) -> 13223.443
D13: (+/-) | E13: D Capital de Trabajo | F13: $ 000 | H13: =+H36 -> -2339.6 | I13: =+I36 -> -2742.18 | J13: =+J36 -> -3199.161 | K13: =+K36 -> -3717.3757 | L13: =+L36 -> -4304.4919
D14: (-) | E14: Impuesto de Renta | F14: $ 000 | H14: =-BG!G25 -> -1092.96 | I14: =-BG!H25 -> -562.7424 | J14: =-BG!I25 -> -850.97754 | K14: =-BG!J25 -> -1444.5863 | L14: =-BG!K25 -> -1760.6761
D15: Flujo de Caja Actividades de Operación | F15: $ 000 | H15: =+SUM(H12:H14) -> 5902.72 | I15: =+SUM(I12:I14) -> 7538.0428 | J15: =+SUM(J12:J14) -> 8491.1143 | K15: =+SUM(K12:K14) -> 7683.6283 | L15: =+SUM(L12:L14) -> 7158.2751
D16: (+/-) | E16: Inversión (Desinversión) Activos Fijos (-año 1+ año 0) | F16: $ 000 | H16: =-BG!H11+BG!G11 -> -10000 | I16: =-BG!I11+BG!H11 -> -5400 | J16: =-BG!J11+BG!I11 -> 0 | K16: =-BG!K11+BG!J11 -> 0 | L16: =-BG!L11+BG!K11 -> 0
D17: (+/-) | E17: Inversión (Desinversión) Activos Intangibles | F17: $ 000 | H17: =-BG!H14+BG!G14 -> 0 | I17: =-BG!I14+BG!H14 -> 0 | J17: =-BG!J14+BG!I14 -> 0 | K17: =-BG!K14+BG!J14 -> 0 | L17: =-BG!L14+BG!K14 -> 0
D18: (+/-) | E18: Inversión (Desinversión) Otros Activos | F18: $ 000 | H18: =-BG!H17+BG!G17 -> -2500 | I18: =-BG!I17+BG!H17 -> -500 | J18: =-BG!J17+BG!I17 -> 0 | K18: =-BG!K17+BG!J17 -> 0 | L18: =-BG!L17+BG!K17 -> 0
D19: Flujo de Caja Actividades de Inversión | F19: $ 000 | H19: =+SUM(H16:H18) -> -12500 | I19: =+SUM(I16:I18) -> -5900 | J19: =+SUM(J16:J18) -> 0 | K19: =+SUM(K16:K18) -> 0 | L19: =+SUM(L16:L18) -> 0
D20: (+/-) | E20: Deuda Financiera (Año 1 - año 0) | F20: $ 000 | H20: =+BG!H27-BG!G27 -> 1120 | I20: =+BG!I27-BG!H27 -> 1000 | J20: =+BG!J27-BG!I27 -> -5000 | K20: =+BG!K27-BG!J27 -> -5000 | L20: =+BG!L27-BG!K27 -> 0
D21: (+) | E21: Ingresos Financieros (Con fórmula de % caja) | F21: $ 000 | H21: =+PG!H19 -> 320 | I21: =+PG!I19 -> 35.754624 | J21: =+PG!J19 -> 26.281474 | K21: =+PG!K19 -> 29.791899 | L21: =+PG!L19 -> 31.062798
D22: (-) | E22: Gastos Financieros (traído del ER) | F22: $ 000 | H22: =+PG!H20 -> -1950 | I22: =+PG!I20 -> -1300 | J22: =+PG!J20 -> -650 | K22: =+PG!K20 -> 0 | L22: =+PG!L20 -> 0
D23: (+) | E23: Aportes de Capital Socios (año 1 - año 0) | F23: $ 000 | H23: =+BG!H33-BG!G33 -> 2000 | I23: =+BG!I33-BG!H33 -> 0 | J23: =+BG!J33-BG!I33 -> 0 | K23: =+BG!K33-BG!J33 -> 0 | L23: =+BG!L33-BG!K33 -> 0
D24: (-) | E24: Dividendos Pagados Socios (-) h47 | F24: $ 000 | H24: =-H47 -> -1998.8544 | I24: =-I47 -> -1610.6262 | J24: =-J47 -> -2779.6351 | K24: =-K47 -> -2681.6478 | L24: =-L47 -> -4148.1874
D25: Flujo de Caja Actividades Financiamiento | F25: $ 000 | H25: =+SUM(H20:H24) -> -508.8544 | I25: =+SUM(I20:I24) -> -1874.8716 | J25: =+SUM(J20:J24) -> -8403.3536 | K25: =+SUM(K20:K24) -> -7651.8559 | L25: =+SUM(L20:L24) -> -4117.1246
D26: Flujo de Caja del Periodo | F26: $ 000 | H26: =+H15+H19+H25 -> -7106.1344 | I26: =+I15+I19+I25 -> -236.82875 | J26: =+J15+J19+J25 -> 87.760627 | K26: =+K15+K19+K25 -> 31.772467 | L26: =+L15+L19+L25 -> 3041.1504
D27: Saldo Inicial de Efectivo | F27: $ 000 | H27: =+G28 -> 8000 | I27: =+H28 -> 893.8656 | J27: =+I28 -> 657.03685 | K27: =+J28 -> 744.79748 | L27: =+K28 -> 776.56994
D28: Saldo Final de Efectivo | F28: $ 000 | G28: =+BG!G7 -> 8000 | H28: =+H26+H27 -> 893.8656 | I28: =+I26+I27 -> 657.03685 | J28: =+J26+J27 -> 744.79748 | K28: =+K26+K27 -> 776.56994 | L28: =+L26+L27 -> 3817.7204
C30: D CAPITAL DE TRABAJO
D31: (+) | E31: Cuentas por Cobrar | F31: $ 000 | G31: =+BG!G8 -> 25000 | H31: =+BG!H8 -> 28000 | I31: =+BG!I8 -> 31360 | J31: =+BG!J8 -> 35123.2 | K31: =+BG!K8 -> 39337.984 | L31: =+BG!L8 -> 44058.542
D32: (+) | E32: Inventarios | F32: $ 000 | G32: =+BG!G9 -> 9000 | H32: =+BG!H9 -> 10080 | I32: =+BG!I9 -> 11289.6 | J32: =+BG!J9 -> 12644.352 | K32: =+BG!K9 -> 14161.674 | L32: =+BG!L9 -> 15861.075
D33: (-) | E33: Proveedores | F33: $ 000 | G33: =-BG!G23 -> -25308 | H33: =-BG!H23 -> -26573.4 | I33: =-BG!I23 -> -27902.07 | J33: =-BG!J23 -> -29297.174 | K33: =-BG!K23 -> -30762.032 | L33: =-BG!L23 -> -32300.134
D34: (-) | E34: Cuentas por Pagar | F34: $ 000 | G34: =-BG!G24 -> -9500 | H34: =-BG!H24 -> -9975 | I34: =-BG!I24 -> -10473.75 | J34: =-BG!J24 -> -10997.438 | K34: =-BG!K24 -> -11547.309 | L34: =-BG!L24 -> -12124.675
D35: Capital de Trabajo | F35: $ 000 | G35: =+SUM(G31:G34) -> -808 | H35: =+SUM(H31:H34) -> 1531.6 | I35: =+SUM(I31:I34) -> 4273.78 | J35: =+SUM(J31:J34) -> 7472.941 | K35: =+SUM(K31:K34) -> 11190.317 | L35: =+SUM(L31:L34) -> 15494.809
D36: D Capital de Trabajo | F36: $ 000 | H36: =+G35-H35 -> -2339.6 | I36: =+H35-I35 -> -2742.18 | J36: =+I35-J35 -> -3199.161 | K36: =+J35-K35 -> -3717.3757 | L36: =+K35-L35 -> -4304.4919
C38: DIVIDENDOS PAGADOS A SOCIOS
D39: (+) | E39: Utilidades Ejercicio Anterior | F39: $ 000 | H39: =+BG!G35 -> 2219.04 | I39: =+BG!H35 -> 1142.5376 | J39: =+BG!I35 -> 1727.7423 | K39: =+BG!J35 -> 2932.948 | L39: =+BG!K35 -> 3574.7061
D40: (+) | E40: Utilidades Retenidas Periodo Anterior | F40: $ 000 | H40: =+BG!G36 -> 3000 | I40: =+BG!H36 -> 2998.2816 | J40: =+BG!I36 -> 2415.9393 | K40: =+BG!J36 -> 1191.2722 | L40: =+BG!K36 -> 1149.2776
D41: (-) | E41: Reserva Legal del Periodo (-año 1 + año 0) | F41: $ 000 | H41: =-BG!H34+BG!G34 -> -221.904 | I41: =-BG!I34+BG!H34 -> -114.25376 | J41: =-BG!J34+BG!I34 -> -172.77423 | K41: =-BG!K34+BG!J34 -> -293.2948 | L41: =-BG!L34+BG!K34 -> -357.47061
D42: (=) | E42: Utilidad Distribuible | F42: $ 000 | H42: =+SUM(H39:H41) -> 4997.136 | I42: =+SUM(I39:I41) -> 4026.5654 | J42: =+SUM(J39:J41) -> 3970.9073 | K42: =+SUM(K39:K41) -> 3830.9254 | L42: =+SUM(L39:L41) -> 4366.5131
D43: (+) | E43: Saldo Inicial de caja | F43: $ 000 | H43: =+G28 -> 8000 | I43: =+H28 -> 893.8656 | J43: =+I28 -> 657.03685 | K43: =+J28 -> 744.79748 | L43: =+K28 -> 776.56994
D44: (+) | E44: Caja del periodo antes de dividendos | F44: $ 000 | H44: =+H15+H19+H20+H21+H22+H23 -> -5107.28 | I44: =+I15+I19+I20+I21+I22+I23 -> 1373.7974 | J44: =+J15+J19+J20+J21+J22+J23 -> 2867.3957 | K44: =+K15+K19+K20+K21+K22+K23 -> 2713.4202 | L44: =+L15+L19+L20+L21+L22+L23 -> 7189.3379
D45: (=) | E45: Caja para Dividendos | F45: $ 000 | H45: =+H43+H44 -> 2892.72 | I45: =+I43+I44 -> 2267.663 | J45: =+J43+J44 -> 3524.4326 | K45: =+K43+K44 -> 3458.2177 | L45: =+L43+L44 -> 7965.9078
...
