Workbook
Name acciones: '[1]Simulacion Precio accion'!$B$12:$C$1527
Name B: '[2]Precio de Cierre'!#REF!
Name BaseYear: #REF!
Name ch5data: #REF!
Name ch5data1: #REF!
Name cov: '[3]portaf eficiente'!#REF!
Name DiscountRate: #REF!
Name Erosion: #REF!
Name g: '[4]Valoración(10yr)'!$B$6
Name GrowthRate: #REF!
Name Interés: #REF!
Name Interés1: #REF!
Name isr: #REF!
Name ModelType: #REF!
Name PrivateRate: #REF!
Name PVInvestments: #REF!
Name StartYear: #REF!
Name TaxRate: #REF!
Name Terminal: #REF!
Name Type: #REF!
Name xxx: #REF!

Sheet ESF
B1: 43100 | C1: 43465 | D1: 43830 | E1: 44196 | F1: ¿Cómo se proyecta?
A3: TOTAL ACTIVO | B3: =+B9+B14 -> 2.7283495e+08 | C3: =+C9+C14 -> 3.5649241e+08 | D3: =+D9+D14 -> 6.5286502e+08 | E3: =+E9+E14 -> 7.3345479e+08
A5: Efectivo y equivalentes al efectivo | B5: 6338263.7 | C5: 333775.21 | D5: 351331 | E5: 19682807 | F5: Viene del flujo de efectivo
A6: Cuenta por Cobrar Clientes | B6: 213488240 | C6: 298046128 | D6: 459205584 | E6: 521355798 | F6: Promedio periodos de cobro x Ingresos/365
A7: Otras cuentas por cobrar | B7: 10610538 | C7: 20374325 | D7: 3343712 | E7: 6518412 | F7: promedio Vr. Ocxc*Ingresos/365
A8: Anticipos de impuestos | B8: 0 | C8: 0 | D8: 21017494 | E8: 38344195 | F8: Cálculo de impuestos con la tarifa
A9: TOTAL ACTIVO CORRIENTE | B9: =SUM(B5:B8) -> 2.3043704e+08 | C9: =SUM(C5:C8) -> 3.1875423e+08 | D9: =SUM(D5:D8) -> 4.8391812e+08 | E9: =SUM(E5:E8) -> 5.8590121e+08
A11: Propiedad, planta y equipo | B11: 76052028 | C11: 84509326 | D11: 2.3749892e+08 | E11: 2.3852965e+08 | F11: Se construye una tabla de PPYE
A12: Depreciación | B12: -34804117 | C12: -47710304 | D12: -68552026 | E12: -90976072 | F12: Se construye una tabla de PPYE
A13: Otros activos no financieros | B13: 1150000.2 | C13: 939163.15 | D13: 0 | E13: 0 | F13: De acuerdo a la tendencia
A14: TOTAL ACTIVO NO CORRIENTE | B14: =SUM(B11:B13) -> 42397911 | C14: =SUM(C11:C13) -> 37738185 | D14: =SUM(D11:D13) -> 1.689469e+08 | E14: =SUM(E11:E13) -> 1.4755358e+08
A16: TOTAL PASIVO | B16: =+B23+B26 -> 96386138 | C16: =+C23+C26 -> 147339047 | D16: =+D23+D26 -> 256539084 | E16: =+E23+E26 -> 303235642
A18: Obligaciones Financieras | C18: 4817713 | D18: 6880527 | E18: 1821986 | F18: Analizar los préstamos
A19: Costos y Gastos por Pagar | B19: 94937122 | C19: 135729179 | D19: 204295896 | E19: 133670253 | F19: promedio de días por pagar
A20: Impuestos, Gravamenes Y Tasas | B20: 0 | C20: 0 | D20: 0 | E20: 34641504 | F20: cálculo con la tasa real
A21: Obligaciones Laborales | B21: 1422016 | C21: 4067276 | D21: 15446506 | E21: 120714276 | F21: Puede crecer por porcentaje con base a la inflación
A22: Otros pasivos no financieros | B22: 27000 | C22: 2724879 | D22: 6394043 | E22: 5099679 | F22: Puede crecer por porcentaje con base a la inflación
A23: TOTAL PASIVO CORRIENTE | B23: =SUM(B18:B22) -> 96386138 | C23: =SUM(C18:C22) -> 147339047 | D23: =SUM(D18:D22) -> 233016972 | E23: =SUM(E18:E22) -> 295947698
A25: Obligaciones financieras | B25: 0 | C25: 0 | D25: 23522112 | E25: 7287944 | F25: De acuerdo a los préstamos que la empresa espera recibir
A26: TOTAL PASIVO NO CORRIENTE | B26: =+B25 -> 0 | C26: =+C25 -> 0 | D26: =+D25 -> 23522112 | E26: =+E25 -> 7287944
A28: Capital Social | B28: 47435504 | C28: 47435504 | D28: 189742046 | E28: 189742046
A29: Resultado del Ejercicio | B29: =+ER!B23 -> 53213877 | C29: =+ER!C23 -> 49702143 | D29: =+ER!D23 -> 44866025 | E29: =+ER!E23 -> 54058530
A30: Perdida del Ejercicio | B30: 0 | C30: 0 | D30: 0 | E30: 0
A31: Utilidad Acumulada | B31: 92019368 | C31: 129314381 | D31: 1.7901652e+08 | E31: 2.040968e+08
A32: Perdida Acumulada | B32: -16219934 | C32: -16219934 | D32: -16219934 | E32: -16219934
A33: Ajustes por conversión | B33: 0 | C33: -1078727 | D33: -1078727 | E33: -1458289
A35: TOTAL PATRIMONIO | B35: =SUM(B28:B34) -> 1.7644881e+08 | C35: =SUM(C28:C34) -> 2.0915337e+08 | D35: =SUM(D28:D34) -> 3.9632593e+08 | E35: =SUM(E28:E34) -> 4.3021915e+08
A36: Prueba | B36: =+B35+B16-B3 -> 0 | C36: =+C35+C16-C3 -> 0 | D36: =+D35+D16-D3 -> -0.49000001 | E36: =+E35+E16-E3 -> 0.19999993

Sheet ER
B1: 43100 | C1: 43465 | D1: 43830 | E1: 44196 | F1: ¿Cómo se proyecta?
A2: VENTAS
A3: OPERACIONALES
A4: Unidad funcional de consulta de externa | B4: =-'[5]Estado de Resultados'!$D$18 -> 83966240 | C4: 114022240 | D4: =+'[6]PYG ACUMULADO'!$O$7 -> 268438760 | E4: =-[7]CG7345_PyG_NIIF!$E$4 -> 416020025
A5: Unidad funcional de apoyo diagnostico | B5: =-'[5]Estado de Resultados'!$D$27 -> 6575000 | C5: 6550000 | D5: =+'[6]PYG ACUMULADO'!$O$8 -> 5270000 | E5: =-[7]CG7345_PyG_NIIF!$E$18 -> 2775000
A6: Unidad funcional de apoyo terapeutico | B6: =-'[5]Estado de Resultados'!$D$34 -> 312629172 | C6: 353345984 | D6: =+'[6]PYG ACUMULADO'!$O$9 -> 336521452 | E6: =-[7]CG7345_PyG_NIIF!$E$26 -> 324485886
A7: Devolucion en ventas | B7: 0 | C7: -8555304 | D7: =+'[6]PYG ACUMULADO'!$O$10 -> -6099000 | E7: =-[7]CG7345_PyG_NIIF!$E$31 -> -260270
A8: TOTAL VENTAS | B8: =SUM(B4:B7) -> 403170412 | C8: =SUM(C4:C7) -> 465362920 | D8: =SUM(D4:D7) -> 604131212 | E8: =SUM(E4:E7) -> 743020641 | F8: Con base a una tendencia
A9: COSTO VENTAS
A10: Costo de Ventas | B10: 142440574 | C10: 1.685597e+08 | D10: =+'[6]PYG ACUMULADO'!$O$15 -> 196689911 | E10: =+[7]CG7345_PyG_NIIF!$E$249 -> 245954429
A11: TOTAL COSTO DE VENTAS | B11: =SUM(B10) -> 142440574 | C11: =SUM(C10) -> 1.685597e+08 | D11: =SUM(D10) -> 196689911 | E11: =SUM(E10) -> 245954429
B12: =+B11/B8 -> 0.35330116 | C12: =+C11/C8 -> 0.36221129 | D12: =+D11/D8 -> 0.32557482 | E12: =+E11/E8 -> 0.33101965 | F12: Promedio de costos de ventas
A13: UTILIDAD BRUTA | B13: =+B8-B11 -> 260729838 | C13: =+C8-C11 -> 2.9680322e+08 | D13: =+D8-D11 -> 407441301 | E13: =+E8-E11 -> 497066212
A14: Gastos de administración | B14: =+'[5]Estado de Resultados'!$D$311-'[5]Estado de Resultados'!$D$412-'[5]Estado de Resultados'!$D$291 -> 181362271 | C14: =+'[8]Estado de Resultados'!$D$39-'[8]Estado de Resultados'!$D$35 -> 2.2391317e+08 | D14: =+'[6]PYG ACUMULADO'!$O$127-'[6]PYG ACUMULADO'!$O$100 -> 3.2206371e+08 | E14: =+'[9]PYG COMPARATIVO 2017-Dic 18'!$F$133-'[9]PYG COMPARATIVO 2017-Dic 18'!$F$105 -> 359643288 | F14: promedio Participación de gastos /ventas
A15: Gastos de ventas | B15: =+'[5]Estado de Resultados'!$D$319 -> 1022500 | C15: =+'[8]Estado de Resultados'!$D$43 -> 807000 | D15: 0 | E15: =+'[9]PYG COMPARATIVO 2017-Dic 18'!$F$139 -> 0 | F15: promedio Participación de gastos /ventas
A16: Gastos de depreciación | B16: =+'[5]Estado de Resultados'!$D$291 -> 8745807 | C16: =+'[8]Estado de Resultados'!$D$35 -> 12490939 | D16: =+'[6]PYG ACUMULADO'!$O$100 -> 20841722 | E16: =+'[9]PYG COMPARATIVO 2017-Dic 18'!$F$105 -> 26293921 | F16: Con base en la proyección de PPYE
A17: UTILIDAD OPERACIONAL | B17: =+B13-B14-B15-B16 -> 69599260 | C17: =+C13-C14-C15-C16 -> 59592105 | D17: =+D13-D14-D15-D16 -> 64535872 | E17: =+E13-E14-E15-E16 -> 111129003
A18: Otros ingresos | B18: =-'[5]Estado de Resultados'!$D$56 -> 5074280.4 | C18: =+'[8]Estado de Resultados'!$D$21 -> 2007558 | D18: =+'[6]PYG ACUMULADO'!$O$246 -> 7328790.2 | E18: =+'[9]PYG COMPARATIVO 2017-Dic 18'!$F$249 -> 1337838.9 | F18: Prom participación ingresos/ ventas
A19: Otros gastos | B19: =+'[5]Estado de Resultados'!$D$359-'[5]Estado de Resultados'!$D$336 -> 1357740 | C19: =+'[8]Estado de Resultados'!$D$49-'[8]Estado de Resultados'!$D$46 -> 7694956 | D19: =+'[6]PYG ACUMULADO'!$O$276-'[6]PYG ACUMULADO'!$O$264-'[6]PYG ACUMULADO'!$O$257 -> 66160 | E19: =+'[9]PYG COMPARATIVO 2017-Dic 18'!$F$279-'[9]PYG COMPARATIVO 2017-Dic 18'!$F$260 -> 11472987 | F19: Prom participación otros gastos / ventas
A20: Gastos financieros | B20: =+'[5]Estado de Resultados'!$D$336 -> 4007923 | C20: =+'[8]Estado de Resultados'!$D$46 -> 4202564 | D20: =+'[6]PYG ACUMULADO'!$O$257 -> 14200435 | E20: =+'[9]PYG COMPARATIVO 2017-Dic 18'!$F$260 -> 12293821 | F20: Promedio participación más los posibles nuevos créditos
A21: UTILIDAD ANTES DE IMPUESTOS | B21: =+B17+B18-B19-B20 -> 69307877 | C21: =+C17+C18-C19-C20 -> 49702143 | D21: =+D17+D18-D19-D20 -> 57598067 | E21: =+E17+E18-E19-E20 -> 88700034
A22: Impuesto de renta | B22: =+'[5]Estado de Resultados'!$D$367+'[5]Estado de Resultados'!$D$375 -> 16094000 | C22: 0 | D22: =+'[6]PYG ACUMULADO'!$O$264 -> 12732042 | E22: =+'[9]PYG COMPARATIVO 2017-Dic 18'!$F$282 -> 34641504 | F22: Tasas aprobadas
A23: UTILIDAD DESPUES DE IMPUESTOS | B23: =+B21-B22 -> 53213877 | C23: =+C21-C22 -> 49702143 | D23: =+D21-D22 -> 44866025 | E23: =+E21-E22 -> 54058530

Sheet Indicadores
A1: Indicadores | C1: 43100 | D1: 43465 | E1: 43830 | F1: 44196 | G1: Promedio
A3: De liquidez
A5: Razón Corriente | B5: (Activo Corriente / Pasivo Corriente)L2 | C5: =+ESF!B9/ESF!B23 -> 2.3907695 | D5: =+ESF!C9/ESF!C23 -> 2.1634063 | E5: =+ESF!D9/ESF!D23 -> 2.0767505 | F5: =+ESF!E9/ESF!E23 -> 1.9797458
A6: Prueba Ácida | B6: (Activo Corriente - Inventario) / Pasivo CorrienteL3 | C6: =+C5 -> 2.3907695 | D6: =+D5 -> 2.1634063 | E6: =+E5 -> 2.0767505 | F6: =+F5 -> 1.9797458
A10: Rotación de cartera | B10: (Ventas a Crédito / Promedio Cuentas por Cobrar)L4 | C10: =+ER!B8/ESF!B6 -> 1.88849 | D10: =+ER!C8/ESF!C6 -> 1.5613788 | E10: =+ER!D8/ESF!D6 -> 1.3156008 | F10: =+ER!E8/ESF!E6 -> 1.42517
A11: Periodos de cobro | B11: (360 / L4. Rotación de Cuentas por Cobrar)L8 | C11: =366/C10 -> 193.80563 | D11: =365/D10 -> 233.76774 | E11: =365/E10 -> 277.43979 | F11: =365/F10 -> 256.1098 | G11: =AVERAGE(C11:F11) -> 240.28074
A12: Rotación de activos En veces | B12: (Ventas Netas / Activo Total)L5 | C12: =+ER!B8/ESF!B3 -> 1.4777081 | D12: =+ER!C8/ESF!C3 -> 1.3053936 | E12: =+ER!D8/ESF!D3 -> 0.92535393 | F12: =+ER!E8/ESF!E3 -> 1.0130422
A14: Año
A16: Margen bruto | C16: =+ER!B13 -> 260729838 | D16: =+ER!C13 -> 2.9680322e+08 | E16: =+ER!D13 -> 407441301 | F16: =+ER!E13 -> 497066212
A17: Ventas netas | C17: =+ER!B8 -> 403170412 | D17: =+ER!C8 -> 465362920 | E17: =+ER!D8 -> 604131212 | F17: =+ER!E8 -> 743020641
A19: Margen bruto de utilidad | B19: Margen bruto/ventas netas | C19: =+C16/C17 -> 0.64669884 | D19: =+D16/D17 -> 0.63778871 | E19: =+E16/E17 -> 0.67442518 | F19: =+F16/F17 -> 0.66898035
A20: Rentabilidad sobre ventas | B20: (utilidad neta / ventas) | C20: =+ER!B23/ER!B8 -> 0.13198855 | D20: =+ER!C23/ER!C8 -> 0.10680297 | E20: =+ER!D23/ER!D8 -> 0.074265366 | F20: =+ER!E23/ER!E8 -> 0.072755085
A21: Rentabilidad sobre activos | B21: (Utilidad Neta / Activo Total)R4 | C21: =+ER!B23/ESF!B3 -> 0.19504054 | D21: =+ER!C23/ESF!C3 -> 0.13941992 | E21: =+ER!D23/ESF!D3 -> 0.068721748 | F21: =+ER!E23/ESF!E3 -> 0.07370397
A22: Rentabilidad sobre el patrimonio | B22: (Utilidad Neta / Patrimonio)R6 | C22: =+ER!B23/ESF!B35 -> 0.30158251 | D22: =+ER!C23/ESF!C35 -> 0.23763492 | E22: =+ER!D23/ESF!D35 -> 0.11320487 | F22: =+ER!E23/ESF!E35 -> 0.12565347
A23: Utilidad por acción | B23: (Dividendos Cancelados / Número de Acciones en Circulación) R9
A25: Año
A27: Endeudamiento | B27: (Pasivo Total / Activo Total)E | C27: =+ESF!B16/ESF!B3 -> 0.35327636 | D27: =+ESF!C16/ESF!C3 -> 0.41330205 | E27: =+ESF!D16/ESF!D3 -> 0.39294353 | F27: =+ESF!E16/ESF!E3 -> 0.41343467
A28: Apalancamiento | B28: (Pasivo Total / Patrimonio)E3 | C28: =+ESF!B16/ESF!B35 -> 0.54625551 | D28: =+ESF!C16/ESF!C35 -> 0.70445458 | E28: =+ESF!D16/ESF!D35 -> 0.6472932 | F28: =+ESF!E16/ESF!E35 -> 0.70483994
A32: Indice de crecimiento en ventas

Sheet V1-Proyecciones de ventas
B2: Proyección de ventas
B3: Unidad funcional de consulta de externa
J4: Crecimiento
B5: Historico | F5: Proyectado | H5: Tendencia | I5: Crecimiento | J5: lineal
B6: Fechas | C6: Ventas | F6: Fechas | G6: Ventas
B7: 43100 | C7: =+[10]ER!C4 -> 83966240 | F7: =+B10 -> 44196 | G7: =+C10 -> 416020025 | H7: {=TREND(C7:C10,B7:B10,F7:F12)} -> 3.9331166e+08 | J7: =+G7 -> 416020025
B8: 43465 | C8: =+[10]ER!D4 -> 114022240 | D8: =+LN(C8/C7) -> 0.3059787 | F8: 44561 | H8: 5.0828739e+08 | I8: =+H8/H7 -> 1.2923273 | J8: =+J7*I8 -> 5.3763403e+08
B9: 43830 | C9: =+[10]ER!E4 -> 268438760 | D9: =+LN(C9/C8) -> 0.85622929 | F9: 44926 | H9: 6.2326312e+08 | I9: =+H9/H8 -> 1.2262022 | J9: =+J8*I9 -> 6.5924803e+08
B10: 44196 | C10: =+[10]ER!F4 -> 416020025 | D10: =+LN(C10/C9) -> 0.43811059 | F10: 45291 | H10: 7.3823885e+08 | I10: =+H10/H9 -> 1.1844738 | J10: =+J9*I10 -> 7.8086204e+08
F11: 45657 | H11: 8.5352958e+08 | I11: =+H11/H10 -> 1.15617 | J11: =+J10*I11 -> 9.0280923e+08
B12: m | C12: Crecimiento | D12: =+AVERAGE(D8:D10) -> 0.53343953 | F12: 46022 | H12: 9.6850531e+08 | I12: =+H12/H11 -> 1.1347062 | J12: =+J11*I12 -> 1.0244232e+09
B13: s | C13: Volatilidad | D13: =+_xlfn.STDEV.S(D8:D10) -> 0.2872449
B15: Unidad de apoyo diagnóstico
J16: Crecimiento
B17: Historico | F17: Proyectado | H17: Tendencia | I17: Crecimiento | J17: lineal
B18: Fechas | C18: Ventas | F18: Fechas | G18: Ventas
B19: =+B7 -> 43100 | C19: =+[10]ER!C5 -> 6575000 | F19: =+B22 -> 44196 | G19: =+C22 -> 2775000 | H19: {=TREND(C19:C22,B19:B22,F19:F24)} -> 3388953.8 | J19: =+G19 -> 2775000
B20: =+B8 -> 43465 | C20: =+[10]ER!D5 -> 6550000 | D20: =+LN(C20/C19) -> -0.0038095284 | F20: 44561 | H20: 2121659 | I20: 0.5 | J20: =+J19*I20 -> 1387500
B21: =+B9 -> 43830 | C21: =+[10]ER!E5 -> 5270000 | D21: =+LN(C21/C20) -> -0.21743469 | F21: 44926 | H21: 854364.17 | I21: 0.5 | J21: =+J20*I21 -> 693750
B22: =+B10 -> 44196 | C22: =+[10]ER!F5 -> 2775000 | D22: =+LN(C22/C21) -> -0.64137962 | F22: 45291 | H22: -412930.63 | I22: 0.5 | J22: =+J21*I22 -> 346875
F23: 45657 | H23: -1683697.5 | I23: 0.5 | J23: =+J22*I23 -> 173437.5
B24: m | C24: Crecimiento | D24: =+AVERAGE(D20:D22) -> -0.28754128 | F24: 46022 | H24: -2950992.3 | I24: 0.5 | J24: =+J23*I24 -> 86718.75
B25: s | C25: Volatilidad | D25: =+_xlfn.STDEV.S(D20:D22) -> 0.32451518
B27: Unidad funcional de apoyo terapeutico | F27: Si fuese lineal- pero de esta manera no se va a proyectar
J28: Crecimiento
B29: Historico | F29: Proyectado | H29: Tendencia | I29: Crecimiento | J29: lineal
B30: Fechas | C30: Ventas | F30: Fechas | G30: Ventas
B31: =+B19 -> 43100 | C31: =+[10]ER!C6 -> 312629172 | F31: =+B34 -> 44196 | G31: =+C34 -> 324485886 | H31: {=TREND(C31:C34,B31:B34,F31:F36)} -> 3.3455073e+08 | J31: =+G31 -> 324485886
B32: =+B20 -> 43465 | C32: =+[10]ER!D6 -> 353345984 | D32: =+LN(C32/C31) -> 0.12242997 | F32: 44561 | H32: 3.3641824e+08 | I32: =+H32/H31 -> 1.0055821 | J32: =+J31*I32 -> 3.2629721e+08
B33: =+B21 -> 43830 | C33: =+[10]ER!E6 -> 336521452 | D33: =+LN(C33/C32) -> -0.048785804 | F33: 44926 | H33: 3.3828575e+08 | I33: =+H33/H32 -> 1.0055512 | J33: =+J32*I33 -> 3.2810854e+08
B34: =+B22 -> 44196 | C34: =+[10]ER!F6 -> 324485886 | D34: =+LN(C34/C33) -> -0.036419857 | F34: 45291 | H34: 3.4015326e+08 | I34: =+H34/H33 -> 1.0055205 | J34: =+J33*I34 -> 3.2991987e+08
F35: 45657 | H35: 3.4202589e+08 | I35: =+H35/H34 -> 1.0055052 | J35: =+J34*I35 -> 3.3173616e+08
B36: m | C36: Crecimiento | D36: =+AVERAGE(D32:D34) -> 0.012408102 | F36: 46022 | H36: 3.438934e+08 | I36: =+H36/H35 -> 1.0054601 | J36: =+J35*I36 -> 3.3354749e+08
B37: s | C37: Volatilidad | D37: =+_xlfn.STDEV.S(D32:D34) -> 0.095482131
F38: La proyección real dada por gerencia es del 30% anual debio a la compra
F39: de nuevos equipos y ampliación en la nueva sede
J40: Crecimiento
F41: Proyectado | H41: Tendencia | I41: Crecimiento | J41: lineal
F42: Fechas | G42: Ventas
F43: =+F31 -> 44196 | G43: =+G31 -> 324485886 | H43: {=TREND(C31:C34,B31:B34,F31:F36)} -> 3.3455073e+08 | J43: =+G43 -> 324485886
...

Sheet ESF proyectado
M5: HISTORICOS
C6: 43100 | D6: 43465 | E6: 43830 | F6: 44196 | G6: PROYECTADO DICIEMBRE 2021 | H6: PROYECTADO DICIEMBRE 2022 | I6: PROYECTADO DICIEMBRE 2023 | J6: PROYECTADO DICIEMBRE 2024 | K6: PROYECTADO DICIEMBRE 2025 | M6: 2017 | N6: 2018 | O6: 2019 | P6: 2020
B8: ACTIVO BRUTO | C8: =+C14+C19 -> 2.7283495e+08 | D8: =+D14+D19 -> 3.5649241e+08 | E8: =+E14+E19 -> 6.5286502e+08 | F8: =+F14+F19 -> 7.3345479e+08 | G8: =+G14+G19 -> 9.3343216e+08 | H8: =+H14+H19 -> 1.0248692e+09 | I8: =+I14+I19 -> 1.1252515e+09 | J8: =+J14+J19 -> 1.2592823e+09 | K8: =+K14+K19 -> 1.4102055e+09
B10: Efectivo y equivalentes al efectivo | C10: 6338263.7 | D10: 333775.21 | E10: 351331 | F10: 19682807 | G10: =+'EFE Indirecto'!H26 -> 30448809 | H10: =+'EFE Indirecto'!I26 -> 12193528 | I10: =+'EFE Indirecto'!J26 -> 14520834 | J10: =+'EFE Indirecto'!K26 -> 47468995 | K10: =+'EFE Indirecto'!L26 -> 94459538
B11: Cuenta por Cobrar Clientes | C11: 213488240 | D11: 298046128 | E11: 459205584 | F11: 521355798 | G11: =+'ERI proyectado'!H8*'ESF proyectado'!$L$11/365 -> 6.3218442e+08 | H11: =+'ERI proyectado'!I8*'ESF proyectado'!$L$11/365 -> 7.5337381e+08 | I11: =+'ERI proyectado'!J8*'ESF proyectado'!$L$11/365 -> 8.6507752e+08 | J11: =+'ERI proyectado'!K8*'ESF proyectado'!$L$11/365 -> 9.8030627e+08 | K11: =+'ERI proyectado'!L8*'ESF proyectado'!$L$11/365 -> 1.0988837e+09 | L11: =AVERAGE([11]Indicadores!$C$18:$F$18) -> 240.14836
B12: Otras cuentas por cobrar | C12: 10610538 | D12: 20374325 | E12: 3343712 | F12: 6518412 | G12: =+'ERI proyectado'!H8*'ESF proyectado'!$L$12/365 -> 6873751.1 | H12: =+'ERI proyectado'!I8*'ESF proyectado'!$L$12/365 -> 8191445.2 | I12: =+'ERI proyectado'!J8*'ESF proyectado'!$L$12/365 -> 9406001.4 | J12: =+'ERI proyectado'!K8*'ESF proyectado'!$L$12/365 -> 10658885 | K12: =+'ERI proyectado'!L8*'ESF proyectado'!$L$12/365 -> 11948180 | L12: =AVERAGE(O12:P12) -> 2.6111369 | M12: =+C12/[10]ER!C8*365 -> 9.6059786 | N12: =+D12/[10]ER!D8*365 -> 15.980278 | O12: =+E12/[10]ER!E8*365 -> 2.0201818 | P12: =+F12/[10]ER!F8*365 -> 3.2020919
B13: Anticipos de impuestos | C13: 0 | D13: 0 | E13: 21017494 | F13: 38344195 | G13: =+'[10]Tarifas de Renta-Anticipos '!C20 -> 74948859 | H13: =+'[10]Tarifas de Renta-Anticipos '!D20 -> 89344376 | I13: =+'[10]Tarifas de Renta-Anticipos '!E20 -> 1.0258935e+08 | J13: =+'[10]Tarifas de Renta-Anticipos '!F20 -> 1.1622624e+08 | K13: =+'[10]Tarifas de Renta-Anticipos '!G20 -> 1.3028611e+08
B14: TOTAL ACTIVO CORRIENTE | C14: =SUM(C10:C13) -> 2.3043704e+08 | D14: =SUM(D10:D13) -> 3.1875423e+08 | E14: =SUM(E10:E13) -> 4.8391812e+08 | F14: =SUM(F10:F13) -> 5.8590121e+08 | G14: =SUM(G10:G13) -> 7.4445584e+08 | H14: =SUM(H10:H13) -> 8.6310316e+08 | I14: =SUM(I10:I13) -> 9.9159371e+08 | J14: =SUM(J10:J13) -> 1.1546604e+09 | K14: =SUM(K10:K13) -> 1.3355776e+09
B16: Propiedad, planta y equipo | C16: =SUM([10]PPYE!C3:C6) -> 76052028 | D16: =SUM([10]PPYE!D3:D6) -> 84509326 | E16: =SUM([10]PPYE!E3:E6) -> 2.3749892e+08 | F16: =SUM([10]PPYE!F3:F6) -> 2.3852965e+08 | G16: =+[10]PPYE!G8 -> 3.1640113e+08 | H16: =+[10]PPYE!H8 -> 3.2684237e+08 | I16: =+[10]PPYE!I8 -> 3.3762817e+08 | J16: =+[10]PPYE!J8 -> 3.487699e+08 | K16: =+[10]PPYE!K8 -> 3.602793e+08
B17: Depreciación | C17: =+[10]PPYE!C7 -> -34804117 | D17: =+[10]PPYE!D7 -> -47710304 | E17: =+[10]PPYE!E7 -> -68552026 | F17: =+[10]PPYE!F7 -> -90976072 | G17: =-[10]PPYE!G7 -> -1.2742481e+08 | H17: =-[10]PPYE!H7 -> -1.6507636e+08 | I17: =-[10]PPYE!I7 -> -2.039704e+08 | J17: =-[10]PPYE!J7 -> -2.4414795e+08 | K17: =-[10]PPYE!K7 -> -2.8565136e+08
B18: Otros activos no financieros | C18: 1150000.2 | D18: 939163.15 | E18: 0 | F18: 0 | G18: 0 | H18: 0 | I18: 0 | J18: 0 | K18: 0
B19: TOTAL ACTIVO NO CORRIENTE | C19: =SUM(C16:C18) -> 42397911 | D19: =SUM(D16:D18) -> 37738185 | E19: =SUM(E16:E18) -> 1.689469e+08 | F19: =SUM(F16:F18) -> 1.4755358e+08 | G19: =SUM(G16:G18) -> 1.8897632e+08 | H19: =SUM(H16:H18) -> 1.6176601e+08 | I19: =SUM(I16:I18) -> 1.3365777e+08 | J19: =SUM(J16:J18) -> 1.0462194e+08 | K19: =SUM(K16:K18) -> 74627942
B21: DEUDAS | C21: =+C27+C30 -> 96386138 | D21: =+D27+D30 -> 147339047 | E21: =+E27+E30 -> 256539084 | F21: =+F27+F30 -> 303235642 | G21: =+G27+G30 -> 4.6366699e+08 | H21: =+H27+H30 -> 5.0072677e+08 | I21: =+I27+I30 -> 5.3256621e+08 | J21: =+J27+J30 -> 5.8457372e+08 | K21: =+K27+K30 -> 6.4367905e+08
B22: Obligaciones Financieras | D22: =4817773-60 -> 4817713 | E22: 6880527 | F22: 1821986 | G22: =+'[10]Datos Leasing'!I19 -> 22681635 | H22: =+'[10]Datos Leasing'!I31 -> 25935780 | I22: =+'[10]Datos Leasing'!I43+'[10]Datos Leasing'!G43 -> 4670875.6 | J22: 0 | K22: 0
B23: Costos y Gastos por Pagar | C23: 94937122 | D23: 135729179 | E23: 204295896 | F23: 133670253 | G23: =+'[10]Cuentas por pagar'!C6*'ESF proyectado'!$L$23/365 -> 2.5336145e+08 | H23: =+'[10]Cuentas por pagar'!D6*'ESF proyectado'!$L$23/365 -> 3.0202489e+08 | I23: =+'[10]Cuentas por pagar'!E6*'ESF proyectado'!$L$23/365 -> 3.4679897e+08 | J23: =+'[10]Cuentas por pagar'!F6*'ESF proyectado'!$L$23/365 -> 3.928979e+08 | K23: =+'[10]Cuentas por pagar'!G6*'ESF proyectado'!$L$23/365 -> 4.4042671e+08 | L23: =AVERAGE(M23:P23) -> 114.2393 | M23: =+C23/([10]ER!C14+[10]ER!C15+[10]ER!C10)*365 -> 106.67902 | N23: =+D23/([10]ER!D14+[10]ER!D15+[10]ER!D10)*365 -> 125.9692 | O23: =+E23/([10]ER!E14+[10]ER!E15+[10]ER!E10)*365 -> 143.74454 | P23: =+F23/([10]ER!F14+[10]ER!F15+[10]ER!F10)*365 -> 80.564442
B24: Impuestos, Gravamenes Y Tasas | C24: 0 | D24: 0 | E24: 0 | F24: 34641504 | G24: =+'ERI proyectado'!H22 -> 28953409 | H24: =+'ERI proyectado'!I22 -> 36131333 | I24: =+'ERI proyectado'!J22 -> 42813642 | J24: =+'ERI proyectado'!K22 -> 48968059 | K24: =+'ERI proyectado'!L22 -> 55977931
B25: Obligaciones Laborales | C25: 1422016 | D25: =+'[12]BALANCE '!$E$42 -> 4067276 | E25: 15446506 | F25: 120714276 | G25: =+F25*(1+$L$25) -> 1.2457713e+08 | H25: =+G25*(1+$L$25) -> 1.285636e+08 | I25: =+H25*(1+$L$25) -> 1.3267764e+08 | J25: =+I25*(1+$L$25) -> 1.3692332e+08 | K25: =+J25*(1+$L$25) -> 1.4130487e+08 | L25: 0.032
B26: Otros pasivos no financieros | C26: 27000 | D26: =+'[12]BALANCE '!$E$43 -> 2724879 | E26: 6394043 | F26: 5099679 | G26: =+F26*(1+$L$25) -> 5262868.7 | H26: =+G26*(1+$L$25) -> 5431280.5 | I26: =+H26*(1+$L$25) -> 5605081.5 | J26: =+I26*(1+$L$25) -> 5784444.1 | K26: =+J26*(1+$L$25) -> 5969546.3 | L26: 0.032
B27: TOTAL PASIVO CORRIENTE | C27: =SUM(C22:C26) -> 96386138 | D27: =SUM(D22:D26) -> 147339047 | E27: =SUM(E22:E26) -> 233016972 | F27: =SUM(F22:F26) -> 295947698 | G27: =SUM(G22:G26) -> 4.348365e+08 | H27: =SUM(H22:H26) -> 4.9808688e+08 | I27: =SUM(I22:I26) -> 5.3256621e+08 | J27: =SUM(J22:J26) -> 5.8457372e+08 | K27: =SUM(K22:K26) -> 6.4367905e+08
B29: Obligaciones financieras | C29: 0 | D29: 0 | E29: 23522112 | F29: 7287944 | G29: =+'[10]Datos Leasing'!H19-'[10]Datos Leasing'!I19 -> 28830489 | H29: =+'[10]Datos Leasing'!H31-'[10]Datos Leasing'!I31 -> 2639881.9 | I29: 0 | J29: 0 | K29: 0
B30: TOTAL PASIVO NO CORRIENTE | C30: =SUM(C29:C29) -> 0 | D30: =SUM(D29:D29) -> 0 | E30: =SUM(E29:E29) -> 23522112 | F30: =SUM(F29:F29) -> 7287944 | G30: =SUM(G29:G29) -> 28830489 | H30: =SUM(H29:H29) -> 2639881.9 | I30: =SUM(I29:I29) -> 0 | J30: =SUM(J29:J29) -> 0 | K30: =SUM(K29:K29) -> 0
B32: PATRIMONIO LIQUIDO | C32: =SUM(C33:C39) -> 1.7644881e+08 | D32: =SUM(D33:D39) -> 2.0915337e+08 | E32: =SUM(E33:E39) -> 3.9632593e+08 | F32: =SUM(F33:F39) -> 4.3021915e+08 | G32: =SUM(G33:G39) -> 4.6976518e+08 | H32: =SUM(H33:H39) -> 5.2414241e+08 | I32: =SUM(I33:I39) -> 5.9268526e+08 | J32: =SUM(J33:J39) -> 6.7470861e+08 | K32: =SUM(K33:K39) -> 7.6652646e+08
B33: Capital Social | C33: 47435504 | D33: 47435504 | E33: 189742046 | F33: 189742046 | G33: =+F33 -> 189742046 | H33: =+G33 -> 189742046 | I33: =+H33 -> 189742046 | J33: =+I33 -> 189742046 | K33: =+J33 -> 189742046
B34: Resultado del Ejercicio | C34: 53213877 | D34: 49702143 | E34: 44866025 | F34: 54058530 | G34: =+'ERI proyectado'!H23 -> 58784194 | H34: =+'ERI proyectado'!I23 -> 76779084 | I34: =+'ERI proyectado'!J23 -> 95294880 | J34: =+'ERI proyectado'!K23 -> 1.142588e+08 | K34: =+'ERI proyectado'!L23 -> 1.3061517e+08
B35: Perdida del Ejercicio | C35: 0 | D35: 0 | E35: 0 | F35: 0 | G35: 0 | H35: 0 | I35: 0 | J35: 0 | K35: 0
B36: Utilidad Acumulada | C36: 92019368 | D36: 129314381 | E36: 1.7901652e+08 | F36: 2.040968e+08 | G36: =+F36+F34-'EFE Indirecto'!H49 -> 2.3891716e+08 | H36: =+G36+G34-'EFE Indirecto'!I49 -> 2.752995e+08 | I36: =+H36+H34-'EFE Indirecto'!J49 -> 3.2532656e+08 | J36: =+I36+I34-'EFE Indirecto'!K49 -> 3.8838598e+08 | K36: =+J36+J34-'EFE Indirecto'!L49 -> 4.6384746e+08
B37: Perdida Acumulada | C37: -16219934 | D37: -16219934 | E37: -16219934 | F37: -16219934 | G37: =+F37 -> -16219934 | H37: =+G37 -> -16219934 | I37: =+H37 -> -16219934 | J37: =+I37 -> -16219934 | K37: =+J37 -> -16219934
B38: Ajustes por conversión | C38: 0 | D38: =+'[12]BALANCE '!$E$52 -> -1078727 | E38: -1078727 | F38: -1458289 | G38: =+F38 -> -1458289 | H38: =+G38 -> -1458289 | I38: =+H38 -> -1458289 | J38: =+I38 -> -1458289 | K38: =+J38 -> -1458289
B40: PATRIMONIO BRUTO | C40: =+C21+C32 -> 2.7283495e+08 | D40: =+D21+D32 -> 3.5649241e+08 | E40: =+E21+E32 -> 6.5286502e+08 | F40: =+F21+F32 -> 7.3345479e+08 | G40: =+G21+G32 -> 9.3343216e+08 | H40: =+H21+H32 -> 1.0248692e+09 | I40: =+I21+I32 -> 1.1252515e+09 | J40: =+J21+J32 -> 1.2592823e+09 | K40: =+K21+K32 -> 1.4102055e+09
C41: =+C8-C40 -> 0 | D41: =+D8-D40 -> 0 | E41: =+E8-E40 -> 0.49000001 | F41: =+F8-F40 -> -0.19999993 | G41: =+G8-G40 -> -0.19999993 | H41: =+H8-H40 -> -0.20000017 | I41: =+I8-I40 -> -0.20000005 | J41: =+J8-J40 -> -0.20000029 | K41: =+K8-K40 -> -0.19999981

Sheet EFE Indirecto
G2: 2020 | H2: 2021 | I2: =+H2+1 -> 2022 | J2: =+I2+1 -> 2023 | K2: =+J2+1 -> 2024 | L2: =+K2+1 -> 2025
C3: ESTADOS FINANCIEROS PROYECTADOS | F3: Unidad | G3: 0 | H3: =+G3+1 -> 1 | I3: =+H3+1 -> 2 | J3: =+I3+1 -> 3 | K3: =+J3+1 -> 4 | L3: =+K3+1 -> 5
C5: ESTADO DE FLUJO DE EFECTIVO (EFE) - METODO INDIRECTO
D6: (+) | E6: Utilidad Neta | F6: $ 000 | H6: =+'ERI proyectado'!H23 -> 58784194 | I6: =+'ERI proyectado'!I23 -> 76779084 | J6: =+'ERI proyectado'!J23 -> 95294880 | K6: =+'ERI proyectado'!K23 -> 1.142588e+08 | L6: =+'ERI proyectado'!L23 -> 1.3061517e+08
D7: (+) | E7: Provisión Impuesto de Renta | F7: $ 000 | H7: =+'ERI proyectado'!H22 -> 28953409 | I7: =+'ERI proyectado'!I22 -> 36131333 | J7: =+'ERI proyectado'!J22 -> 42813642 | K7: =+'ERI proyectado'!K22 -> 48968059 | L7: =+'ERI proyectado'!L22 -> 55977931
D8: (+) | E8: Gastos Financieros | F8: $ 000 | H8: =+'ERI proyectado'!H20 -> 22757080 | I8: =+'ERI proyectado'!I20 -> 24550426 | J8: =+'ERI proyectado'!J20 -> 24073959 | K8: =+'ERI proyectado'!K20 -> 24455607 | L8: =+'ERI proyectado'!L20 -> 27325368
D9: (+) | E9: Depreciación | F9: $ 000 | H9: =+'ERI proyectado'!H16 -> 36448737 | I9: =+'ERI proyectado'!I16 -> 37651546 | J9: =+'ERI proyectado'!J16 -> 38894047 | K9: =+'ERI proyectado'!K16 -> 40177550 | L9: =+'ERI proyectado'!L16 -> 41503409
D10: EBITDA | F10: $ 000 | H10: =+SUM(H6:H9) -> 1.4694342e+08 | I10: =+SUM(I6:I9) -> 1.7511239e+08 | J10: =+SUM(J6:J9) -> 2.0107653e+08 | K10: =+SUM(K6:K9) -> 2.2786002e+08 | L10: =+SUM(L6:L9) -> 2.5542188e+08
D11: (+/-) | E11: D Capital de Trabajo | F11: $ 000 | H11: =+H38 -> -29759475 | I11: =+I38 -> -76906360 | J11: =+J38 -> -70419008 | K11: =+K38 -> -73440131 | L11: =+L38 -> -74821308
D12: (-) | E12: Impuesto de Renta | F12: $ 000 | H12: =-'ESF proyectado'!G24 -> -28953409 | I12: =-'ESF proyectado'!H24 -> -36131333 | J12: =-'ESF proyectado'!I24 -> -42813642 | K12: =-'ESF proyectado'!J24 -> -48968059 | L12: =-'ESF proyectado'!K24 -> -55977931
D13: Flujo de Caja Actividades de Operación | F13: $ 000 | H13: =+SUM(H10:H12) -> 88230536 | I13: =+SUM(I10:I12) -> 62074695 | J13: =+SUM(J10:J12) -> 87843879 | K13: =+SUM(K10:K12) -> 1.0545183e+08 | L13: =+SUM(L10:L12) -> 1.2462264e+08
D14: (+/-) | E14: Inversión (Desinversión) Activos Fijos | F14: $ 000 | H14: =-'[10]ESF estructura actual'!G16+'[10]ESF estructura actual'!F16 -> -77871479 | I14: =-'[10]ESF estructura actual'!H16+'[10]ESF estructura actual'!G16 -> -10441237 | J14: =-'[10]ESF estructura actual'!I16+'[10]ESF estructura actual'!H16 -> -10785798 | K14: =-'[10]ESF estructura actual'!J16+'[10]ESF estructura actual'!I16 -> -11141730 | L14: =-'[10]ESF estructura actual'!K16+'[10]ESF estructura actual'!J16 -> -11509407
D15: (+/-) | E15: Inversión (Desinversión) Activos Diferidos | F15: $ 000 | H15: =+[13]BG!G14-[13]BG!H14 -> 0 | I15: =+[13]BG!H14-[13]BG!I14 -> 0 | J15: =+[13]BG!I14-[13]BG!J14 -> 0 | K15: =+[13]BG!J14-[13]BG!K14 -> 0 | L15: =+[13]BG!K14-[13]BG!L14 -> 0
D16: (+/-) | E16: Inversión (Desinversión) Otros Activos | F16: $ 000 | H16: =+'[10]ESF estructura actual'!G18-'[10]ESF estructura actual'!H18 -> 0 | I16: =+'[10]ESF estructura actual'!H18-'[10]ESF estructura actual'!I18 -> 0 | J16: =+'[10]ESF estructura actual'!I18-'[10]ESF estructura actual'!J18 -> 0 | K16: =+'[10]ESF estructura actual'!J18-'[10]ESF estructura actual'!K18 -> 0 | L16: =+'[10]ESF estructura actual'!K18-'[10]ESF estructura actual'!L18 -> 0
D17: Flujo de Caja Actividades de Inversión | F17: $ 000 | H17: =+SUM(H14:H16) -> -77871479 | I17: =+SUM(I14:I16) -> -10441237 | J17: =+SUM(J14:J16) -> -10785798 | K17: =+SUM(K14:K16) -> -11141730 | L17: =+SUM(L14:L16) -> -11509407
D18: (+/-) | E18: Deuda Financiera | F18: $ 000 | H18: =+'[10]ESF estructura actual'!G22+'[10]ESF estructura actual'!G29-'[10]ESF estructura actual'!F22-'[10]ESF estructura actual'!F29 -> 42402194 | I18: =+'[10]ESF estructura actual'!H22+'[10]ESF estructura actual'!H29-'[10]ESF estructura actual'!G22-'[10]ESF estructura actual'!G29 -> -22936462 | J18: =+'[10]ESF estructura actual'!I22+'[10]ESF estructura actual'!I29-'[10]ESF estructura actual'!H22-'[10]ESF estructura actual'!H29 -> -23904786 | K18: =+'[10]ESF estructura actual'!J22+'[10]ESF estructura actual'!J29-'[10]ESF estructura actual'!I22-'[10]ESF estructura actual'!I29 -> -4670875.6 | L18: =+'[10]ESF estructura actual'!K22+'[10]ESF estructura actual'!K29-'[10]ESF estructura actual'!J22-'[10]ESF estructura actual'!J29 -> 0
D19: (+) | E19: Ingresos Financieros | F19: $ 000
D20: (-) | E20: Gastos Financieros | F20: $ 000 | H20: =-'ERI proyectado'!H20 -> -22757080 | I20: =-'ERI proyectado'!I20 -> -24550426 | J20: =-'ERI proyectado'!J20 -> -24073959 | K20: =-'ERI proyectado'!K20 -> -24455607 | L20: =-'ERI proyectado'!L20 -> -27325368
D21: (+) | E21: Aportes de Capital Socios | F21: $ 000 | H21: =+'[10]ESF estructura actual'!G33-'[10]ESF estructura actual'!F33 -> 0 | I21: =+'[10]ESF estructura actual'!H33-'[10]ESF estructura actual'!G33 -> 0 | J21: =+'[10]ESF estructura actual'!I33-'[10]ESF estructura actual'!H33 -> 0 | K21: =+'[10]ESF estructura actual'!J33-'[10]ESF estructura actual'!I33 -> 0 | L21: =+'[10]ESF estructura actual'!K33-'[10]ESF estructura actual'!J33 -> 0
D22: (-) | E22: Dividendos Pagados Socios | F22: $ 000 | H22: =-H49 -> -19238168 | I22: =-I49 -> -22401850 | J22: =-J49 -> -26752029 | K22: =-K49 -> -32235457 | L22: =-L49 -> -38797325
D23: Flujo de Caja Actividades Financiamiento | F23: $ 000 | H23: =+SUM(H18:H22) -> 406944.89 | I23: =+SUM(I18:I22) -> -69888739 | J23: =+SUM(J18:J22) -> -74730774 | K23: =+SUM(K18:K22) -> -61361939 | L23: =+SUM(L18:L22) -> -66122693
D24: Flujo de Caja del Periodo | F24: $ 000 | H24: =+H13+H17+H23 -> 10766002 | I24: =+I13+I17+I23 -> -18255281 | J24: =+J13+J17+J23 -> 2327306 | K24: =+K13+K17+K23 -> 32948161 | L24: =+L13+L17+L23 -> 46990542
D25: Saldo Inicial de Efectivo | F25: $ 000 | H25: =+G26 -> 19682807 | I25: =+H26 -> 30448809 | J25: =+I26 -> 12193528 | K25: =+J26 -> 14520834 | L25: =+K26 -> 47468995
D26: Saldo Final de Efectivo | F26: $ 000 | G26: =+'[10]ESF estructura actual'!F10 -> 19682807 | H26: =+H24+H25 -> 30448809 | I26: =+I24+I25 -> 12193528 | J26: =+J24+J25 -> 14520834 | K26: =+K24+K25 -> 47468995 | L26: =+L24+L25 -> 94459538
C28: D CAPITAL DE TRABAJO
D29: (+) | E29: =+'[10]ESF estructura actual'!B11 -> Cuenta por Cobrar Clientes | F29: $ 000 | G29: =+'ESF proyectado'!F11 -> 521355798 | H29: =+'ESF proyectado'!G11 -> 6.3218442e+08 | I29: =+'ESF proyectado'!H11 -> 7.5337381e+08 | J29: =+'ESF proyectado'!I11 -> 8.6507752e+08 | K29: =+'ESF proyectado'!J11 -> 9.8030627e+08 | L29: =+'ESF proyectado'!K11 -> 1.0988837e+09
D30: (+) | E30: =+'[10]ESF estructura actual'!B12 -> Otras cuentas por cobrar | F30: $ 000 | G30: =+'ESF proyectado'!F12 -> 6518412 | H30: =+'ESF proyectado'!G12 -> 6873751.1 | I30: =+'ESF proyectado'!H12 -> 8191445.2 | J30: =+'ESF proyectado'!I12 -> 9406001.4 | K30: =+'ESF proyectado'!J12 -> 10658885 | L30: =+'ESF proyectado'!K12 -> 11948180
D31: (+) | E31: =+'[10]ESF estructura actual'!B13 -> Anticipos de impuestos | F31: $ 000 | G31: =+'ESF proyectado'!F13 -> 38344195 | H31: =+'ESF proyectado'!G13 -> 74948859 | I31: =+'ESF proyectado'!H13 -> 89344376 | J31: =+'ESF proyectado'!I13 -> 1.0258935e+08 | K31: =+'ESF proyectado'!J13 -> 1.1622624e+08 | L31: =+'ESF proyectado'!K13 -> 1.3028611e+08
D32: (-) | E32: =+'[10]ESF estructura actual'!B23 -> Costos y Gastos por Pagar | F32: $ 000 | G32: =-'ESF proyectado'!F23 -> -133670253 | H32: =-'ESF proyectado'!G23 -> -2.5336145e+08 | I32: =-'ESF proyectado'!H23 -> -3.0202489e+08 | J32: =-'ESF proyectado'!I23 -> -3.4679897e+08 | K32: =-'ESF proyectado'!J23 -> -3.928979e+08 | L32: =-'ESF proyectado'!K23 -> -4.4042671e+08
D33: (-) | E33: =+'[10]ESF estructura actual'!B24 -> Impuestos, Gravamenes Y Tasas | F33: $ 000 | G33: =-'ESF proyectado'!F24 -> -34641504 | H33: =-'ESF proyectado'!G24 -> -28953409 | I33: =-'ESF proyectado'!H24 -> -36131333 | J33: =-'ESF proyectado'!I24 -> -42813642 | K33: =-'ESF proyectado'!J24 -> -48968059 | L33: =-'ESF proyectado'!K24 -> -55977931
D34: (-) | E34: =+'[10]ESF estructura actual'!B25 -> Obligaciones Laborales | F34: $ 000 | G34: =-'ESF proyectado'!F25 -> -120714276 | H34: =-'ESF proyectado'!G25 -> -1.2457713e+08 | I34: =-'ESF proyectado'!H25 -> -1.285636e+08 | J34: =-'ESF proyectado'!I25 -> -1.3267764e+08 | K34: =-'ESF proyectado'!J25 -> -1.3692332e+08 | L34: =-'ESF proyectado'!K25 -> -1.4130487e+08
D35: (-) | E35: =+'[10]ESF estructura actual'!B26 -> Otros pasivos no financieros | F35: $ 000 | G35: =-'ESF proyectado'!F26 -> -5099679 | H35: =-'ESF proyectado'!G26 -> -5262868.7 | I35: =-'ESF proyectado'!H26 -> -5431280.5 | J35: =-'ESF proyectado'!I26 -> -5605081.5 | K35: =-'ESF proyectado'!J26 -> -5784444.1 | L35: =-'ESF proyectado'!K26 -> -5969546.3
D37: Capital de Trabajo | F37: $ 000 | G37: =+SUM(G29:G35) -> 272092693 | H37: =+SUM(H29:H35) -> 3.0185217e+08 | I37: =+SUM(I29:I35) -> 3.7875853e+08 | J37: =+SUM(J29:J35) -> 4.4917754e+08 | K37: =+SUM(K29:K35) -> 5.2261767e+08 | L37: =+SUM(L29:L35) -> 5.9743898e+08
D38: D Capital de Trabajo | F38: $ 000 | H38: =+G37-H37 -> -29759475 | I38: =+H37-I37 -> -76906360 | J38: =+I37-J37 -> -70419008 | K38: =+J37-K37 -> -73440131 | L38: =+K37-L37 -> -74821308
C40: DIVIDENDOS PAGADOS A SOCIOS
D41: (+) | E41: Utilidades Ejercicio Anterior | F41: $ 000 | H41: =+'ESF proyectado'!F34 -> 54058530 | I41: =+'ESF proyectado'!G34 -> 58784194 | J41: =+'ESF proyectado'!H34 -> 76779084 | K41: =+'ESF proyectado'!I34 -> 95294880 | L41: =+'ESF proyectado'!J34 -> 1.142588e+08
D42: (+) | E42: Utilidades Retenidas Periodo Anterior | F42: $ 000 | H42: =+'ESF proyectado'!F36+'ESF proyectado'!F37+'ESF proyectado'!F38 -> 1.8641858e+08 | I42: =+'ESF proyectado'!G36+'ESF proyectado'!G37+'ESF proyectado'!G38 -> 2.2123894e+08 | J42: =+'ESF proyectado'!H36+'ESF proyectado'!H37+'ESF proyectado'!H38 -> 2.5762128e+08 | K42: =+'ESF proyectado'!I36+'ESF proyectado'!I37+'ESF proyectado'!I38 -> 3.0764833e+08 | L42: =+'ESF proyectado'!J36+'ESF proyectado'!J37+'ESF proyectado'!J38 -> 3.7070776e+08
D43: (-) | E43: Reserva Legal del Periodo | F43: $ 000
D44: (=) | E44: Utilidad Distribuible | F44: $ 000 | H44: =+SUM(H41:H43) -> 2.4047711e+08 | I44: =+SUM(I41:I43) -> 2.8002313e+08 | J44: =+SUM(J41:J43) -> 3.3440036e+08 | K44: =+SUM(K41:K43) -> 4.0294321e+08 | L44: =+SUM(L41:L43) -> 4.8496656e+08
D45: (+) | E45: Saldo Inicial de caja | F45: $ 000 | H45: =+H25 -> 19682807 | I45: =+I25 -> 30448809 | J45: =+J25 -> 12193528 | K45: =+K25 -> 14520834 | L45: =+L25 -> 47468995
...

Sheet ERI proyectado
N1: HISTORICOS
B2: VENTAS | C2: =+'ESF proyectado'!C6 -> 43100 | D2: =+'ESF proyectado'!D6 -> 43465 | E2: =+'ESF proyectado'!E6 -> 43830 | F2: =+'ESF proyectado'!F6 -> 44196 | H2: =+'ESF proyectado'!G6 -> PROYECTADO DICIEMBRE 2021 | I2: =+'ESF proyectado'!H6 -> PROYECTADO DICIEMBRE 2022 | J2: =+'ESF proyectado'!I6 -> PROYECTADO DICIEMBRE 2023 | K2: =+'ESF proyectado'!J6 -> PROYECTADO DICIEMBRE 2024 | L2: =+'ESF proyectado'!K6 -> PROYECTADO DICIEMBRE 2025 | M2: Promedio | N2: 2018 | O2: 2019 | P2: 2020
B3: OPERACIONALES
B4: Unidad funcional de consulta de externa | C4: =-'[5]Estado de Resultados'!$D$18 -> 83966240 | D4: 114022240 | E4: =+'[6]PYG ACUMULADO'!$O$7 -> 268438760 | F4: =-[7]CG7345_PyG_NIIF!$E$4 -> 416020025 | H4: =+'V1-Proyecciones de ventas'!J8 -> 5.3763403e+08 | I4: =+'V1-Proyecciones de ventas'!J9 -> 6.5924803e+08 | J4: =+'V1-Proyecciones de ventas'!J10 -> 7.8086204e+08 | K4: =+'V1-Proyecciones de ventas'!J11 -> 9.0280923e+08 | L4: =+'V1-Proyecciones de ventas'!J12 -> 1.0244232e+09
B5: Unidad funcional de apoyo diagnostico | C5: =-'[5]Estado de Resultados'!$D$27 -> 6575000 | D5: 6550000 | E5: =+'[6]PYG ACUMULADO'!$O$8 -> 5270000 | F5: =-[7]CG7345_PyG_NIIF!$E$18 -> 2775000 | H5: =+'V1-Proyecciones de ventas'!J20 -> 1387500 | I5: =+'V1-Proyecciones de ventas'!J21 -> 693750 | J5: =+'V1-Proyecciones de ventas'!J22 -> 346875 | K5: =+'V1-Proyecciones de ventas'!J23 -> 173437.5 | L5: =+'V1-Proyecciones de ventas'!J24 -> 86718.75
B6: Unidad funcional de apoyo terapeutico | C6: =-'[5]Estado de Resultados'!$D$34 -> 312629172 | D6: 353345984 | E6: =+'[6]PYG ACUMULADO'!$O$9 -> 336521452 | F6: =-[7]CG7345_PyG_NIIF!$E$26 -> 324485886 | H6: =+'V1-Proyecciones de ventas'!J44 -> 4.2183165e+08 | I6: =+'V1-Proyecciones de ventas'!J45 -> 4.851064e+08 | J6: =+'V1-Proyecciones de ventas'!J46 -> 5.3361704e+08 | K6: =+'V1-Proyecciones de ventas'!J47 -> 5.8697874e+08 | L6: =+'V1-Proyecciones de ventas'!J48 -> 6.4567662e+08
B7: Devolucion en ventas | C7: 0 | D7: -8555304 | E7: =+'[6]PYG ACUMULADO'!$O$10 -> -6099000 | F7: =-[7]CG7345_PyG_NIIF!$E$31 -> -260270 | H7: 0 | I7: 0 | J7: 0 | K7: 0 | L7: 0
B8: TOTAL VENTAS | C8: =SUM(C4:C7) -> 403170412 | D8: =SUM(D4:D7) -> 465362920 | E8: =SUM(E4:E7) -> 604131212 | F8: =SUM(F4:F7) -> 743020641 | H8: =SUM(H4:H7) -> 9.6085318e+08 | I8: =SUM(I4:I7) -> 1.1450482e+09 | J8: =SUM(J4:J7) -> 1.314826e+09 | K8: =SUM(K4:K7) -> 1.4899614e+09 | L8: =SUM(L4:L7) -> 1.6701866e+09
B9: COSTO VENTAS
B10: Costo de Ventas | C10: 142440574 | D10: 1.685597e+08 | E10: =+'[6]PYG ACUMULADO'!$O$15 -> 196689911 | F10: =+[7]CG7345_PyG_NIIF!$E$249 -> 245954429 | H10: =+H8*$G$12 -> 3.2959832e+08 | I10: =+I8*$G$12 -> 3.9278213e+08 | J10: =+J8*$G$12 -> 4.5102044e+08 | K10: =+K8*$G$12 -> 5.1109659e+08 | L10: =+L8*$G$12 -> 5.7291863e+08
B11: TOTAL COSTO DE VENTAS | C11: =SUM(C10) -> 142440574 | D11: =SUM(D10) -> 1.685597e+08 | E11: =SUM(E10) -> 196689911 | F11: =SUM(F10) -> 245954429 | H11: =SUM(H10) -> 3.2959832e+08 | I11: =SUM(I10) -> 3.9278213e+08 | J11: =SUM(J10) -> 4.5102044e+08 | K11: =SUM(K10) -> 5.1109659e+08 | L11: =SUM(L10) -> 5.7291863e+08
C12: =+C11/C8 -> 0.35330116 | D12: =+D11/D8 -> 0.36221129 | E12: =+E11/E8 -> 0.32557482 | F12: =+F11/F8 -> 0.33101965 | G12: =AVERAGE(C12:F12) -> 0.34302673
B13: UTILIDAD BRUTA | C13: =+C8-C11 -> 260729838 | D13: =+D8-D11 -> 2.9680322e+08 | E13: =+E8-E11 -> 407441301 | F13: =+F8-F11 -> 497066212 | H13: =+H8-H11 -> 6.3125486e+08 | I13: =+I8-I11 -> 7.5226605e+08 | J13: =+J8-J11 -> 8.6380551e+08 | K13: =+K8-K11 -> 9.7886482e+08 | L13: =+L8-L11 -> 1.0972679e+09
B14: Gastos de administración | C14: =+'[5]Estado de Resultados'!$D$311-'[5]Estado de Resultados'!$D$412-'[5]Estado de Resultados'!$D$291 -> 181362271 | D14: =+'[8]Estado de Resultados'!$D$39-'[8]Estado de Resultados'!$D$35 -> 2.2391317e+08 | E14: =+'[6]PYG ACUMULADO'!$O$127-'[6]PYG ACUMULADO'!$O$100 -> 3.2206371e+08 | F14: =+'[9]PYG COMPARATIVO 2017-Dic 18'!$F$133-'[9]PYG COMPARATIVO 2017-Dic 18'!$F$105 -> 359643288 | H14: =+H8*$M$14 -> 4.7987861e+08 | I14: =+I8*$M$14 -> 5.7187107e+08 | J14: =+J8*$M$14 -> 6.5666312e+08 | K14: =+K8*$M$14 -> 7.4413097e+08 | L14: =+L8*$M$14 -> 8.3414077e+08 | M14: =AVERAGE(N14:P14) -> 0.4994297 | N14: =+D14/D8 -> 0.48115818 | O14: =+E14/E8 -> 0.53310225 | P14: =+F14/F8 -> 0.48402866
B15: Gastos de ventas | C15: =+'[5]Estado de Resultados'!$D$319 -> 1022500 | D15: =+'[8]Estado de Resultados'!$D$43 -> 807000 | E15: 0 | F15: =+'[9]PYG COMPARATIVO 2017-Dic 18'!$F$139 -> 0 | H15: 0 | I15: 0 | J15: 0 | K15: 0 | L15: 0
B16: Gastos de depreciación | C16: =+'[5]Estado de Resultados'!$D$291 -> 8745807 | D16: =+'[8]Estado de Resultados'!$D$35 -> 12490939 | E16: =+'[6]PYG ACUMULADO'!$O$100 -> 20841722 | F16: =+'[9]PYG COMPARATIVO 2017-Dic 18'!$F$105 -> 26293921 | H16: =+[10]PPYE!G11 -> 36448737 | I16: =+[10]PPYE!H11 -> 37651546 | J16: =+[10]PPYE!I11 -> 38894047 | K16: =+[10]PPYE!J11 -> 40177550 | L16: =+[10]PPYE!K11 -> 41503409
B17: UTILIDAD OPERACIONAL | C17: =+C13-C14-C15-C16 -> 69599260 | D17: =+D13-D14-D15-D16 -> 59592105 | E17: =+E13-E14-E15-E16 -> 64535872 | F17: =+F13-F14-F15-F16 -> 111129003 | H17: =+H13-H14-H15-H16 -> 1.1492751e+08 | I17: =+I13-I14-I15-I16 -> 1.4274344e+08 | J17: =+J13-J14-J15-J16 -> 1.6824834e+08 | K17: =+K13-K14-K15-K16 -> 1.945563e+08 | L17: =+L13-L14-L15-L16 -> 2.2162376e+08
B18: Otros ingresos | C18: =-'[5]Estado de Resultados'!$D$56 -> 5074280.4 | D18: =+'[8]Estado de Resultados'!$D$21 -> 2007558 | E18: =+'[6]PYG ACUMULADO'!$O$246 -> 7328790.2 | F18: =+'[9]PYG COMPARATIVO 2017-Dic 18'!$F$249 -> 1337838.9 | H18: =+H8*$M$18 -> 5843789.2 | I18: =+I8*$M$18 -> 6964040.3 | J18: =+J8*$M$18 -> 7996607.5 | K18: =+K8*$M$18 -> 9061759.5 | L18: =+L8*$M$18 -> 10157866 | M18: =AVERAGE(N18:P18) -> 0.0060818753 | N18: =+D18/D8 -> 0.004313962 | O18: =+E18/E8 -> 0.012131123 | P18: =+F18/F8 -> 0.0018005407
B19: Otros gastos | C19: =+'[5]Estado de Resultados'!$D$359-'[5]Estado de Resultados'!$D$336 -> 1357740 | D19: =+'[8]Estado de Resultados'!$D$49-'[8]Estado de Resultados'!$D$46 -> 7694956 | E19: =+'[6]PYG ACUMULADO'!$O$276-'[6]PYG ACUMULADO'!$O$264-'[6]PYG ACUMULADO'!$O$257 -> 66160 | F19: =+'[9]PYG COMPARATIVO 2017-Dic 18'!$F$279-'[9]PYG COMPARATIVO 2017-Dic 18'!$F$260 -> 11472987 | H19: =+H8*$M$19 -> 10276615 | I19: =+I8*$M$19 -> 12246636 | J19: =+J8*$M$19 -> 14062461 | K19: =+K8*$M$19 -> 15935588 | L19: =+L8*$M$19 -> 17863150 | M19: =AVERAGE(N19:P19) -> 0.010695302 | N19: =+D19/D8 -> 0.016535387 | O19: =+E19/E8 -> 0.00010951263 | P19: =+F19/F8 -> 0.015441007
B20: Gastos financieros | C20: =+'[5]Estado de Resultados'!$D$336 -> 4007923 | D20: =+'[8]Estado de Resultados'!$D$46 -> 4202564 | E20: =+'[6]PYG ACUMULADO'!$O$257 -> 14200435 | F20: =+'[9]PYG COMPARATIVO 2017-Dic 18'!$F$260 -> 12293821 | H20: =+H8*$M$20+'[10]Datos Leasing'!C47 -> 22757080 | I20: =+I8*$M$20+'[10]Datos Leasing'!C48 -> 24550426 | J20: =+J8*$M$20+'[10]Datos Leasing'!C49 -> 24073959 | K20: =+K8*$M$20+'[10]Datos Leasing'!C50 -> 24455607 | L20: =+L8*$M$20 -> 27325368 | M20: =AVERAGE(N20:P20) -> 0.016360668 | N20: =+D20/D8 -> 0.0090307238 | O20: =+E20/E8 -> 0.023505547 | P20: =+F20/F8 -> 0.016545733
B21: UTILIDAD ANTES DE IMPUESTOS | C21: =+C17+C18-C19-C20 -> 69307877 | D21: =+D17+D18-D19-D20 -> 49702143 | E21: =+E17+E18-E19-E20 -> 57598067 | F21: =+F17+F18-F19-F20 -> 88700034 | H21: =+H17+H18-H19-H20 -> 87737602 | I21: =+I17+I18-I19-I20 -> 1.1291042e+08 | J21: =+J17+J18-J19-J20 -> 1.3810852e+08 | K21: =+K17+K18-K19-K20 -> 1.6322686e+08 | L21: =+L17+L18-L19-L20 -> 1.865931e+08
B22: Impuesto de renta | C22: =+'[5]Estado de Resultados'!$D$367+'[5]Estado de Resultados'!$D$375 -> 16094000 | D22: 0 | E22: =+'[6]PYG ACUMULADO'!$O$264 -> 12732042 | F22: =+'[9]PYG COMPARATIVO 2017-Dic 18'!$F$282 -> 34641504 | H22: =+H21*33% -> 28953409 | I22: =+I21*32% -> 36131333 | J22: =+J21*31% -> 42813642 | K22: =+K21*30% -> 48968059 | L22: =+L21*30% -> 55977931
B23: UTILIDAD DESPUES DE IMPUESTOS | C23: =+C21-C22 -> 53213877 | D23: =+D21-D22 -> 49702143 | E23: =+E21-E22 -> 44866025 | F23: =+F21-F22 -> 54058530 | H23: =+H21-H22 -> 58784194 | I23: =+I21-I22 -> 76779084 | J23: =+J21-J22 -> 95294880 | K23: =+K21-K22 -> 1.142588e+08 | L23: =+L21-L22 -> 1.3061517e+08
C24: =+C23-'[10]ESF estructura actual'!C34 -> 0 | D24: =+D23-'[10]ESF estructura actual'!D34 -> 0 | E24: =+E23-'[10]ESF estructura actual'!E34 -> 0 | F24: =+F23-'[10]ESF estructura actual'!F34 -> 0 | H24: =+H23-'ESF proyectado'!G34 -> 0 | I24: =+I23-'ESF proyectado'!H34 -> 0 | J24: =+J23-'ESF proyectado'!I34 -> 0 | K24: =+K23-'ESF proyectado'!J34 -> 0 | L24: =+L23-'ESF proyectado'!K34 -> 0
