Workbook

Sheet .
A1: Caso
A3: Icolfex

Sheet Enunciado
A1: Compañía XYZ
A2: Balance General y Estado de Resultados
A3: Millones de Pesos
A6: BALANCE GENERAL A Diciembre 31 del 2021 | D6: ESTADO DE RESULTADOS. A Diciembre 31 del 2021
A9: ACTIVOS
A10: Caja y bancos | B10: =+E38 -> 135.38922 | D10: Ventas | E10: 4890
A11: Cuentas por Cobrar | B11: =+E10/B49 -> 611.25 | D11: -Costo de ventas | E11: =+E21 -> 3178.5
A12: Inventarios | B12: =+E11/B46 -> 353.16667 | D12: Utilidad Bruta | E12: =+E10-E11 -> 1711.5
A13: Activo Corriente | B13: =+B12+B11+B10 -> 1099.8059 | D13: -Gastos de Administración y ventas | E13: =+E10*F13 -> 537.9 | F13: 0.11
D14: -Depreciación | E14: =+B15/10 -> 249
A15: Activos Fijos | B15: 2490 | D15: Utilidad Operacional | E15: =+E12-E13-E14 -> 924.6
A16: Depreciación acumulada | B16: =+B15/10*3 -> 747 | D16: - Intereses | E16: =+(B23*E42+E43*B26)*0.9 -> 192.42
A17: Activo Fijo Neto | B17: =+B15-B16 -> 1743 | D17: Utilidad Antes de Impuestos | E17: =+E15-E16 -> 732.18
D18: - Impuestos | E18: =+F18*E17 -> 256.263 | F18: 0.35 | G18: ***
A19: TOTAL ACTIVOS | B19: =+B17+B13 -> 2842.8059 | D19: Utilidad Neta Final | E19: =+E17-E18 -> 475.917
A21: PASIVO Y PATRIMONIO | D21: Costo de Ventas | E21: =+E10*F21 -> 3178.5 | F21: 0.65
A22: Cuentas por Pagar | B22: =+E23/B52 -> 231.88889 | D22: Inventario Inicial | E22: 749
A23: Obligaciones bancarias CP | B23: 294 | D23: Compras | E23: =+E21+E24-E22 -> 2782.6667
A24: Pasivo Corriente | B24: =+B23+B22 -> 525.88889 | D24: Inventario Final | E24: =+B12 -> 353.16667
A26: Obligacionaes bancarias LP | B26: 620 | D26: FLUJO DE CAJA LIBRE
A27: Pasivo Largo Plazo | B27: =+B26 -> 620 | D27: Utilidad Neta Final | E27: =+E19 -> 475.917
D28: +Depreciación | E28: =+E14 -> 249
A29: Capital | B29: 960 | D29: +Intereses | E29: =+E16*(1-F18) -> 125.073
A30: Utilidades retenidas | B30: =261+E19 -> 736.917 | D30: Flujo de Caja Bruto | E30: =+E27+E28+E29 -> 849.99 | F30: =+E15*(1-F18)+E28 -> 849.99
A31: Patrimonio | B31: =+B29+B30 -> 1696.917 | D31: Inversión en Capital de Trabajo | E31: =+B35-B44 -> -517.52778
D32: No hay inverisón en activos fijos | E32: 0
A33: TOTAL PASIVO Y PATRIMONIO | B33: =+B24+B27+B31 -> 2842.8059 | D33: Flujo de Caja Libre | E33: =+E30+E31 -> 332.46222
D34: Intereses | E34: =+E29 -> 125.073
A35: KTNO del 2021 | B35: 215 | D35: Abono a capital | E35: =+B29/5 -> 192
A36: Caja Final del 2021 | B36: 120 | D36: Generación de efectivo | E36: =+E33-E34-E35 -> 15.389222
D37: Caja Anterior | E37: =+B36 -> 120
D38: Caja Final | E38: =+E36+E37 -> 135.38922
A40: KTNO para el año 2021
A41: Cuentas por Cobrar | B41: =+B11 -> 611.25 | D41: Costo de financiamiento
A42: Inventarios | B42: =+E24 -> 353.16667 | D42: Para Corto Plazo (Interés anual) | E42: 0.2
A43: Cuentas por Pagar | B43: =+B22 -> 231.88889 | D43: Para Largo Plazo (Interés anual) | E43: 0.25
A44: KTNO | B44: =+B41+B42-B43 -> 732.52778
A46: Rotación de Inventario | B46: =360/B47 -> 9 | C46: Número de Veces
A47: Rotación de Inventario | B47: 40 | C47: Días
A49: Rotación de CxC | B49: =360/B50 -> 8 | C49: Número de Veces
...

Sheet Utilidad
A1: Eje de Utilidad
B3: Esc 1 | C3: Esc2 | E3: Descripción
A4: Ventas | B4: =+Enunciado!E10*(1+Enunciado!B58) -> 5085.6 | C4: =+B4 -> 5085.6 | E4: Crecimiento del escenario
A5: -Costo de ventas | B5: =+Enunciado!E11*(1+Enunciado!B69) -> 3305.64 | C5: =+Enunciado!E11*(1-Enunciado!B86) -> 2860.65 | E5: Mismo crecimiento de ventas. Supuesto todos costos son variables
A6: Utilidad Bruta | B6: =+B4-B5 -> 1779.96 | C6: =+C4-C5 -> 2224.95
A7: -Gastos de Administración y ventas | B7: =+B4*Enunciado!B59 -> 813.696 | C7: =+C4*Enunciado!B76 -> 457.704 | E7: Porcentaje sobre ventas 16% por mejoras en políticas de inventarios
A8: -Depreciación | B8: =+Enunciado!B61 -> 249 | C8: =+B8 -> 249 | E8: Supuesto: no inversión en activos fijos
A9: Utilidad Operacional | B9: =+B6-B7-B8 -> 717.264 | C9: =+C6-C7-C8 -> 1518.246
A10: - Gasto Financiero | B10: =+B21 -> 107 | C10: =+C21 -> 107 | E10: Saldo Deuda Corto Plazo: $0 ; Saldo Deuda Largo Plazo:$428
A11: Utilidad Antes de Impuestos | B11: =+B9-B10 -> 610.264 | C11: =+C9-C10 -> 1411.246
A12: - Impuestos | B12: =+$D$12*B11 -> 213.5924 | C12: =+$D$12*C11 -> 493.9361 | D12: =+Enunciado!F18 -> 0.35 | E12: Usar impuesto efectivo de la empresa.
A13: Utilidad Neta Final | B13: =+B11-B12 -> 396.6716 | C13: =+C11-C12 -> 917.3099
A16: Costo de Ventas | B16: =+B5 -> 3305.64 | C16: =+C5 -> 2860.65 | E16: Proyección
A17: Inventario Inicial | B17: =+Enunciado!B12 -> 353.16667 | C17: =+B17 -> 353.16667 | E17: Dato histórico
A18: Costo de producción | B18: =+B16+B19-B17 -> 3273.855 | C18: =+C16+C19-C17 -> 2825.3333 | E18: RES
A19: Inventario Final | B19: =+B30 -> 321.38167 | C19: =+C30 -> 317.85 | E19: Rotación inventario
A21: Gastos Financiero | B21: =+B22+B23 -> 107 | C21: =+C22+C23 -> 107
A22: Corto plazo | B22: =+B41*Enunciado!E42 -> 0 | C22: =+B22 -> 0 | E22: De acuerdo con montos y costo de la deuda.
A23: Largo plazo | B23: =+B44*Enunciado!E43 -> 107 | C23: =+B23 -> 107
A26: Balance General
A27: ACTIVOS
A28: Caja y bancos | B28: =+Caja!B55 -> 122.0544 | C28: =+Caja!C26 -> 68.6556 | E28: FC
A29: Cuentas por Cobrar | B29: =+B4/360*Enunciado!B66 -> 1059.5 | C29: =+C4/360*Enunciado!B83 -> 1059.5 | E29: Rotación de cartera
A30: Inventarios | B30: =+B5/360*Enunciado!B65 -> 321.38167 | C30: =+C5/360*Enunciado!B82 -> 317.85 | E30: Rotación inventarios, ya calculado.
A31: Activo Corriente | B31: =+B30+B29+B28 -> 1502.9361 | C31: =+C30+C29+C28 -> 1446.0056
A32: IEN | B32: =+Caja!B57 -> 0 | C32: =+Caja!C28 -> 102.2213 | E32: FC
A33: Activos Fijos | B33: =+Enunciado!B15 -> 2490 | C33: =+B33 -> 2490 | E33: SUP: Mantener / Plan de Inversión / Rotación Activo Fijo Bruto
A34: Depreciación acumulada | B34: =+Enunciado!B16+Utilidad!B8 -> 996 | C34: =+B34 -> 996 | E34: Saldo + ER
A35: Activo Fijo Neto | B35: =+B33-B34 -> 1494 | C35: =+C33-C34 -> 1494
A37: TOTAL ACTIVOS | B37: =+B35+B31+B32 -> 2996.9361 | C37: =+C35+C31+C32 -> 3042.2269
A39: PASIVO Y PATRIMONIO
A40: Cuentas por Pagar | B40: =+B18/360*Enunciado!B67 -> 318.29146 | C40: =+C18/360*Enunciado!B84 -> 0 | E40: Rotación de proveedores
A41: Obligaciones bancarias CP | B41: =+Enunciado!B23-Enunciado!B62 -> 0 | C41: =+B41 -> 0 | E41: Saldo + Movimiento del periodo
A42: Pasivo Corriente | B42: =+B41+B40 -> 318.29146 | C42: =+C41+C40 -> 0
A43: FEN | B43: =+Caja!B56 -> 157.05601 | C43: =+Caja!C27 -> 0 | E43: FC
A44: Obligacionaes bancarias LP | B44: =+Enunciado!B26-Enunciado!B63 -> 428 | C44: =+B44 -> 428 | E44: Saldo + Movimiento del periodo
A45: Pasivo Largo Plazo | B45: =+B44 -> 428 | C45: =+C44 -> 428
A47: Capital | B47: =+Enunciado!B29 -> 960 | C47: =+B47 -> 960 | E47: Saldo + Movimiento del periodo
A48: Utilidades retenidas | B48: =+Enunciado!B30+Utilidad!B13 -> 1133.5886 | C48: =+Enunciado!B30+Utilidad!C13 -> 1654.2269 | E48: Saldo + Utilidades del periodo
A49: Patrimonio | B49: =+B47+B48 -> 2093.5886 | C49: =+C47+C48 -> 2614.2269
...

Sheet Caja
A1: Eje de Caja
B2: Esc1 | C2: Esc2
A3: Utilidad Neta | B3: =+Utilidad!B13 -> 396.6716 | C3: =+Utilidad!C13 -> 917.3099
A4: +Depreciación | B4: =+Utilidad!B8 -> 249 | C4: =+Utilidad!C8 -> 249
A5: +Gasto financiero (1-tx) | B5: =+Utilidad!B10*(1-Utilidad!$D12) -> 69.55 | C5: =+Utilidad!C10*(1-Utilidad!$D12) -> 69.55
A6: Flujo de Caja Bruto | B6: =+B3+B4+B5 -> 715.2216 | C6: =+C3+C4+C5 -> 1235.8599 | D6: =+Utilidad!B9*(1-Utilidad!D12)+Utilidad!B8 -> 715.2216 | E6: metodo directo
A7: Inversión en KTNO | B7: =+B8-B9 -> 330.06243 | C7: =+C8-C9 -> 644.82222
A8: KTNO 2 | B8: =+Utilidad!B29+Utilidad!B30-Utilidad!B40 -> 1062.5902 | C8: =+Utilidad!C29+Utilidad!C30-Utilidad!C40 -> 1377.35
A9: KTNO 1 | B9: =+Enunciado!B44 -> 732.52778 | C9: =+B9 -> 732.52778
A10: Inversión en Activos Fijos | B10: =+B11-B12 -> 0 | C10: =+C11-C12 -> 0
A11: AFB 2 | B11: =+Utilidad!B33 -> 2490 | C11: =+B11 -> 2490
A12: AFB 1 | B12: =+Enunciado!B15 -> 2490 | C12: =+B12 -> 2490
A13: Flujo de Caja Libre | B13: =+B6-B7-B10 -> 385.15917 | C13: =+C6-C7-C10 -> 591.03768
A14: +Gasto financiero (1-tx) | B14: =+B5 -> 69.55 | C14: =+C5 -> 69.55
A15: Abono a capital | B15: =+B16-B17 -> -486 | C15: =+C16-C17 -> -486
A16: Pasivo Financiero 2 | B16: =+Utilidad!B41+Utilidad!B44 -> 428 | C16: =+B16 -> 428
A17: Pasivo Financiero 1 | B17: =+Enunciado!B26+Enunciado!B23 -> 914 | C17: =+B17 -> 914
A18: Flujo de Caja para el Accionista | B18: =+B13-B14+B15 -> -170.39083 | C18: =+C13-C14+C15 -> 35.487678
A19: +Aporte de accionistas | B19: =+B20-B21 -> 0 | C19: =+C20-C21 -> 0
A20: Capital 2 | B20: =+Utilidad!B47 -> 960 | C20: =+Utilidad!C47 -> 960
A21: Capital 1 | B21: =+Enunciado!B29 -> 960 | C21: =+B21 -> 960
A22: - Dividendos | B22: 0 | C22: 0
A23: Flujo de Caja del Periodo | B23: =+B18+B19-B22 -> -170.39083 | C23: =+C18+C19-C22 -> 35.487678
A24: Caja Anterior | B24: =+Enunciado!B10 -> 135.38922 | C24: =+B24 -> 135.38922
A25: Caja Final | B25: =+B18+B24 -> -35.001608 | C25: =+C18+C24 -> 170.8769
A26: Caja Mínima | B26: =+B55 -> 122.0544 | C26: =+C55 -> 68.6556
A27: FEN | B27: =+IF(B26>B25,B26-B25,0) -> 157.05601 | C27: =+IF(C26>C25,C26-C25,0) -> 0
A28: IEN | B28: =+IF(B25>B26,B25-B26,0) -> 0 | C28: =+IF(C25>C26,C25-C26,0) -> 102.2213
B30: Esc1 | C30: Esc2
A31: Utilidad Operacional | B31: =+Utilidad!B9 -> 717.264 | C31: =+Utilidad!C9 -> 1518.246
A32: +Depreciación | B32: =+B4 -> 249 | C32: =+C4 -> 249
A33: EBITDA | B33: =+B31+B32 -> 966.264 | C33: =+C31+C32 -> 1767.246
A34: - Impuestos operacionales | B34: =+B31*Utilidad!$D$12 -> 251.0424 | C34: =+C31*Utilidad!$D$12 -> 531.3861
A35: Flujo de Caja Bruto | B35: =+B33-B34 -> 715.2216 | C35: =+C33-C34 -> 1235.8599
A36: Inversión en KTNO | B36: =+B37-B38 -> 330.06243 | C36: =+C37-C38 -> 644.82222
A37: KTNO 2 | B37: =+B8 -> 1062.5902 | C37: =+C8 -> 1377.35
A38: KTNO 1 | B38: =+B9 -> 732.52778 | C38: =+B38 -> 732.52778
A39: Inversión en Activos Fijos | B39: =+B40-B41 -> 0 | C39: =+C40-C41 -> 0
A40: AFB 2 | B40: =+B11 -> 2490 | C40: =+C11 -> 2490
A41: AFB 1 | B41: =+B12 -> 2490 | C41: =+C12 -> 2490
...

Sheet Rentabildiad
A1: Eje de Rentabilidad
C2: 2021 | D2: esc1 | E2: esc2
A3: ROE | C3: =+C4/C5 -> 0.2804598 | D3: =+D4/D5 -> 0.1894697 | E3: =+E4/E5 -> 0.35089146
B4: Utilidad neta | C4: =+Enunciado!E19 -> 475.917 | D4: =+Utilidad!B13 -> 396.6716 | E4: =+Utilidad!C13 -> 917.3099
B5: PatrimonIo | C5: =+Enunciado!B31 -> 1696.917 | D5: =+Utilidad!B49 -> 2093.5886 | E5: =+Utilidad!C49 -> 2614.2269
A7: ROIC | C7: =+C8/C9 -> 0.21140733 | D7: =+D8/D9 -> 0.15556608 | E7: =+E8/E9 -> 0.32438734
B8: Utilidad operacional * (1-tx) | C8: =+Enunciado!E15*(1-Enunciado!F18) -> 600.99 | D8: =+Caja!B31-Caja!B34 -> 466.2216 | E8: =+Caja!C31-Caja!C34 -> 986.8599
B9: Activo | C9: =+Enunciado!B19 -> 2842.8059 | D9: =+Utilidad!B37 -> 2996.9361 | E9: =+Utilidad!C37 -> 3042.2269
A11: CONTRIBUCION FINANCIERA | C11: =+C3-C7 -> 0.06905247 | D11: =+D3-D7 -> 0.033903617 | E11: =+E3-E7 -> 0.02650412
A13: En cuanto contribuye la deuda a la rentabilidad del accionistra
