Workbook

Sheet Clas. general
A1: Empleados | C1: COSTO O GASTO | E1: VARIABLE FIJO O MIXTO | G1: DIRECTO O INDIRECTO
A3: Gerente del proyecto
A4: Gerente de producción
A5: Operario de la planta de produccion
A6: Profesional administrativo y RRHH
A7: Profesional de venta
A8: Servicios generales
A9: Materia prima
A10: A
A11: B
A12: C
A13: D
A14: E
... A29: Seguro de inventario

Sheet Indicadores 
H2: Concepto | I2: Diciembre | J2: Enero
A3: 11 | B3: 12 | C3: 13 | D3: 14 | H3: Activo Corriente | I3: =IFERROR(VLOOKUP($A3,Consolidados!$A$4:$D$1000,Consolidados!C$2,0),0)+IFERROR(VLOOKUP($B3,Consolidados!$A$4:$D$1000,Consolidados!C$2,0),0)+IFERROR(VLOOKUP($C3,Consolidados!$A$4:$D$1000,Consolidados!C$2,0),0)+IFERROR(VLOOKUP($D3,Consolidados!$A$4:$D$1000,Consolidados!C$2,0),0)+IFERROR(VLOOKUP($E3,Consolidados!$A$4:$D$1000,Consolidados!C$2,0),0)+IFERROR(VLOOKUP($F3,Consolidados!$A$4:$D$1000,Consolidados!C$2,0),0) -> 8.6790174e+09 | J3: =IFERROR(VLOOKUP($A3,Consolidados!$A$4:$D$1000,Consolidados!D$2,0),0)+IFERROR(VLOOKUP($B3,Consolidados!$A$4:$D$1000,Consolidados!D$2,0),0)+IFERROR(VLOOKUP($C3,Consolidados!$A$4:$D$1000,Consolidados!D$2,0),0)+IFERROR(VLOOKUP($D3,Consolidados!$A$4:$D$1000,Consolidados!D$2,0),0)+IFERROR(VLOOKUP($E3,Consolidados!$A$4:$D$1000,Consolidados!D$2,0),0)+IFERROR(VLOOKUP($F3,Consolidados!$A$4:$D$1000,Consolidados!D$2,0),0) -> 9.2054521e+09
A4: 21 | B4: 22 | C4: 23 | D4: 24 | E4: 25 | H4: Pasivo Corriente | I4: =IFERROR(VLOOKUP($A4,Consolidados!$A$4:$D$1000,Consolidados!C$2,0),0)+IFERROR(VLOOKUP($B4,Consolidados!$A$4:$D$1000,Consolidados!C$2,0),0)+IFERROR(VLOOKUP($C4,Consolidados!$A$4:$D$1000,Consolidados!C$2,0),0)+IFERROR(VLOOKUP($D4,Consolidados!$A$4:$D$1000,Consolidados!C$2,0),0)+IFERROR(VLOOKUP($E4,Consolidados!$A$4:$D$1000,Consolidados!C$2,0),0)+IFERROR(VLOOKUP($F4,Consolidados!$A$4:$D$1000,Consolidados!C$2,0),0) -> 1.4399617e+09 | J4: =IFERROR(VLOOKUP($A4,Consolidados!$A$4:$D$1000,Consolidados!D$2,0),0)+IFERROR(VLOOKUP($B4,Consolidados!$A$4:$D$1000,Consolidados!D$2,0),0)+IFERROR(VLOOKUP($C4,Consolidados!$A$4:$D$1000,Consolidados!D$2,0),0)+IFERROR(VLOOKUP($D4,Consolidados!$A$4:$D$1000,Consolidados!D$2,0),0)+IFERROR(VLOOKUP($E4,Consolidados!$A$4:$D$1000,Consolidados!D$2,0),0)+IFERROR(VLOOKUP($F4,Consolidados!$A$4:$D$1000,Consolidados!D$2,0),0) -> 1.650675e+09
A5: 11 | H5: Efectivo y equivalentes | I5: =IFERROR(VLOOKUP($A5,Consolidados!$A$4:$D$1000,Consolidados!C$2,0),0)+IFERROR(VLOOKUP($B5,Consolidados!$A$4:$D$1000,Consolidados!C$2,0),0)+IFERROR(VLOOKUP($C5,Consolidados!$A$4:$D$1000,Consolidados!C$2,0),0)+IFERROR(VLOOKUP($D5,Consolidados!$A$4:$D$1000,Consolidados!C$2,0),0)+IFERROR(VLOOKUP($E5,Consolidados!$A$4:$D$1000,Consolidados!C$2,0),0)+IFERROR(VLOOKUP($F5,Consolidados!$A$4:$D$1000,Consolidados!C$2,0),0) -> 2.6415312e+09 | J5: =IFERROR(VLOOKUP($A5,Consolidados!$A$4:$D$1000,Consolidados!D$2,0),0)+IFERROR(VLOOKUP($B5,Consolidados!$A$4:$D$1000,Consolidados!D$2,0),0)+IFERROR(VLOOKUP($C5,Consolidados!$A$4:$D$1000,Consolidados!D$2,0),0)+IFERROR(VLOOKUP($D5,Consolidados!$A$4:$D$1000,Consolidados!D$2,0),0)+IFERROR(VLOOKUP($E5,Consolidados!$A$4:$D$1000,Consolidados!D$2,0),0)+IFERROR(VLOOKUP($F5,Consolidados!$A$4:$D$1000,Consolidados!D$2,0),0) -> 2.6732059e+09
E6: 14 | H6: Inventario | I6: =IFERROR(VLOOKUP($A6,Consolidados!$A$4:$D$1000,Consolidados!C$2,0),0)+IFERROR(VLOOKUP($B6,Consolidados!$A$4:$D$1000,Consolidados!C$2,0),0)+IFERROR(VLOOKUP($C6,Consolidados!$A$4:$D$1000,Consolidados!C$2,0),0)+IFERROR(VLOOKUP($D6,Consolidados!$A$4:$D$1000,Consolidados!C$2,0),0)+IFERROR(VLOOKUP($E6,Consolidados!$A$4:$D$1000,Consolidados!C$2,0),0)+IFERROR(VLOOKUP($F6,Consolidados!$A$4:$D$1000,Consolidados!C$2,0),0) -> 3.4460259e+09 | J6: =IFERROR(VLOOKUP($A6,Consolidados!$A$4:$D$1000,Consolidados!D$2,0),0)+IFERROR(VLOOKUP($B6,Consolidados!$A$4:$D$1000,Consolidados!D$2,0),0)+IFERROR(VLOOKUP($C6,Consolidados!$A$4:$D$1000,Consolidados!D$2,0),0)+IFERROR(VLOOKUP($D6,Consolidados!$A$4:$D$1000,Consolidados!D$2,0),0)+IFERROR(VLOOKUP($E6,Consolidados!$A$4:$D$1000,Consolidados!D$2,0),0)+IFERROR(VLOOKUP($F6,Consolidados!$A$4:$D$1000,Consolidados!D$2,0),0) -> 4.0755793e+09
A7: 13 | H7: Clientes (Cartera) | I7: =IFERROR(VLOOKUP($A7,Consolidados!$A$4:$D$1000,Consolidados!C$2,0),0)+IFERROR(VLOOKUP($B7,Consolidados!$A$4:$D$1000,Consolidados!C$2,0),0)+IFERROR(VLOOKUP($C7,Consolidados!$A$4:$D$1000,Consolidados!C$2,0),0)+IFERROR(VLOOKUP($D7,Consolidados!$A$4:$D$1000,Consolidados!C$2,0),0)+IFERROR(VLOOKUP($E7,Consolidados!$A$4:$D$1000,Consolidados!C$2,0),0)+IFERROR(VLOOKUP($F7,Consolidados!$A$4:$D$1000,Consolidados!C$2,0),0) -> 2.5914603e+09 | J7: =IFERROR(VLOOKUP($A7,Consolidados!$A$4:$D$1000,Consolidados!D$2,0),0)+IFERROR(VLOOKUP($B7,Consolidados!$A$4:$D$1000,Consolidados!D$2,0),0)+IFERROR(VLOOKUP($C7,Consolidados!$A$4:$D$1000,Consolidados!D$2,0),0)+IFERROR(VLOOKUP($D7,Consolidados!$A$4:$D$1000,Consolidados!D$2,0),0)+IFERROR(VLOOKUP($E7,Consolidados!$A$4:$D$1000,Consolidados!D$2,0),0)+IFERROR(VLOOKUP($F7,Consolidados!$A$4:$D$1000,Consolidados!D$2,0),0) -> 2.456667e+09
A8: 1305 | B8: 1390 | C8: 1399 | H8: Cuentas comerciales por cobrar | I8: =IFERROR(VLOOKUP($A8,Consolidados!$A$4:$D$1000,Consolidados!C$2,0),0)+IFERROR(VLOOKUP($B8,Consolidados!$A$4:$D$1000,Consolidados!C$2,0),0)+IFERROR(VLOOKUP($C8,Consolidados!$A$4:$D$1000,Consolidados!C$2,0),0)+IFERROR(VLOOKUP($D8,Consolidados!$A$4:$D$1000,Consolidados!C$2,0),0)+IFERROR(VLOOKUP($E8,Consolidados!$A$4:$D$1000,Consolidados!C$2,0),0)+IFERROR(VLOOKUP($F8,Consolidados!$A$4:$D$1000,Consolidados!C$2,0),0) -> 1.6366816e+09 | J8: =IFERROR(VLOOKUP($A8,Consolidados!$A$4:$D$1000,Consolidados!D$2,0),0)+IFERROR(VLOOKUP($B8,Consolidados!$A$4:$D$1000,Consolidados!D$2,0),0)+IFERROR(VLOOKUP($C8,Consolidados!$A$4:$D$1000,Consolidados!D$2,0),0)+IFERROR(VLOOKUP($D8,Consolidados!$A$4:$D$1000,Consolidados!D$2,0),0)+IFERROR(VLOOKUP($E8,Consolidados!$A$4:$D$1000,Consolidados!D$2,0),0)+IFERROR(VLOOKUP($F8,Consolidados!$A$4:$D$1000,Consolidados!D$2,0),0) -> 1.5266696e+09
A9: 15 | H9: Propiedades planta y equipo | I9: =IFERROR(VLOOKUP($A9,Consolidados!$A$4:$D$1000,Consolidados!C$2,0),0)+IFERROR(VLOOKUP($B9,Consolidados!$A$4:$D$1000,Consolidados!C$2,0),0)+IFERROR(VLOOKUP($C9,Consolidados!$A$4:$D$1000,Consolidados!C$2,0),0)+IFERROR(VLOOKUP($D9,Consolidados!$A$4:$D$1000,Consolidados!C$2,0),0)+IFERROR(VLOOKUP($E9,Consolidados!$A$4:$D$1000,Consolidados!C$2,0),0)+IFERROR(VLOOKUP($F9,Consolidados!$A$4:$D$1000,Consolidados!C$2,0),0) -> 3.6963673e+09 | J9: =IFERROR(VLOOKUP($A9,Consolidados!$A$4:$D$1000,Consolidados!D$2,0),0)+IFERROR(VLOOKUP($B9,Consolidados!$A$4:$D$1000,Consolidados!D$2,0),0)+IFERROR(VLOOKUP($C9,Consolidados!$A$4:$D$1000,Consolidados!D$2,0),0)+IFERROR(VLOOKUP($D9,Consolidados!$A$4:$D$1000,Consolidados!D$2,0),0)+IFERROR(VLOOKUP($E9,Consolidados!$A$4:$D$1000,Consolidados!D$2,0),0)+IFERROR(VLOOKUP($F9,Consolidados!$A$4:$D$1000,Consolidados!D$2,0),0) -> 3.6803389e+09
A10: 1 | H10: Activo | I10: =IFERROR(VLOOKUP($A10,Consolidados!$A$4:$D$1000,Consolidados!C$2,0),0)+IFERROR(VLOOKUP($B10,Consolidados!$A$4:$D$1000,Consolidados!C$2,0),0)+IFERROR(VLOOKUP($C10,Consolidados!$A$4:$D$1000,Consolidados!C$2,0),0)+IFERROR(VLOOKUP($D10,Consolidados!$A$4:$D$1000,Consolidados!C$2,0),0)+IFERROR(VLOOKUP($E10,Consolidados!$A$4:$D$1000,Consolidados!C$2,0),0)+IFERROR(VLOOKUP($F10,Consolidados!$A$4:$D$1000,Consolidados!C$2,0),0) -> 2.4750769e+10 | J10: =IFERROR(VLOOKUP($A10,Consolidados!$A$4:$D$1000,Consolidados!D$2,0),0)+IFERROR(VLOOKUP($B10,Consolidados!$A$4:$D$1000,Consolidados!D$2,0),0)+IFERROR(VLOOKUP($C10,Consolidados!$A$4:$D$1000,Consolidados!D$2,0),0)+IFERROR(VLOOKUP($D10,Consolidados!$A$4:$D$1000,Consolidados!D$2,0),0)+IFERROR(VLOOKUP($E10,Consolidados!$A$4:$D$1000,Consolidados!D$2,0),0)+IFERROR(VLOOKUP($F10,Consolidados!$A$4:$D$1000,Consolidados!D$2,0),0) -> 2.5771582e+10
A11: 2 | H11: Pasivo | I11: =IFERROR(VLOOKUP($A11,Consolidados!$A$4:$D$1000,Consolidados!C$2,0),0)+IFERROR(VLOOKUP($B11,Consolidados!$A$4:$D$1000,Consolidados!C$2,0),0)+IFERROR(VLOOKUP($C11,Consolidados!$A$4:$D$1000,Consolidados!C$2,0),0)+IFERROR(VLOOKUP($D11,Consolidados!$A$4:$D$1000,Consolidados!C$2,0),0)+IFERROR(VLOOKUP($E11,Consolidados!$A$4:$D$1000,Consolidados!C$2,0),0)+IFERROR(VLOOKUP($F11,Consolidados!$A$4:$D$1000,Consolidados!C$2,0),0) -> 1.104051e+10 | J11: =IFERROR(VLOOKUP($A11,Consolidados!$A$4:$D$1000,Consolidados!D$2,0),0)+IFERROR(VLOOKUP($B11,Consolidados!$A$4:$D$1000,Consolidados!D$2,0),0)+IFERROR(VLOOKUP($C11,Consolidados!$A$4:$D$1000,Consolidados!D$2,0),0)+IFERROR(VLOOKUP($D11,Consolidados!$A$4:$D$1000,Consolidados!D$2,0),0)+IFERROR(VLOOKUP($E11,Consolidados!$A$4:$D$1000,Consolidados!D$2,0),0)+IFERROR(VLOOKUP($F11,Consolidados!$A$4:$D$1000,Consolidados!D$2,0),0) -> 1.2556198e+10
A12: 22 | H12: Proveedores | I12: =IFERROR(VLOOKUP($A12,Consolidados!$A$4:$D$1000,Consolidados!C$2,0),0)+IFERROR(VLOOKUP($B12,Consolidados!$A$4:$D$1000,Consolidados!C$2,0),0)+IFERROR(VLOOKUP($C12,Consolidados!$A$4:$D$1000,Consolidados!C$2,0),0)+IFERROR(VLOOKUP($D12,Consolidados!$A$4:$D$1000,Consolidados!C$2,0),0)+IFERROR(VLOOKUP($E12,Consolidados!$A$4:$D$1000,Consolidados!C$2,0),0)+IFERROR(VLOOKUP($F12,Consolidados!$A$4:$D$1000,Consolidados!C$2,0),0) -> 5.0970213e+08 | J12: =IFERROR(VLOOKUP($A12,Consolidados!$A$4:$D$1000,Consolidados!D$2,0),0)+IFERROR(VLOOKUP($B12,Consolidados!$A$4:$D$1000,Consolidados!D$2,0),0)+IFERROR(VLOOKUP($C12,Consolidados!$A$4:$D$1000,Consolidados!D$2,0),0)+IFERROR(VLOOKUP($D12,Consolidados!$A$4:$D$1000,Consolidados!D$2,0),0)+IFERROR(VLOOKUP($E12,Consolidados!$A$4:$D$1000,Consolidados!D$2,0),0)+IFERROR(VLOOKUP($F12,Consolidados!$A$4:$D$1000,Consolidados!D$2,0),0) -> 990578580
A13: 3 | H13: Patrimonio | I13: =IFERROR(VLOOKUP($A13,Consolidados!$A$4:$D$1000,Consolidados!C$2,0),0)+IFERROR(VLOOKUP($B13,Consolidados!$A$4:$D$1000,Consolidados!C$2,0),0)+IFERROR(VLOOKUP($C13,Consolidados!$A$4:$D$1000,Consolidados!C$2,0),0)+IFERROR(VLOOKUP($D13,Consolidados!$A$4:$D$1000,Consolidados!C$2,0),0)+IFERROR(VLOOKUP($E13,Consolidados!$A$4:$D$1000,Consolidados!C$2,0),0)+IFERROR(VLOOKUP($F13,Consolidados!$A$4:$D$1000,Consolidados!C$2,0),0) -> 1.417352e+10 | J13: =IFERROR(VLOOKUP($A13,Consolidados!$A$4:$D$1000,Consolidados!D$2,0),0)+IFERROR(VLOOKUP($B13,Consolidados!$A$4:$D$1000,Consolidados!D$2,0),0)+IFERROR(VLOOKUP($C13,Consolidados!$A$4:$D$1000,Consolidados!D$2,0),0)+IFERROR(VLOOKUP($D13,Consolidados!$A$4:$D$1000,Consolidados!D$2,0),0)+IFERROR(VLOOKUP($E13,Consolidados!$A$4:$D$1000,Consolidados!D$2,0),0)+IFERROR(VLOOKUP($F13,Consolidados!$A$4:$D$1000,Consolidados!D$2,0),0) -> 1.417352e+10
A14: 21 | H14: Obligación financiera | I14: =IFERROR(VLOOKUP($A14,Consolidados!$A$4:$D$1000,Consolidados!C$2,0),0)+IFERROR(VLOOKUP($B14,Consolidados!$A$4:$D$1000,Consolidados!C$2,0),0)+IFERROR(VLOOKUP($C14,Consolidados!$A$4:$D$1000,Consolidados!C$2,0),0)+IFERROR(VLOOKUP($D14,Consolidados!$A$4:$D$1000,Consolidados!C$2,0),0)+IFERROR(VLOOKUP($E14,Consolidados!$A$4:$D$1000,Consolidados!C$2,0),0)+IFERROR(VLOOKUP($F14,Consolidados!$A$4:$D$1000,Consolidados!C$2,0),0) -> 0 | J14: =IFERROR(VLOOKUP($A14,Consolidados!$A$4:$D$1000,Consolidados!D$2,0),0)+IFERROR(VLOOKUP($B14,Consolidados!$A$4:$D$1000,Consolidados!D$2,0),0)+IFERROR(VLOOKUP($C14,Consolidados!$A$4:$D$1000,Consolidados!D$2,0),0)+IFERROR(VLOOKUP($D14,Consolidados!$A$4:$D$1000,Consolidados!D$2,0),0)+IFERROR(VLOOKUP($E14,Consolidados!$A$4:$D$1000,Consolidados!D$2,0),0)+IFERROR(VLOOKUP($F14,Consolidados!$A$4:$D$1000,Consolidados!D$2,0),0) -> 0
A16: 41 | H16: Ingresos operacionales | I16: =IFERROR(VLOOKUP($A16,Consolidados!$A$4:$D$1000,Consolidados!C$2,0),0)+IFERROR(VLOOKUP($B16,Consolidados!$A$4:$D$1000,Consolidados!C$2,0),0)+IFERROR(VLOOKUP($C16,Consolidados!$A$4:$D$1000,Consolidados!C$2,0),0)+IFERROR(VLOOKUP($D16,Consolidados!$A$4:$D$1000,Consolidados!C$2,0),0)+IFERROR(VLOOKUP($E16,Consolidados!$A$4:$D$1000,Consolidados!C$2,0),0)+IFERROR(VLOOKUP($F16,Consolidados!$A$4:$D$1000,Consolidados!C$2,0),0) -> 5.4073258e+09 | J16: =IFERROR(VLOOKUP($A16,Consolidados!$A$4:$D$1000,Consolidados!D$2,0),0)+IFERROR(VLOOKUP($B16,Consolidados!$A$4:$D$1000,Consolidados!D$2,0),0)+IFERROR(VLOOKUP($C16,Consolidados!$A$4:$D$1000,Consolidados!D$2,0),0)+IFERROR(VLOOKUP($D16,Consolidados!$A$4:$D$1000,Consolidados!D$2,0),0)+IFERROR(VLOOKUP($E16,Consolidados!$A$4:$D$1000,Consolidados!D$2,0),0)+IFERROR(VLOOKUP($F16,Consolidados!$A$4:$D$1000,Consolidados!D$2,0),0) -> 9.9731225e+08
A17: 6 | B17: 7 | H17: Costos de venta | I17: =IFERROR(VLOOKUP($A17,Consolidados!$A$4:$D$1000,Consolidados!C$2,0),0)+IFERROR(VLOOKUP($B17,Consolidados!$A$4:$D$1000,Consolidados!C$2,0),0)+IFERROR(VLOOKUP($C17,Consolidados!$A$4:$D$1000,Consolidados!C$2,0),0)+IFERROR(VLOOKUP($D17,Consolidados!$A$4:$D$1000,Consolidados!C$2,0),0)+IFERROR(VLOOKUP($E17,Consolidados!$A$4:$D$1000,Consolidados!C$2,0),0)+IFERROR(VLOOKUP($F17,Consolidados!$A$4:$D$1000,Consolidados!C$2,0),0) -> 7.6440957e+08 | J17: =IFERROR(VLOOKUP($A17,Consolidados!$A$4:$D$1000,Consolidados!D$2,0),0)+IFERROR(VLOOKUP($B17,Consolidados!$A$4:$D$1000,Consolidados!D$2,0),0)+IFERROR(VLOOKUP($C17,Consolidados!$A$4:$D$1000,Consolidados!D$2,0),0)+IFERROR(VLOOKUP($D17,Consolidados!$A$4:$D$1000,Consolidados!D$2,0),0)+IFERROR(VLOOKUP($E17,Consolidados!$A$4:$D$1000,Consolidados!D$2,0),0)+IFERROR(VLOOKUP($F17,Consolidados!$A$4:$D$1000,Consolidados!D$2,0),0) -> 1.7210395e+09
H18: Utilidad bruta | I18: =I16-I17 -> 4.6429162e+09 | J18: =J16-J17 -> -7.2372724e+08
A19: 51 | H19: Gasto de adminitración | I19: =IFERROR(VLOOKUP($A19,Consolidados!$A$4:$D$1000,Consolidados!C$2,0),0)+IFERROR(VLOOKUP($B19,Consolidados!$A$4:$D$1000,Consolidados!C$2,0),0)+IFERROR(VLOOKUP($C19,Consolidados!$A$4:$D$1000,Consolidados!C$2,0),0)+IFERROR(VLOOKUP($D19,Consolidados!$A$4:$D$1000,Consolidados!C$2,0),0)+IFERROR(VLOOKUP($E19,Consolidados!$A$4:$D$1000,Consolidados!C$2,0),0)+IFERROR(VLOOKUP($F19,Consolidados!$A$4:$D$1000,Consolidados!C$2,0),0) -> 2.8333203e+08 | J19: =IFERROR(VLOOKUP($A19,Consolidados!$A$4:$D$1000,Consolidados!D$2,0),0)+IFERROR(VLOOKUP($B19,Consolidados!$A$4:$D$1000,Consolidados!D$2,0),0)+IFERROR(VLOOKUP($C19,Consolidados!$A$4:$D$1000,Consolidados!D$2,0),0)+IFERROR(VLOOKUP($D19,Consolidados!$A$4:$D$1000,Consolidados!D$2,0),0)+IFERROR(VLOOKUP($E19,Consolidados!$A$4:$D$1000,Consolidados!D$2,0),0)+IFERROR(VLOOKUP($F19,Consolidados!$A$4:$D$1000,Consolidados!D$2,0),0) -> 5.7210833e+08
A20: 52 | H20: Gasto de venta | I20: =IFERROR(VLOOKUP($A20,Consolidados!$A$4:$D$1000,Consolidados!C$2,0),0)+IFERROR(VLOOKUP($B20,Consolidados!$A$4:$D$1000,Consolidados!C$2,0),0)+IFERROR(VLOOKUP($C20,Consolidados!$A$4:$D$1000,Consolidados!C$2,0),0)+IFERROR(VLOOKUP($D20,Consolidados!$A$4:$D$1000,Consolidados!C$2,0),0)+IFERROR(VLOOKUP($E20,Consolidados!$A$4:$D$1000,Consolidados!C$2,0),0)+IFERROR(VLOOKUP($F20,Consolidados!$A$4:$D$1000,Consolidados!C$2,0),0) -> 116617550 | J20: =IFERROR(VLOOKUP($A20,Consolidados!$A$4:$D$1000,Consolidados!D$2,0),0)+IFERROR(VLOOKUP($B20,Consolidados!$A$4:$D$1000,Consolidados!D$2,0),0)+IFERROR(VLOOKUP($C20,Consolidados!$A$4:$D$1000,Consolidados!D$2,0),0)+IFERROR(VLOOKUP($D20,Consolidados!$A$4:$D$1000,Consolidados!D$2,0),0)+IFERROR(VLOOKUP($E20,Consolidados!$A$4:$D$1000,Consolidados!D$2,0),0)+IFERROR(VLOOKUP($F20,Consolidados!$A$4:$D$1000,Consolidados!D$2,0),0) -> 185695502
H21: Utilidad operacional (EBIT) | I21: =I18-I19-I20 -> 4.2429666e+09 | J21: =J18-J19-J20 -> -1.4815311e+09
A22: 42 | H22: Ingresos no operacionales | I22: =IFERROR(VLOOKUP($A22,Consolidados!$A$4:$D$1000,Consolidados!C$2,0),0)+IFERROR(VLOOKUP($B22,Consolidados!$A$4:$D$1000,Consolidados!C$2,0),0)+IFERROR(VLOOKUP($C22,Consolidados!$A$4:$D$1000,Consolidados!C$2,0),0)+IFERROR(VLOOKUP($D22,Consolidados!$A$4:$D$1000,Consolidados!C$2,0),0)+IFERROR(VLOOKUP($E22,Consolidados!$A$4:$D$1000,Consolidados!C$2,0),0)+IFERROR(VLOOKUP($F22,Consolidados!$A$4:$D$1000,Consolidados!C$2,0),0) -> 21714070 | J22: =IFERROR(VLOOKUP($A22,Consolidados!$A$4:$D$1000,Consolidados!D$2,0),0)+IFERROR(VLOOKUP($B22,Consolidados!$A$4:$D$1000,Consolidados!D$2,0),0)+IFERROR(VLOOKUP($C22,Consolidados!$A$4:$D$1000,Consolidados!D$2,0),0)+IFERROR(VLOOKUP($D22,Consolidados!$A$4:$D$1000,Consolidados!D$2,0),0)+IFERROR(VLOOKUP($E22,Consolidados!$A$4:$D$1000,Consolidados!D$2,0),0)+IFERROR(VLOOKUP($F22,Consolidados!$A$4:$D$1000,Consolidados!D$2,0),0) -> 1.7262881e+08
A23: 53 | H23: Gasto no operacionales | I23: =IFERROR(VLOOKUP($A23,Consolidados!$A$4:$D$1000,Consolidados!C$2,0),0)+IFERROR(VLOOKUP($B23,Consolidados!$A$4:$D$1000,Consolidados!C$2,0),0)+IFERROR(VLOOKUP($C23,Consolidados!$A$4:$D$1000,Consolidados!C$2,0),0)+IFERROR(VLOOKUP($D23,Consolidados!$A$4:$D$1000,Consolidados!C$2,0),0)+IFERROR(VLOOKUP($E23,Consolidados!$A$4:$D$1000,Consolidados!C$2,0),0)+IFERROR(VLOOKUP($F23,Consolidados!$A$4:$D$1000,Consolidados!C$2,0),0) -> 11922229 | J23: =IFERROR(VLOOKUP($A23,Consolidados!$A$4:$D$1000,Consolidados!D$2,0),0)+IFERROR(VLOOKUP($B23,Consolidados!$A$4:$D$1000,Consolidados!D$2,0),0)+IFERROR(VLOOKUP($C23,Consolidados!$A$4:$D$1000,Consolidados!D$2,0),0)+IFERROR(VLOOKUP($D23,Consolidados!$A$4:$D$1000,Consolidados!D$2,0),0)+IFERROR(VLOOKUP($E23,Consolidados!$A$4:$D$1000,Consolidados!D$2,0),0)+IFERROR(VLOOKUP($F23,Consolidados!$A$4:$D$1000,Consolidados!D$2,0),0) -> 30685043
H24: Utilidad antes de impuesto | I24: =I21+I22-I23 -> 4.2527585e+09 | J24: =J21+J22-J23 -> -1.3395873e+09
A25: 54 | H25: Gasto por impuesto | I25: =IFERROR(VLOOKUP($A25,Consolidados!$A$4:$D$1000,Consolidados!C$2,0),0)+IFERROR(VLOOKUP($B25,Consolidados!$A$4:$D$1000,Consolidados!C$2,0),0)+IFERROR(VLOOKUP($C25,Consolidados!$A$4:$D$1000,Consolidados!C$2,0),0)+IFERROR(VLOOKUP($D25,Consolidados!$A$4:$D$1000,Consolidados!C$2,0),0)+IFERROR(VLOOKUP($E25,Consolidados!$A$4:$D$1000,Consolidados!C$2,0),0)+IFERROR(VLOOKUP($F25,Consolidados!$A$4:$D$1000,Consolidados!C$2,0),0) -> 0 | J25: =IFERROR(VLOOKUP($A25,Consolidados!$A$4:$D$1000,Consolidados!D$2,0),0)+IFERROR(VLOOKUP($B25,Consolidados!$A$4:$D$1000,Consolidados!D$2,0),0)+IFERROR(VLOOKUP($C25,Consolidados!$A$4:$D$1000,Consolidados!D$2,0),0)+IFERROR(VLOOKUP($D25,Consolidados!$A$4:$D$1000,Consolidados!D$2,0),0)+IFERROR(VLOOKUP($E25,Consolidados!$A$4:$D$1000,Consolidados!D$2,0),0)+IFERROR(VLOOKUP($F25,Consolidados!$A$4:$D$1000,Consolidados!D$2,0),0) -> 0
H26: Utilidad neta | I26: =I24-I25 -> 4.2527585e+09 | J26: =J24-J25 -> -1.3395873e+09
H27: Gastos financieros (intereses) | I27: =IFERROR(VLOOKUP($A27,Consolidados!$A$4:$D$1000,Consolidados!C$2,0),0)+IFERROR(VLOOKUP($B27,Consolidados!$A$4:$D$1000,Consolidados!C$2,0),0)+IFERROR(VLOOKUP($C27,Consolidados!$A$4:$D$1000,Consolidados!C$2,0),0)+IFERROR(VLOOKUP($D27,Consolidados!$A$4:$D$1000,Consolidados!C$2,0),0)+IFERROR(VLOOKUP($E27,Consolidados!$A$4:$D$1000,Consolidados!C$2,0),0)+IFERROR(VLOOKUP($F27,Consolidados!$A$4:$D$1000,Consolidados!C$2,0),0) -> 0 | J27: =IFERROR(VLOOKUP($A27,Consolidados!$A$4:$D$1000,Consolidados!D$2,0),0)+IFERROR(VLOOKUP($B27,Consolidados!$A$4:$D$1000,Consolidados!D$2,0),0)+IFERROR(VLOOKUP($C27,Consolidados!$A$4:$D$1000,Consolidados!D$2,0),0)+IFERROR(VLOOKUP($D27,Consolidados!$A$4:$D$1000,Consolidados!D$2,0),0)+IFERROR(VLOOKUP($E27,Consolidados!$A$4:$D$1000,Consolidados!D$2,0),0)+IFERROR(VLOOKUP($F27,Consolidados!$A$4:$D$1000,Consolidados!D$2,0),0) -> 0
A28: 5160 | H28: Gastos por depreciación | I28: =IFERROR(VLOOKUP($A28,Consolidados!$A$4:$D$1000,Consolidados!C$2,0),0)+IFERROR(VLOOKUP($B28,Consolidados!$A$4:$D$1000,Consolidados!C$2,0),0)+IFERROR(VLOOKUP($C28,Consolidados!$A$4:$D$1000,Consolidados!C$2,0),0)+IFERROR(VLOOKUP($D28,Consolidados!$A$4:$D$1000,Consolidados!C$2,0),0)+IFERROR(VLOOKUP($E28,Consolidados!$A$4:$D$1000,Consolidados!C$2,0),0)+IFERROR(VLOOKUP($F28,Consolidados!$A$4:$D$1000,Consolidados!C$2,0),0) -> 6986759.1 | J28: =IFERROR(VLOOKUP($A28,Consolidados!$A$4:$D$1000,Consolidados!D$2,0),0)+IFERROR(VLOOKUP($B28,Consolidados!$A$4:$D$1000,Consolidados!D$2,0),0)+IFERROR(VLOOKUP($C28,Consolidados!$A$4:$D$1000,Consolidados!D$2,0),0)+IFERROR(VLOOKUP($D28,Consolidados!$A$4:$D$1000,Consolidados!D$2,0),0)+IFERROR(VLOOKUP($E28,Consolidados!$A$4:$D$1000,Consolidados!D$2,0),0)+IFERROR(VLOOKUP($F28,Consolidados!$A$4:$D$1000,Consolidados!D$2,0),0) -> 14533801
G32: Concepto | I32: Diciembre | J32: Enero
C33: Activo corriente - Pasivo corriente | G33: Liquidez | H33: Capital de trabajo | I33: =I3-I4 -> 7.2390557e+09 | J33: =J3-J4 -> 7.5547771e+09
C34: (Activo financiero -invetario) /pasivo corriente | H34: Razón corriente | I34: =I3/I4 -> 6.0272557 | J34: =J3/J4 -> 5.5767805
C35: Activo financiero /pasivo corriente | H35: Prueba acida | I35: =(I3-I6)/I4 -> 3.6341185 | J35: =(J3-J6)/J4 -> 3.1077425
C36: Efectivo y equivalentes al efectivo /pasivos corriente | H36: Razon de efectivo | I36: =IFERROR((I5/I4),0) -> 1.8344455 | J36: =IFERROR((J5/J4),0) -> 1.6194623
G38: Concepto | I38: Diciembre | J38: Enero
C39: Total pasivo / total de activo | G39: Apalancamiento | H39: Deuda de activos | I39: =IFERROR(I11/I10,0) -> 0.44606733 | J39: =IFERROR(J11/J10,0) -> 0.48721097
C40: Obligaciones financieras / total de activo | H40: Razón de deuda financiera a activos | I40: =IFERROR(I14/I3,0) -> 0 | J40: =IFERROR(J14/J3,0) -> 0
C41: Indicador es este mes dividido en el mes atenterior - 1 | H41: Crecimiento/reducción deuda financiera (%) | I41: 0 | J41: =IFERROR(J40/I40-1,0) -> 0
C42: Gastos financieros / obligacion financiera | H42: Costo implícito deuda financiera (%) | I42: =IFERROR(I27/I14,0) -> 0 | J42: =IFERROR(J27/J14,0) -> 0
C43: Total pasivo divido total patrimonio | H43: Razón de deuda a patrimonio | I43: =IFERROR(I11/I13,0) -> 0.77895327 | J43: =IFERROR(J11/J13,0) -> 0.88589128
C44: Total cartera divido total patrimonio | H44: Relación de cartera a patrimonio | I44: =IFERROR(I7/I13,0) -> 0.18283816 | J44: =IFERROR(J7/J13,0) -> 0.17332794
G46: Concepto | I46: Diciembre | J46: Enero
C47: Utilidad bruta/Ingresos | G47: Rentabilidad | H47: Margen bruto | I47: =IFERROR(I18/I16,0) -> 0.85863445 | J47: =IFERROR(J18/J16,0) -> -0.72567768
...

Sheet Consolidados
C1: =+VLOOKUP(1,$A4:D1063,C$2,0)-VLOOKUP(2,$A4:D1063,C$2,0)-VLOOKUP(3,$A4:D1063,C$2,0)-VLOOKUP(4,$A4:D1063,C$2,0)+VLOOKUP(5,$A4:D1063,C$2,0)+VLOOKUP(6,$A4:D1063,C$2,0)+VLOOKUP(7,$A4:D1063,C$2,0) -> -9.7331864e+09 | D1: =+VLOOKUP(1,$A4:E1063,D$2,0)-VLOOKUP(2,$A4:E1063,D$2,0)-VLOOKUP(3,$A4:E1063,D$2,0)-VLOOKUP(4,$A4:E1063,D$2,0)+VLOOKUP(5,$A4:E1063,D$2,0)+VLOOKUP(6,$A4:E1063,D$2,0)+VLOOKUP(7,$A4:E1063,D$2,0) -> 0
B2: 2 | C2: 3 | D2: 4
A3: PUC | B3: Cuenta | C3: Enero | D3: Febrero
A4: =+Taxonomia!B3 -> 1 | B4: =+Taxonomia!C3 -> Activo | C4: =IFERROR(VLOOKUP(A4,Balances!$A$2:$F$1502,6,0),0) -> 2.4750769e+10 | D4: =IFERROR(VLOOKUP(A4,Balances!$G$3:$L$692,6,0),0) -> 2.5771582e+10
A5: =+Taxonomia!B4 -> 11 | B5: =+Taxonomia!C4 -> CAJA | C5: =IFERROR(VLOOKUP(A5,Balances!$A$2:$F$1502,6,0),0) -> 2.6415312e+09 | D5: =IFERROR(VLOOKUP(A5,Balances!$G$3:$L$692,6,0),0) -> 2.6732059e+09
A6: =+Taxonomia!B5 -> 1105 | B6: =+Taxonomia!C5 -> CAJA | C6: =IFERROR(VLOOKUP(A6,Balances!$A$2:$F$1502,6,0),0) -> 21859594 | D6: =IFERROR(VLOOKUP(A6,Balances!$G$3:$L$692,6,0),0) -> 80098566
A7: =+Taxonomia!B6 -> 110505 | B7: =+Taxonomia!C6 -> CAJA GENERAL | C7: =IFERROR(VLOOKUP(A7,Balances!$A$2:$F$1502,6,0),0) -> 1535174.5 | D7: =IFERROR(VLOOKUP(A7,Balances!$G$3:$L$692,6,0),0) -> 6862466.5
A8: =+Taxonomia!B7 -> 110510 | B8: =+Taxonomia!C7 -> CAJA MENOR BOGOTA | C8: =IFERROR(VLOOKUP(A8,Balances!$A$2:$F$1502,6,0),0) -> 2200000 | D8: =IFERROR(VLOOKUP(A8,Balances!$G$3:$L$692,6,0),0) -> 2200000
A9: =+Taxonomia!B8 -> 110520 | B9: =+Taxonomia!C8 -> MONEDA EXTRAJERA DOLARES | C9: =IFERROR(VLOOKUP(A9,Balances!$A$2:$F$1502,6,0),0) -> 18124420 | D9: =IFERROR(VLOOKUP(A9,Balances!$G$3:$L$692,6,0),0) -> 71036100
A10: =+Taxonomia!B9 -> 1110 | B10: =+Taxonomia!C9 -> BANCOS | C10: =IFERROR(VLOOKUP(A10,Balances!$A$2:$F$1502,6,0),0) -> 18948939 | D10: =IFERROR(VLOOKUP(A10,Balances!$G$3:$L$692,6,0),0) -> 7039763.3
A11: =+Taxonomia!B10 -> 111005 | B11: =+Taxonomia!C10 -> MONEDA NACIONAL | C11: =IFERROR(VLOOKUP(A11,Balances!$A$2:$F$1502,6,0),0) -> 18948939 | D11: =IFERROR(VLOOKUP(A11,Balances!$G$3:$L$692,6,0),0) -> 7039763.3
A12: =+Taxonomia!B11 -> 1120 | B12: =+Taxonomia!C11 -> CUENTAS DE AHORROS | C12: =IFERROR(VLOOKUP(A12,Balances!$A$2:$F$1502,6,0),0) -> 35334703 | D12: =IFERROR(VLOOKUP(A12,Balances!$G$3:$L$692,6,0),0) -> 2.6669752e+08
A13: =+Taxonomia!B12 -> 112005 | B13: =+Taxonomia!C12 -> BANCOS | C13: =IFERROR(VLOOKUP(A13,Balances!$A$2:$F$1502,6,0),0) -> 35334703 | D13: =IFERROR(VLOOKUP(A13,Balances!$G$3:$L$692,6,0),0) -> 2.6669752e+08
A14: =+Taxonomia!B13 -> 1130 | B14: =+Taxonomia!C13 -> FIDEICOMISOS | C14: =IFERROR(VLOOKUP(A14,Balances!$A$2:$F$1502,6,0),0) -> 2.565388e+09 | D14: =IFERROR(VLOOKUP(A14,Balances!$G$3:$L$692,6,0),0) -> 2.31937e+09
A15: =+Taxonomia!B14 -> 113005 | B15: =+Taxonomia!C14 -> ALIANZA FIDUCIARIA 130165090 | C15: =IFERROR(VLOOKUP(A15,Balances!$A$2:$F$1502,6,0),0) -> 2.565388e+09 | D15: =IFERROR(VLOOKUP(A15,Balances!$G$3:$L$692,6,0),0) -> 2.31937e+09
... A82: =+Taxonomia!B81 -> 169801 | B82: =+Taxonomia!C81 -> LICENCIA SOFTWARW | C82: =IFERROR(VLOOKUP(A82,Balances!$A$2:$F$1502,6,0),0) -> -45611334 | D82: =IFERROR(VLOOKUP(A82,Balances!$G$3:$L$692,6,0),0) -> -45611334
A83: =+Taxonomia!B82 -> 2 | B83: =+Taxonomia!C82 -> Pasivo | C83: =-IFERROR(VLOOKUP(A83,Balances!$A$2:$F$1502,6,0),0) -> 1.104051e+10 | D83: =-IFERROR(VLOOKUP(A83,Balances!$G$3:$L$692,6,0),0) -> 1.2556198e+10
A84: =+Taxonomia!B83 -> 22 | B84: =+Taxonomia!C83 -> PROVEEDORES | C84: =-IFERROR(VLOOKUP(A84,Balances!$A$2:$F$1502,6,0),0) -> 5.0970213e+08 | D84: =-IFERROR(VLOOKUP(A84,Balances!$G$3:$L$692,6,0),0) -> 990578580
A85: =+Taxonomia!B84 -> 2205 | B85: =+Taxonomia!C84 -> NACIONALES | C85: =-IFERROR(VLOOKUP(A85,Balances!$A$2:$F$1502,6,0),0) -> 318403150 | D85: =-IFERROR(VLOOKUP(A85,Balances!$G$3:$L$692,6,0),0) -> 532602756
A86: =+Taxonomia!B85 -> 220505 | B86: =+Taxonomia!C85 -> PROVEEDORES NACIONALES | C86: =-IFERROR(VLOOKUP(A86,Balances!$A$2:$F$1502,6,0),0) -> 318403150 | D86: =-IFERROR(VLOOKUP(A86,Balances!$G$3:$L$692,6,0),0) -> 532602756
A87: =+Taxonomia!B86 -> 2210 | B87: =+Taxonomia!C86 -> DEL EXTERIOR | C87: =-IFERROR(VLOOKUP(A87,Balances!$A$2:$F$1502,6,0),0) -> 1.9129898e+08 | D87: =-IFERROR(VLOOKUP(A87,Balances!$G$3:$L$692,6,0),0) -> 457975824
A88: =+Taxonomia!B87 -> 221001 | B88: =+Taxonomia!C87 -> PROVEEDORES DEL EXTERIOR | C88: =-IFERROR(VLOOKUP(A88,Balances!$A$2:$F$1502,6,0),0) -> 1.9129898e+08 | D88: =-IFERROR(VLOOKUP(A88,Balances!$G$3:$L$692,6,0),0) -> 457975824
A89: =+Taxonomia!B88 -> 23 | B89: =+Taxonomia!C88 -> CUENTAS POR PAGAR | C89: =-IFERROR(VLOOKUP(A89,Balances!$A$2:$F$1502,6,0),0) -> 434064320 | D89: =-IFERROR(VLOOKUP(A89,Balances!$G$3:$L$692,6,0),0) -> 379174640
A90: =+Taxonomia!B89 -> 2335 | B90: =+Taxonomia!C89 -> COSTOS Y GASTOS POR PAGAR | C90: =-IFERROR(VLOOKUP(A90,Balances!$A$2:$F$1502,6,0),0) -> 308434494 | D90: =-IFERROR(VLOOKUP(A90,Balances!$G$3:$L$692,6,0),0) -> 280701300
A91: =+Taxonomia!B90 -> 233570 | B91: =+Taxonomia!C90 -> SERVICIOS ADUANEROS | C91: =-IFERROR(VLOOKUP(A91,Balances!$A$2:$F$1502,6,0),0) -> 43456000 | D91: =-IFERROR(VLOOKUP(A91,Balances!$G$3:$L$692,6,0),0) -> 30514000
A92: =+Taxonomia!B91 -> 233595 | B92: =+Taxonomia!C91 -> OTROS | C92: =-IFERROR(VLOOKUP(A92,Balances!$A$2:$F$1502,6,0),0) -> 264978494 | D92: =-IFERROR(VLOOKUP(A92,Balances!$G$3:$L$692,6,0),0) -> 250187300
A93: =+Taxonomia!B92 -> 2355 | B93: =+Taxonomia!C92 -> DEUDAS CON ACCIONISTAS O SOCIOS | C93: =-IFERROR(VLOOKUP(A93,Balances!$A$2:$F$1502,6,0),0) -> 0 | D93: =-IFERROR(VLOOKUP(A93,Balances!$G$3:$L$692,6,0),0) -> 0
A94: =+Taxonomia!B93 -> 235515 | B94: =+Taxonomia!C93 -> SOCIOS | C94: =-IFERROR(VLOOKUP(A94,Balances!$A$2:$F$1502,6,0),0) -> 0 | D94: =-IFERROR(VLOOKUP(A94,Balances!$G$3:$L$692,6,0),0) -> 0
... A190: =+Taxonomia!B189 -> 429581 | B190: =+Taxonomia!C189 -> AJUSTE AL PESO | C190: =-IFERROR(VLOOKUP(A190,Balances!$A$2:$F$1502,6,0),0) -> 339.34 | D190: =-IFERROR(VLOOKUP(A190,Balances!$G$3:$L$692,6,0),0) -> 836.86
A191: =+Taxonomia!B190 -> 5 | B191: =+Taxonomia!C190 -> Gastos | C191: =IFERROR(VLOOKUP(A191,Balances!$A$2:$F$1502,6,0),0) -> 8.2374361e+08 | D191: =IFERROR(VLOOKUP(A191,Balances!$G$3:$L$692,6,0),0) -> 1.5769778e+09
A192: =+Taxonomia!B191 -> 51 | B192: =+Taxonomia!C191 -> GASTOS DE ADMINISTRACION | C192: =IFERROR(VLOOKUP(A192,Balances!$A$2:$F$1502,6,0),0) -> 2.8333203e+08 | D192: =IFERROR(VLOOKUP(A192,Balances!$G$3:$L$692,6,0),0) -> 5.7210833e+08
A193: =+Taxonomia!B192 -> 5105 | B193: =+Taxonomia!C192 -> GASTOS DE PERSONAL | C193: =IFERROR(VLOOKUP(A193,Balances!$A$2:$F$1502,6,0),0) -> 225257576 | D193: =IFERROR(VLOOKUP(A193,Balances!$G$3:$L$692,6,0),0) -> 414874584
A194: =+Taxonomia!B193 -> 510506 | B194: =+Taxonomia!C193 -> SUELDOS DE PERSONAL | C194: =IFERROR(VLOOKUP(A194,Balances!$A$2:$F$1502,6,0),0) -> 110139066 | D194: =IFERROR(VLOOKUP(A194,Balances!$G$3:$L$692,6,0),0) -> 226570666
A195: =+Taxonomia!B194 -> 510515 | B195: =+Taxonomia!C194 -> HORAS EXTRAS Y RECARGOS | C195: =IFERROR(VLOOKUP(A195,Balances!$A$2:$F$1502,6,0),0) -> 6626 | D195: =IFERROR(VLOOKUP(A195,Balances!$G$3:$L$692,6,0),0) -> 6626
A196: =+Taxonomia!B195 -> 510518 | B196: =+Taxonomia!C195 -> COMISIONES | C196: =IFERROR(VLOOKUP(A196,Balances!$A$2:$F$1502,6,0),0) -> 35856688 | D196: =IFERROR(VLOOKUP(A196,Balances!$G$3:$L$692,6,0),0) -> 50373912
A197: =+Taxonomia!B196 -> 510524 | B197: =+Taxonomia!C196 -> INCAPACIDADES | C197: =IFERROR(VLOOKUP(A197,Balances!$A$2:$F$1502,6,0),0) -> 200000 | D197: =IFERROR(VLOOKUP(A197,Balances!$G$3:$L$692,6,0),0) -> 200000
A198: =+Taxonomia!B197 -> 510527 | B198: =+Taxonomia!C197 -> AUXILIO DE TRANSPORTE | C198: =IFERROR(VLOOKUP(A198,Balances!$A$2:$F$1502,6,0),0) -> 1469066 | D198: =IFERROR(VLOOKUP(A198,Balances!$G$3:$L$692,6,0),0) -> 2959422
A199: =+Taxonomia!B198 -> 510530 | B199: =+Taxonomia!C198 -> CESANTIAS | C199: =IFERROR(VLOOKUP(A199,Balances!$A$2:$F$1502,6,0),0) -> 12907766 | D199: =IFERROR(VLOOKUP(A199,Balances!$G$3:$L$692,6,0),0) -> 21374298
A200: =+Taxonomia!B199 -> 510533 | B200: =+Taxonomia!C199 -> INTERESES SOBRE CESANTIAS | C200: =IFERROR(VLOOKUP(A200,Balances!$A$2:$F$1502,6,0),0) -> 129060 | D200: =IFERROR(VLOOKUP(A200,Balances!$G$3:$L$692,6,0),0) -> 213712
A201: =+Taxonomia!B200 -> 510536 | B201: =+Taxonomia!C200 -> PRIMA DE SERVICIOS | C201: =IFERROR(VLOOKUP(A201,Balances!$A$2:$F$1502,6,0),0) -> 12907766 | D201: =IFERROR(VLOOKUP(A201,Balances!$G$3:$L$692,6,0),0) -> 21374298
...

Sheet Hoja2
A1: Enero | B1: 3 | C1: 1 | E1: Flujo de efectivo
A2: Febrero | B2: 4 | C2: =+C1+1 -> 2 | E2: 11 | F2: Efectivo y equivalente al efectivo | G2: =+VLOOKUP(E2,Consolidados!$A:$D,#REF!,0) -> #REF!
A3: Marzo | B3: =+B2+1 -> 5 | C3: =+C2+1 -> 3 | E3: 11 | F3: Efectivo y equivalente al efectivo | G3: =+VLOOKUP(E3,Consolidados!$A:$D,#REF!-1,0) -> #REF!
A4: Abril | B4: =+B3+1 -> 6 | C4: =+C3+1 -> 4
A5: Mayo | B5: =+B4+1 -> 7 | C5: =+C4+1 -> 5 | E5: PUC | F5: Concepto | G5: Actual | H5: Anterior | I5: Diferencia | J5: Actividades
A6: Junio | B6: =+B5+1 -> 8 | C6: =+C5+1 -> 6 | E6: 11 | F6: =IFERROR(VLOOKUP($E6,Taxonomia!$B:$C,2,0),0) -> CAJA | G6: =IFERROR(VLOOKUP(E6,Consolidados!$A:$D,#REF!,0),0) -> 0 | H6: =IFERROR(VLOOKUP(E6,Consolidados!$A:$D,#REF!-1,0),0) -> 0 | I6: =+G6-H6 -> 0
A7: Julio | B7: =+B6+1 -> 9 | C7: =+C6+1 -> 7 | E7: 12 | F7: =IFERROR(VLOOKUP($E7,Taxonomia!$B:$C,2,0),0) -> 0 | G7: =IFERROR(VLOOKUP(E7,Consolidados!$A:$D,#REF!,0),0) -> 0 | H7: =IFERROR(VLOOKUP(E7,Consolidados!$A:$D,#REF!-1,0),0) -> 0 | I7: =+G7-H7 -> 0 | J7: Inversión
A8: Agosto | B8: =+B7+1 -> 10 | C8: =+C7+1 -> 8 | E8: 13 | F8: =IFERROR(VLOOKUP($E8,Taxonomia!$B:$C,2,0),0) -> DEUDORES | G8: =IFERROR(VLOOKUP(E8,Consolidados!$A:$D,#REF!,0),0) -> 0 | H8: =IFERROR(VLOOKUP(E8,Consolidados!$A:$D,#REF!-1,0),0) -> 0 | I8: =+G8-H8 -> 0 | J8: Operación
A9: Septiembre | B9: =+B8+1 -> 11 | C9: =+C8+1 -> 9 | E9: 14 | F9: =IFERROR(VLOOKUP($E9,Taxonomia!$B:$C,2,0),0) -> INVENTARIO | G9: =IFERROR(VLOOKUP(E9,Consolidados!$A:$D,#REF!,0),0) -> 0 | H9: =IFERROR(VLOOKUP(E9,Consolidados!$A:$D,#REF!-1,0),0) -> 0 | I9: =+G9-H9 -> 0 | J9: Operación
A10: Octubre | B10: =+B9+1 -> 12 | C10: =+C9+1 -> 10 | E10: 15 | F10: =IFERROR(VLOOKUP($E10,Taxonomia!$B:$C,2,0),0) -> PROPIEDADES PLANTA Y EQUIPO | G10: =IFERROR(VLOOKUP(E10,Consolidados!$A:$D,#REF!,0),0) -> 0 | H10: =IFERROR(VLOOKUP(E10,Consolidados!$A:$D,#REF!-1,0),0) -> 0 | I10: =+G10-H10 -> 0 | J10: Inversión
A11: Noviembre | B11: =+B10+1 -> 13 | C11: =+C10+1 -> 11 | E11: 16 | F11: =IFERROR(VLOOKUP($E11,Taxonomia!$B:$C,2,0),0) -> INTANGIBLES | G11: =IFERROR(VLOOKUP(E11,Consolidados!$A:$D,#REF!,0),0) -> 0 | H11: =IFERROR(VLOOKUP(E11,Consolidados!$A:$D,#REF!-1,0),0) -> 0 | I11: =+G11-H11 -> 0 | J11: Inversión
A12: Diciembre | B12: =+B11+1 -> 14 | C12: =+C11+1 -> 12 | E12: 17 | F12: =IFERROR(VLOOKUP($E12,Taxonomia!$B:$C,2,0),0) -> 0 | G12: =IFERROR(VLOOKUP(E12,Consolidados!$A:$D,#REF!,0),0) -> 0 | H12: =IFERROR(VLOOKUP(E12,Consolidados!$A:$D,#REF!-1,0),0) -> 0 | I12: =+G12-H12 -> 0 | J12: Inversión
E13: 18 | F13: =IFERROR(VLOOKUP($E13,Taxonomia!$B:$C,2,0),0) -> 0 | G13: =IFERROR(VLOOKUP(E13,Consolidados!$A:$D,#REF!,0),0) -> 0 | H13: =IFERROR(VLOOKUP(E13,Consolidados!$A:$D,#REF!-1,0),0) -> 0 | I13: =+G13-H13 -> 0 | J13: Inversión
E14: 19 | F14: =IFERROR(VLOOKUP($E14,Taxonomia!$B:$C,2,0),0) -> 0 | G14: =IFERROR(VLOOKUP(E14,Consolidados!$A:$D,#REF!,0),0) -> 0 | H14: =IFERROR(VLOOKUP(E14,Consolidados!$A:$D,#REF!-1,0),0) -> 0 | I14: =+G14-H14 -> 0 | J14: Inversión
E15: 21 | F15: =IFERROR(VLOOKUP($E15,Taxonomia!$B:$C,2,0),0) -> 0 | G15: =IFERROR(VLOOKUP(E15,Consolidados!$A:$D,#REF!,0),0) -> 0 | H15: =IFERROR(VLOOKUP(E15,Consolidados!$A:$D,#REF!-1,0),0) -> 0 | I15: =+G15-H15 -> 0 | J15: Financiación
A16: 11 | B16: =VLOOKUP($A16,Taxonomia!$B:$C,2,0) -> CAJA | C16: =+VLOOKUP(A16,Consolidados!$A:$D,#REF!,0) -> #REF! | E16: 22 | F16: =IFERROR(VLOOKUP($E16,Taxonomia!$B:$C,2,0),0) -> PROVEEDORES | G16: =IFERROR(VLOOKUP(E16,Consolidados!$A:$D,#REF!,0),0) -> 0 | H16: =IFERROR(VLOOKUP(E16,Consolidados!$A:$D,#REF!-1,0),0) -> 0 | I16: =+G16-H16 -> 0 | J16: Operación
A17: 13 | B17: =VLOOKUP($A17,Taxonomia!$B:$C,2,0) -> DEUDORES | C17: =+VLOOKUP(A17,Consolidados!$A:$D,#REF!,0) -> #REF! | E17: 23 | F17: =IFERROR(VLOOKUP($E17,Taxonomia!$B:$C,2,0),0) -> CUENTAS POR PAGAR | G17: =IFERROR(VLOOKUP(E17,Consolidados!$A:$D,#REF!,0),0) -> 0 | H17: =IFERROR(VLOOKUP(E17,Consolidados!$A:$D,#REF!-1,0),0) -> 0 | I17: =+G17-H17 -> 0 | J17: Operación
A18: 14 | B18: =VLOOKUP($A18,Taxonomia!$B:$C,2,0) -> INVENTARIO | C18: =+VLOOKUP(A18,Consolidados!$A:$D,#REF!,0) -> #REF! | E18: 24 | F18: =IFERROR(VLOOKUP($E18,Taxonomia!$B:$C,2,0),0) -> IMPUESTOS GRAVAMENES Y TASAS | G18: =IFERROR(VLOOKUP(E18,Consolidados!$A:$D,#REF!,0),0) -> 0 | H18: =IFERROR(VLOOKUP(E18,Consolidados!$A:$D,#REF!-1,0),0) -> 0 | I18: =+G18-H18 -> 0 | J18: Operación
A19: 15 | B19: =VLOOKUP($A19,Taxonomia!$B:$C,2,0) -> PROPIEDADES PLANTA Y EQUIPO | C19: =+VLOOKUP(A19,Consolidados!$A:$D,#REF!,0) -> #REF! | E19: 25 | F19: =IFERROR(VLOOKUP($E19,Taxonomia!$B:$C,2,0),0) -> OBLIGACIONES LABORALES | G19: =IFERROR(VLOOKUP(E19,Consolidados!$A:$D,#REF!,0),0) -> 0 | H19: =IFERROR(VLOOKUP(E19,Consolidados!$A:$D,#REF!-1,0),0) -> 0 | I19: =+G19-H19 -> 0 | J19: Operación
A20: 16 | B20: =VLOOKUP($A20,Taxonomia!$B:$C,2,0) -> INTANGIBLES | C20: =+VLOOKUP(A20,Consolidados!$A:$D,#REF!,0) -> #REF! | E20: 26 | F20: =IFERROR(VLOOKUP($E20,Taxonomia!$B:$C,2,0),0) -> 0 | G20: =IFERROR(VLOOKUP(E20,Consolidados!$A:$D,#REF!,0),0) -> 0 | H20: =IFERROR(VLOOKUP(E20,Consolidados!$A:$D,#REF!-1,0),0) -> 0 | I20: =+G20-H20 -> 0 | J20: Operación
E21: 27 | F21: =IFERROR(VLOOKUP($E21,Taxonomia!$B:$C,2,0),0) -> IMPUESTOS DIFERIDOS | G21: =IFERROR(VLOOKUP(E21,Consolidados!$A:$D,#REF!,0),0) -> 0 | H21: =IFERROR(VLOOKUP(E21,Consolidados!$A:$D,#REF!-1,0),0) -> 0 | I21: =+G21-H21 -> 0 | J21: Operación
E22: 28 | F22: =IFERROR(VLOOKUP($E22,Taxonomia!$B:$C,2,0),0) -> OTROS PASIVOS | G22: =IFERROR(VLOOKUP(E22,Consolidados!$A:$D,#REF!,0),0) -> 0 | H22: =IFERROR(VLOOKUP(E22,Consolidados!$A:$D,#REF!-1,0),0) -> 0 | I22: =+G22-H22 -> 0 | J22: Operación
A23: 1 | B23: Activo | C23: =+VLOOKUP(A23,Consolidados!$A:$D,#REF!,0) -> #REF! | E23: 29 | F23: =IFERROR(VLOOKUP($E23,Taxonomia!$B:$C,2,0),0) -> 0 | G23: =IFERROR(VLOOKUP(E23,Consolidados!$A:$D,#REF!,0),0) -> 0 | H23: =IFERROR(VLOOKUP(E23,Consolidados!$A:$D,#REF!-1,0),0) -> 0 | I23: =+G23-H23 -> 0 | J23: Operación
A24: 2 | B24: Pasivo | C24: =+VLOOKUP(A24,Consolidados!$A:$D,#REF!,0) -> #REF! | E24: 31 | F24: =IFERROR(VLOOKUP($E24,Taxonomia!$B:$C,2,0),0) -> CAPITAL SOCIAL | G24: =IFERROR(VLOOKUP(E24,Consolidados!$A:$D,#REF!,0),0) -> 0 | H24: =IFERROR(VLOOKUP(E24,Consolidados!$A:$D,#REF!-1,0),0) -> 0 | I24: =+G24-H24 -> 0 | J24: Financiación
A25: 3 | B25: Patrimonio | C25: =+VLOOKUP(A25,Consolidados!$A:$D,#REF!,0) -> #REF! | E25: 32 | F25: =IFERROR(VLOOKUP($E25,Taxonomia!$B:$C,2,0),0) -> 0 | G25: =IFERROR(VLOOKUP(E25,Consolidados!$A:$D,#REF!,0),0) -> 0 | H25: =IFERROR(VLOOKUP(E25,Consolidados!$A:$D,#REF!-1,0),0) -> 0 | I25: =+G25-H25 -> 0 | J25: Financiación
E26: 33 | F26: =IFERROR(VLOOKUP($E26,Taxonomia!$B:$C,2,0),0) -> RESERVAS | G26: =IFERROR(VLOOKUP(E26,Consolidados!$A:$D,#REF!,0),0) -> 0 | H26: =IFERROR(VLOOKUP(E26,Consolidados!$A:$D,#REF!-1,0),0) -> 0 | I26: =+G26-H26 -> 0 | J26: Financiación
A27: 4 | B27: Ingresos | C27: =+VLOOKUP(A27,Consolidados!$A:$D,#REF!,0) -> #REF! | E27: 34 | F27: =IFERROR(VLOOKUP($E27,Taxonomia!$B:$C,2,0),0) -> 0 | G27: =IFERROR(VLOOKUP(E27,Consolidados!$A:$D,#REF!,0),0) -> 0 | H27: =IFERROR(VLOOKUP(E27,Consolidados!$A:$D,#REF!-1,0),0) -> 0 | I27: =+G27-H27 -> 0 | J27: Financiación
A28: 6 | B28: Costos | C28: =IFERROR(VLOOKUP(#REF!,Consolidados!$A:$D,#REF!,0),0)+IFERROR(VLOOKUP(A28,Consolidados!$A:$D,#REF!,0),0) -> 0 | E28: 35 | F28: =IFERROR(VLOOKUP($E28,Taxonomia!$B:$C,2,0),0) -> 0 | G28: =IFERROR(VLOOKUP(E28,Consolidados!$A:$D,#REF!,0),0) -> 0 | H28: =IFERROR(VLOOKUP(E28,Consolidados!$A:$D,#REF!-1,0),0) -> 0 | I28: =+G28-H28 -> 0 | J28: Financiación
A29: 5 | B29: Gastos | C29: =+VLOOKUP(A29,Consolidados!$A:$D,#REF!,0) -> #REF! | E29: 36 | F29: =IFERROR(VLOOKUP($E29,Taxonomia!$B:$C,2,0),0) -> 0 | G29: =IFERROR(VLOOKUP(E29,Consolidados!$A:$D,#REF!,0),0) -> 0 | H29: =IFERROR(VLOOKUP(E29,Consolidados!$A:$D,#REF!-1,0),0) -> 0 | I29: =+G29-H29 -> 0 | J29: Financiación
B30: Utilidad | C30: =+C27-C28-C29 -> #REF! | E30: 37 | F30: =IFERROR(VLOOKUP($E30,Taxonomia!$B:$C,2,0),0) -> RESULTADOS DE EJERCICIOS ANTERIORES | G30: =IFERROR(VLOOKUP(E30,Consolidados!$A:$D,#REF!,0),0) -> 0 | H30: =IFERROR(VLOOKUP(E30,Consolidados!$A:$D,#REF!-1,0),0) -> 0 | I30: =+G30-H30 -> 0 | J30: Financiación
F31: Utilidad | G31: =+G32-G33-G34-G35 -> 0 | H31: =+H32-H33-H34-H35 -> 0 | I31: =+I32-I33-I34-I35 -> 0 | J31: Operación
A32: 22 | B32: =VLOOKUP($A32,Taxonomia!$B:$C,2,0) -> PROVEEDORES | C32: =+VLOOKUP(A32,Consolidados!$A:$D,#REF!,0) -> #REF! | E32: 4 | F32: =IFERROR(VLOOKUP($E32,Taxonomia!$B:$C,2,0),0) -> Ingresos | G32: =IFERROR(VLOOKUP(E32,Consolidados!$A:$D,#REF!,0),0) -> 0 | H32: =IFERROR(VLOOKUP(E32,Consolidados!$A:$D,#REF!-1,0),0) -> 0 | I32: =+G32-H32 -> 0 | J32: Financiación
A33: 23 | B33: =VLOOKUP($A33,Taxonomia!$B:$C,2,0) -> CUENTAS POR PAGAR | C33: =+VLOOKUP(A33,Consolidados!$A:$D,#REF!,0) -> #REF! | E33: 5 | F33: =IFERROR(VLOOKUP($E33,Taxonomia!$B:$C,2,0),0) -> Gastos | G33: =IFERROR(VLOOKUP(E33,Consolidados!$A:$D,#REF!,0),0) -> 0 | H33: =IFERROR(VLOOKUP(E33,Consolidados!$A:$D,#REF!-1,0),0) -> 0 | I33: =+G33-H33 -> 0 | J33: Financiación
A34: 24 | B34: IMPUESTOS | C34: =+VLOOKUP(A34,Consolidados!$A:$D,#REF!,0) -> #REF! | E34: 6 | F34: =IFERROR(VLOOKUP($E34,Taxonomia!$B:$C,2,0),0) -> Costos | G34: =IFERROR(VLOOKUP(E34,Consolidados!$A:$D,#REF!,0),0) -> 0 | H34: =IFERROR(VLOOKUP(E34,Consolidados!$A:$D,#REF!-1,0),0) -> 0 | I34: =+G34-H34 -> 0 | J34: Financiación
A35: 25 | B35: BENEFICIOS A LOS EMPLEADOS | C35: =+VLOOKUP(A35,Consolidados!$A:$D,#REF!,0) -> #REF! | E35: 7 | F35: =IFERROR(VLOOKUP($E35,Taxonomia!$B:$C,2,0),0) -> Costos de produccion | G35: =IFERROR(VLOOKUP(E35,Consolidados!$A:$D,#REF!,0),0) -> 0 | H35: =IFERROR(VLOOKUP(E35,Consolidados!$A:$D,#REF!-1,0),0) -> 0 | I35: =+G35-H35 -> 0 | J35: Financiación
A36: 27 | B36: =VLOOKUP($A36,Taxonomia!$B:$C,2,0) -> IMPUESTOS DIFERIDOS | C36: =+VLOOKUP(A36,Consolidados!$A:$D,#REF!,0) -> #REF!
A37: 28 | B37: =VLOOKUP($A37,Taxonomia!$B:$C,2,0) -> OTROS PASIVOS | C37: =+VLOOKUP(A37,Consolidados!$A:$D,#REF!,0) -> #REF!
E38: 54 | F38: =IFERROR(VLOOKUP($E38,Taxonomia!$B:$C,2,0),0) -> IMPUESTO DE RENTA Y COMPLEMENTARIOS | G38: =IFERROR(VLOOKUP(E38,Consolidados!$A:$D,#REF!,0),0) -> 0
E39: 5160 | F39: =IFERROR(VLOOKUP($E39,Taxonomia!$B:$C,2,0),0) -> DEPRECIACIONES | G39: =IFERROR(VLOOKUP(E39,Consolidados!$A:$D,#REF!,0),0) -> 0
A40: 4120 | B40: =VLOOKUP($A40,Taxonomia!$B:$C,2,0) -> INDUSTRIA MANUFACTURERA | C40: =+VLOOKUP(A40,Consolidados!$A:$D,#REF!,0) -> #REF!
...

Sheet Balances
A1: ENERO | G1: FEBRERO
A2: CUENTA | B2: D E S C R I P C I O N | C2: SALDO INICIAL | D2: DEBITOS | E2: CREDITOS | F2: NUEVO SALDO | G2: CUENTA | H2: D E S C R I P C I O N | I2: SALDO INICIAL | J2: DEBITOS | K2: CREDITOS | L2: NUEVO SALDO
A3: 1 | B3: Activo | C3: =(C4+C21+C47+C60+C93)*2 -> 2.4004746e+10 | D3: =(D4+D21+D47+D60+D93)*2 -> 1.3015519e+10 | E3: =(E4+E21+E47+E60+E93)*2 -> 1.2269496e+10 | F3: =(F4+F21+F47+F60+F93)*2 -> 2.4750769e+10 | G3: 1 | H3: Activo | I3: =(I4+I21+I48+I61+I94)*2 -> 2.4750769e+10 | J3: =(J4+J21+J48+J61+J94)*2 -> 1.0353118e+10 | K3: =(K4+K21+K48+K61+K94)*2 -> 9.3323053e+09 | L3: =(L4+L21+L48+L61+L94)*2 -> 2.5771582e+10
A4: 11 | B4: CAJA | C4: 2.7344733e+09 | D4: 4.3495754e+09 | E4: 4.4425175e+09 | F4: 2.6415312e+09 | G4: 11 | H4: CAJA | I4: 2.6415312e+09 | J4: 2.9685674e+09 | K4: 2.9368928e+09 | L4: 2.6732059e+09
A5: 1105 | B5: CAJA | C5: 38489054 | D5: 1445879622 | E5: 1462509082 | F5: 21859594 | G5: 1105 | H5: CAJA | I5: 21859594 | J5: 1.5793693e+09 | K5: 1.5211304e+09 | L5: 80098566
A6: 110505 | B6: CAJA GENERAL | C6: 8887884.5 | D6: 1425419622 | E6: 1432772332 | F6: 1535174.5 | G6: 110505 | H6: CAJA GENERAL | I6: 1535174.5 | J6: 1.4742036e+09 | K6: 1.4688764e+09 | L6: 6862466.5
A7: 110510 | B7: CAJA MENOR BOGOTA | C7: 2200000 | D7: 0 | E7: 0 | F7: 2200000 | G7: 110510 | H7: CAJA MENOR BOGOTA | I7: 2200000 | J7: 0 | K7: 0 | L7: 2200000
A8: 110520 | B8: MONEDA EXTRAJERA DOLARES | C8: 27401170 | D8: 20460000 | E8: 29736750 | F8: 18124420 | G8: 110520 | H8: MONEDA EXTRAJERA DOLARES | I8: 18124420 | J8: 105165700 | K8: 52254020 | L8: 71036100
A9: 1110 | B9: BANCOS | C9: 26792204 | D9: 35440194 | E9: 43283459 | F9: 18948939 | G9: 1110 | H9: BANCOS | I9: 18948939 | J9: 7635640 | K9: 19544816 | L9: 7039763.3
A10: 111005 | B10: MONEDA NACIONAL | C10: 26792204 | D10: 35440194 | E10: 43283459 | F10: 18948939 | G10: 111005 | H10: MONEDA NACIONAL | I10: 18948939 | J10: 7635640 | K10: 19544816 | L10: 7039763.3
A11: 11100512 | B11: DAVIVIENDA CTA CTE | C11: 26792204 | D11: 35440194 | E11: 43283459 | F11: 18948939 | G11: 11100512 | H11: DAVIVIENDA CTA CTE | I11: 18948939 | J11: 7635640 | K11: 19544816 | L11: 7039763.3
A12: 1120 | B12: CUENTAS DE AHORROS | C12: 84775664 | D12: 2.0659756e+09 | E12: 2.1154166e+09 | F12: 35334703 | G12: 1120 | H12: CUENTAS DE AHORROS | I12: 35334703 | J12: 1.3259059e+09 | K12: 1.094543e+09 | L12: 2.6669752e+08
A13: 112005 | B13: BANCOS | C13: 84775664 | D13: 2.0659756e+09 | E13: 2.1154166e+09 | F13: 35334703 | G13: 112005 | H13: BANCOS | I13: 35334703 | J13: 1.3259059e+09 | K13: 1.094543e+09 | L13: 2.6669752e+08
A14: 11200502 | B14: DAVIVIENDA AHORROS | C14: 84775664 | D14: 2.0659756e+09 | E14: 2.1154166e+09 | F14: 35334703 | G14: 11200502 | H14: DAVIVIENDA AHORROS | I14: 35334703 | J14: 1.3259059e+09 | K14: 1.094543e+09 | L14: 2.6669752e+08
A15: 1130 | B15: FIDEICOMISOS | C15: 2.5844164e+09 | D15: 8.0227996e+08 | E15: 8.2130837e+08 | F15: 2.565388e+09 | G15: 1130 | H15: FIDEICOMISOS | I15: 2.565388e+09 | J15: 55656569 | K15: 3.0167455e+08 | L15: 2.31937e+09
... A98: 169801 | B98: LICENCIA SOFTWARW | C98: -45611334 | D98: 0 | E98: 0 | F98: -45611334 | G98: 1698 | H98: DEPRECIACION Y/O AMORTIZACION ACUMULADA | I98: -45611334 | J98: 0 | K98: 0 | L98: -45611334
A99: 2 | B99: Pasivo | C99: =(C100+C107+C155+C169+C183+C186)*2 -> -9.8312264e+09 | D99: =(D100+D107+D155+D169+D183+D186)*2 -> 2.7271082e+09 | E99: =(E100+E107+E155+E169+E183+E186)*2 -> 3.9363914e+09 | F99: =(F100+F107+F155+F169+F183+F186)*2 -> -1.104051e+10 | G99: 169801 | H99: LICENCIA SOFTWARW | I99: -45611334 | J99: 0 | K99: 0 | L99: -45611334
A100: 22 | B100: PROVEEDORES | C100: -635081090 | D100: 438067858 | E100: 3.126889e+08 | F100: -5.0970213e+08 | G100: 2 | H100: Pasivo | I100: =(I101+I108+I158+I171+I184+I187)*2 -> -1.104051e+10 | J100: =(J101+J108+J158+J171+J184+J187)*2 -> 2.9252221e+09 | K100: =(K101+K108+K158+K171+K184+K187)*2 -> 4.4409101e+09 | L100: =(L101+L108+L158+L171+L184+L187)*2 -> -1.2556198e+10
A101: 2205 | B101: NACIONALES | C101: -424019784 | D101: 325087780 | E101: 219471146 | F101: -318403150 | G101: 22 | H101: PROVEEDORES | I101: -5.0970213e+08 | J101: 3.2303355e+08 | K101: 803909994 | L101: -990578580
A102: 220505 | B102: PROVEEDORES NACIONALES | C102: -424019784 | D102: 325087780 | E102: 219471146 | F102: -318403150 | G102: 2205 | H102: NACIONALES | I102: -318403150 | J102: 137061692 | K102: 351261298 | L102: -532602756
A103: 22050502 | B103: PROVEEDORES NACIONALES | C103: -424019784 | D103: 325087780 | E103: 219471146 | F103: -318403150 | G103: 220505 | H103: PROVEEDORES NACIONALES | I103: -318403150 | J103: 137061692 | K103: 351261298 | L103: -532602756
A104: 2210 | B104: DEL EXTERIOR | C104: -211061306 | D104: 112980078 | E104: 93217755 | F104: -1.9129898e+08 | G104: 22050502 | H104: PROVEEDORES NACIONALES | I104: -318403150 | J104: 137061692 | K104: 351261298 | L104: -532602756
A105: 221001 | B105: PROVEEDORES DEL EXTERIOR | C105: -211061306 | D105: 112980078 | E105: 93217755 | F105: -1.9129898e+08 | G105: 2210 | H105: DEL EXTERIOR | I105: -1.9129898e+08 | J105: 1.8597185e+08 | K105: 452648696 | L105: -457975824
A106: 22100102 | B106: PROVEED. EXT | C106: -211061306 | D106: 112980078 | E106: 93217755 | F106: -1.9129898e+08 | G106: 221001 | H106: PROVEEDORES DEL EXTERIOR | I106: -1.9129898e+08 | J106: 1.8597185e+08 | K106: 452648696 | L106: -457975824
A107: 23 | B107: CUENTAS POR PAGAR | C107: -521305252 | D107: 4.941139e+08 | E107: 4.0687297e+08 | F107: -434064320 | G107: 22100102 | H107: PROVEED. EXT | I107: -1.9129898e+08 | J107: 1.8597185e+08 | K107: 452648696 | L107: -457975824
A108: 2335 | B108: COSTOS Y GASTOS POR PAGAR | C108: -319738652 | D108: 2.5845648e+08 | E108: 2.4715232e+08 | F108: -308434494 | G108: 23 | H108: CUENTAS POR PAGAR | I108: -434064320 | J108: 438680570 | K108: 383790890 | L108: -379174640
A109: 233570 | B109: SERVICIOS ADUANEROS | C109: -23792000 | D109: 0 | E109: 19664000 | F109: -43456000 | G109: 2335 | H109: COSTOS Y GASTOS POR PAGAR | I109: -308434494 | J109: 281782288 | K109: 254049094 | L109: -280701300
A110: 233595 | B110: OTROS | C110: -295946652 | D110: 2.5845648e+08 | E110: 2.2748832e+08 | F110: -264978494 | G110: 233570 | H110: SERVICIOS ADUANEROS | I110: -43456000 | J110: 36060000 | K110: 23118000 | L110: -30514000
A111: 23359502 | B111: OTROS | C111: -280797506 | D111: 2.4429119e+08 | E111: 1.8474118e+08 | F111: -221247496 | G111: 233595 | H111: OTROS | I111: -264978494 | J111: 245722288 | K111: 230931094 | L111: -250187300
A112: 23359599 | B112: PROVISION INV POR FACTURAR | C112: -15149146 | D112: 14165284 | E112: 42747136 | F112: -43730998 | G112: 23359502 | H112: OTROS | I112: -221247496 | J112: 204733270 | K112: 217228986 | L112: -233743212
... A190: 283010 | B190: DEPOSITOS JUDICIALES | C190: -1126984 | D190: 1126984 | E190: 590720 | F190: -590720 | G190: 2830 | H190: EMBARGOS JUDICIALES | I190: -590720 | J190: 590722 | K190: 602080 | L190: -602078
A191: 3 | B191: Patrimonio | C191: =(C192+C196+C199)*2 -> -1.417352e+10 | D191: =(D192+D196+D199)*2 -> 0 | E191: =(E192+E196+E199)*2 -> 0 | F191: =(F192+F196+F199)*2 -> -1.417352e+10 | G191: 283010 | H191: DEPOSITOS JUDICIALES | I191: -590720 | J191: 590722 | K191: 602080 | L191: -602078
A192: 31 | B192: CAPITAL SOCIAL | C192: -400000000 | D192: 0 | E192: 0 | F192: -400000000 | G192: 3 | H192: Patrimonio | I192: =(I193+I197+I200)*2 -> -1.417352e+10 | J192: =(J193+J197+J200)*2 -> 0 | K192: =(K193+K197+K200)*2 -> 0 | L192: =(L193+L197+L200)*2 -> -1.417352e+10
A193: 3105 | B193: CAPITAL SUSCRITO Y PAGADO | C193: -400000000 | D193: 0 | E193: 0 | F193: -400000000 | G193: 31 | H193: CAPITAL SOCIAL | I193: -400000000 | J193: 0 | K193: 0 | L193: -400000000
A194: 310505 | B194: CAPITAL AUTORIZADO | C194: -800000000 | D194: 0 | E194: 0 | F194: -800000000 | G194: 3105 | H194: CAPITAL SUSCRITO Y PAGADO | I194: -400000000 | J194: 0 | K194: 0 | L194: -400000000
A195: 310515 | B195: CAPITAL SUSCRITO POR COBRAR (DB) | C195: 400000000 | D195: 0 | E195: 0 | F195: 400000000 | G195: 310505 | H195: CAPITAL AUTORIZADO | I195: -800000000 | J195: 0 | K195: 0 | L195: -800000000
A196: 33 | B196: RESERVAS | C196: -2.8599153e+08 | D196: 0 | E196: 0 | F196: -2.8599153e+08 | G196: 310515 | H196: CAPITAL SUSCRITO POR COBRAR (DB) | I196: 400000000 | J196: 0 | K196: 0 | L196: 400000000
A197: 3305 | B197: RESERVAS OBLIGATORIAS | C197: -2.8599153e+08 | D197: 0 | E197: 0 | F197: -2.8599153e+08 | G197: 33 | H197: RESERVAS | I197: -2.8599153e+08 | J197: 0 | K197: 0 | L197: -2.8599153e+08
A198: 330505 | B198: RESERVA LEGAL | C198: -2.8599153e+08 | D198: 0 | E198: 0 | F198: -2.8599153e+08 | G198: 3305 | H198: RESERVAS OBLIGATORIAS | I198: -2.8599153e+08 | J198: 0 | K198: 0 | L198: -2.8599153e+08
A199: 37 | B199: RESULTADOS DE EJERCICIOS ANTERIORES | C199: -6.4007683e+09 | D199: 0 | E199: 0 | F199: -6.4007683e+09 | G199: 330505 | H199: RESERVA LEGAL | I199: -2.8599153e+08 | J199: 0 | K199: 0 | L199: -2.8599153e+08
...

Sheet WACC
B4: CALCULO WACC NO. 1 - CONTABLE
B6: 1. Determine el promedio ponderado de las deudas:
B8: BANCOS | C8: MONTO | D8: TASA DE INTERES | E8: PARTICIPACIÓN | F8: COSTO PROMEDIO
E9: =C9/$C$12 -> #DIV/0! | F9: =D9*E9 -> #DIV/0!
E10: =C10/$C$12 -> #DIV/0! | F10: =D10*E10 -> #DIV/0!
E11: =C11/$C$12 -> #DIV/0! | F11: =D11*E11 -> #DIV/0!
B12: TOTAL | C12: =SUM(C9:C11) -> 0 | D12: =SUM(D9:D11) -> 0 | E12: =C12/$C$12 -> #DIV/0! | F12: =SUM(F9:F11) -> #DIV/0!
B14: COSTO DE DEUDA (Kd) | C14: =F12 -> #DIV/0!
B16: 2. Indique la tasa del impuesto de renta del periodo
B18: Impuesto de renta
B20: 3. Determine el costo del capital:
B22: Patrimonio | C22: 400000000
B23: Utilidad del ejercicio | C23: 20000000
B25: COSTO DEL CAPITAL (Ke) | C25: =C23/C22 -> 0.05
B27: 4. Determine su estrcutura del capital
B29: Concepto | C29: Monto | D29: Participación
B30: Patrimonio | C30: =C22 -> 400000000 | D30: =C30/$C$32 -> 1
B31: Deuda | C31: =C12 -> 0 | D31: =C31/$C$32 -> 0
B32: Total | C32: =SUM(C30:C31) -> 400000000 | D32: =C32/$C$32 -> 1
B34: WACC | C34: =(D31*(C14*(1-C18)))+(D30*C25) -> #DIV/0!
B36: CALCULO WACC NO. 2 - MODELO SIMPLIFICADO
B38: 1. Determine el promedio ponderado de las deudas:
B40: BANCOS | C40: MONTO | D40: TASA DE INTERES | E40: PARTICIPACIÓN | F40: COSTO PROMEDIO
E41: =C41/$C$12 -> #DIV/0! | F41: =D41*E41 -> #DIV/0!
E42: =C42/$C$12 -> #DIV/0! | F42: =D42*E42 -> #DIV/0!
E43: =C43/$C$12 -> #DIV/0! | F43: =D43*E43 -> #DIV/0!
B44: TOTAL | C44: =SUM(C41:C43) -> 0 | D44: =SUM(D41:D43) -> 0 | E44: =C44/$C$12 -> #DIV/0! | F44: =SUM(F41:F43) -> #DIV/0!
B46: COSTO DE DEUDA (Kd) | C46: =F44 -> #DIV/0!
B48: 2. Indique la tasa del impuesto de renta del periodo
B50: Impuesto de renta | C50: 0.35
B52: 3. Para determinar el costo de capital, diligencie los siguientes campos:
B54: 3.1. Tasa Libre de riesgo Colombia
B55: TES a 10 Años | D55: https://www.banrep.gov.co/es/estadisticas/tes-pesos
B57: 3.2. Inflación Interanual Colombia Mayo 2020
B58: IPC | D58: https://www.banrep.gov.co/es/estadisticas/inflacion-total-y-meta#gsc.tab=0
B60: 3.3 Prima de Riesgo
B61: b | D61: https://datosmacro.expansion.com/prima-riesgo/colombia
B63: =B25 -> COSTO DEL CAPITAL (Ke) | C63: =+C55+C58+C61 -> 0
B65: 4. Determine su estrcutura del capital
B67: Concepto | C67: Monto | D67: Participación
...

Sheet Taxonomia
A1: PLAN DE CUENTAS | E1: PLAN DE CUENTAS A CLASE
A2: No. | B2: CUENTA | C2: D E S C R I P C I O N | E2: No. | F2: CUENTA | G2: D E S C R I P C I O N
A3: =+LEN(B3) -> 1 | B3: 1 | C3: Activo | E3: =+LEN(F3) -> 1 | F3: 1 | G3: Activo
A4: =+LEN(B4) -> 2 | B4: 11 | C4: CAJA | E4: =+LEN(F4) -> 2 | F4: 11 | G4: CAJA
A5: =+LEN(B5) -> 4 | B5: 1105 | C5: CAJA | E5: =+LEN(F5) -> 4 | F5: 1105 | G5: CAJA
A6: =+LEN(B6) -> 6 | B6: 110505 | C6: CAJA GENERAL | E6: =+LEN(F6) -> 4 | F6: 1110 | G6: BANCOS
A7: =+LEN(B7) -> 6 | B7: 110510 | C7: CAJA MENOR BOGOTA | E7: =+LEN(F7) -> 4 | F7: 1120 | G7: CUENTAS DE AHORROS
A8: =+LEN(B8) -> 6 | B8: 110520 | C8: MONEDA EXTRAJERA DOLARES | E8: =+LEN(F8) -> 4 | F8: 1130 | G8: FIDEICOMISOS
A9: =+LEN(B9) -> 4 | B9: 1110 | C9: BANCOS | E9: =+LEN(F9) -> 2 | F9: 13 | G9: DEUDORES
A10: =+LEN(B10) -> 6 | B10: 111005 | C10: MONEDA NACIONAL | E10: =+LEN(F10) -> 4 | F10: 1305 | G10: CLIENTES
A11: =+LEN(B11) -> 4 | B11: 1120 | C11: CUENTAS DE AHORROS | E11: =+LEN(F11) -> 4 | F11: 1330 | G11: ANTICIPOS Y AVANCES
A12: =+LEN(B12) -> 6 | B12: 112005 | C12: BANCOS | E12: =+LEN(F12) -> 4 | F12: 1355 | G12: ANTICIPO DE IMPUESTOS Y CONTRIBUCIONES O SALDOS A
A13: =+LEN(B13) -> 4 | B13: 1130 | C13: FIDEICOMISOS | E13: =+LEN(F13) -> 4 | F13: 1365 | G13: CUENTAS POR COBRAR A TRABAJADORES
A14: =+LEN(B14) -> 6 | B14: 113005 | C14: ALIANZA FIDUCIARIA 130165090 | E14: =+LEN(F14) -> 4 | F14: 1380 | G14: DEUDORES VARIOS
... A130: =+LEN(B130) -> 6 | B130: 255020 | C130: PRIMA DE SERVICIOS | E130: =+LEN(F130) -> 4 | F130: 7395 | G130: DIVERSOS
A131: =+LEN(B131) -> 2 | B131: 27 | C131: IMPUESTOS DIFERIDOS
A132: =+LEN(B132) -> 4 | B132: 2725 | C132: IMPUESTO DIFERIDOS
A133: =+LEN(B133) -> 6 | B133: 272505 | C133: IMPUESTO DE RENTA DIFERIDO
A134: =+LEN(B134) -> 2 | B134: 28 | C134: OTROS PASIVOS
A135: =+LEN(B135) -> 4 | B135: 2805 | C135: ANTICIPOS Y AVANCES RECIBIDOS
A136: =+LEN(B136) -> 6 | B136: 280501 | C136: ANTICIPOS Y AVANCES RECIBIDOS
A137: =+LEN(B137) -> 4 | B137: 2830 | C137: EMBARGOS JUDICIALES
A138: =+LEN(B138) -> 6 | B138: 283010 | C138: DEPOSITOS JUDICIALES
A139: =+LEN(B139) -> 1 | B139: 3 | C139: Patrimonio
A140: =+LEN(B140) -> 2 | B140: 31 | C140: CAPITAL SOCIAL
A141: =+LEN(B141) -> 4 | B141: 3105 | C141: CAPITAL SUSCRITO Y PAGADO
A142: =+LEN(B142) -> 6 | B142: 310505 | C142: CAPITAL AUTORIZADO
... A395: =+LEN(B395) -> 6 | B395: 739595 | C395: GASTOS DE MONTAJE
