Workbook
Name ANEXOS: #REF!
Name ANEXOS: #REF!
Name ANEXOS: #REF!
Name ANEXOS: #REF!
Name ANEXOS: #REF!
Name ANEXOS: #REF!
Name ANEXOS4: #REF!
Name ANEXOS4: #REF!
Name ANEXOS4: #REF!
Name ANEXOS4: #REF!
Name ANEXOS4: #REF!
Name ANEXOS4: #REF!
Name BALANCE1: #REF!
Name BALANCE1: #REF!
Name BALANCE1: #REF!
Name BALANCE1: #REF!
Name BALANCE1: #REF!
Name BALANCE1: #REF!
Name D: #REF!
Name D: #REF!
Name D: #REF!
Name D: #REF!
Name D: #REF!
Name D: #REF!
Name ESTADO: #REF!
Name ESTADO: #REF!
Name ESTADO: #REF!
Name ESTADO: #REF!
Name ESTADO: #REF!
Name ESTADO: #REF!
Name rlíquidaB: #REF!

Sheet ANEXOS
B1: INDUSTRIAS EL MEJOR ESTILO S.A.
B2: NIT 860.378.961 - 5
B3: DECLARACION DE RENTA AÑO GRAVABLE 2021
B4: INDICE DE ANEXOS
C6: ANEXO
B7: NOMBRE | C7: NÚMERO
B9: DETERMINACIÓN DEL PATRIMONIO FISCAL | C9: 1
B10: CÁLCULO DE LA RENTA GRAVABLE Y LAS GANANCIAS OCASIONALES | C10: =+C9+1 -> 2
B11: CALCULO DEL IMPUESTO A CARGO Y EL VALOR A PAGAR | C11: 3
B12: EFECTIVO Y EQUIVALENTES, E INVERSIONES TEMPORALES | C12: =+C11+1 -> 4
B13: DETERIORO DE CARTERA | C13: =+C12+1 -> 5
B14: CARTERA EN MONEDA EXTRANJERA | C14: =+C13+1 -> 6
B15: MOVIMIENTO DE INVERSIONES EN SOCIEDADES | C15: =+C14+1 -> 7
B16: PROPIEDADES, PLANTA Y EQUIPO | C16: =+C15+1 -> 8
B17: DEPRECIACIÒN CONTABLE Y FISCAL | C17: =+C16+1 -> 9
B18: VENTAS DE PROPIEDADES, PLANTA Y EQUIPO | C18: =+C17+1 -> 10
B19: INGRESOS POR DIVIDENDOS Y PARTICIPACIONES | C19: =+C18+1 -> 11
B20: CÁLCULO DE INTERESES PRESUNTIVOS | C20: =+C19+1 -> 12
B21: DESCUENTO TRIBUTARIO POR IMPUESTOS PAGADOS EN EL EXTERIOR | C21: =+C20+1 -> 13
B22: TRATAMIENTO FISCAL DE LOS GASTOS LABORALES | C22: =+C21+1 -> 14
B23: DEDUCCIÓN POR INTERESES - SUBCAPITALIZACIÓN | C23: =+C22+1 -> 15
... B28: COMPENSACIONES DE PÉRDIDAS FISCALES Y EXCESOS DE PRESUNTIVA | C28: =+C27+1 -> 20
B29: CÁLCULO DEL ANTICIPO PARA EL AÑO SIGUIENTE | C29: =C28+1 -> 21
B30: IMPUESTO DIFERIDO | C30: =+C29+1 -> 22
B31: RENTA POR COMPARACIÓN PATRIMONIAL | C31: =+C30+1 -> 23
B32: CÁLCULO DE LOS DIVIDENDOS GRAVADOS Y NO GRAVADOS | C32: =+C31+1 -> 24
B37: TABLA DE REAJUSTES FISCALES
B39: Año gravable 2016 | C39: 0.0708
B40: Año gravable 2017 | C40: 0.0407
B41: Año gravable 2018 | C41: 0.0407
B42: Año gravable 2019 | C42: 0.0336
B43: Año gravable 2020 | C43: 0.039
B44: Año gravable 2021 | C44: 0.0197

Sheet 1. PATRIM FISCAL
A1: =+ANEXOS!B1 -> INDUSTRIAS EL MEJOR ESTILO S.A.
A2: =+ANEXOS!B2 -> NIT 860.378.961 - 5
A3: =+ANEXOS!B3 -> DECLARACION DE RENTA AÑO GRAVABLE 2021 | G3: ANEXO 1
A4: DETERMINACIÓN DEL PATRIMONIO FISCAL
B6: SALDO | D6: AJUSTES Y RECLASIFICACIONES | G6: SALDO
B7: CONTABLE | D7: FISCALES | G7: RENTA | I7: RENGLON
B8: 31-12-21 | D8: DEBITO | E8: CREDITO | G8: =+B8 -> 31-12-21 | I8: FORMUL.
A9: ACTIVO
A11: Efectivo y equivalentes de efectivo
A12: Caja y Bancos - Moneda nacional | B12: =+'4. EFECTIVO'!H13 -> 55063000 | G12: =+B12+D12-E12 -> 55063000
A13: Bancos en el exterior | B13: =+'4. EFECTIVO'!H26 -> 92243477 | E13: ='4. EFECTIVO'!G26 -> 1664891 | G13: =+B13+D13-E13 -> 90578586
B14: =SUM(B12:B13) -> 1.4730648e+08 | G14: =SUM(G12:G13) -> 1.4564159e+08 | I14: 36
A15: Inversiones e instrumentos financieros derivados
A17: Inversiones temporales | B17: =+'4. EFECTIVO'!H34 -> 398116000 | D17: =-'4. EFECTIVO'!G34 -> 1884000 | G17: =+B17+D17-E17 -> 400000000 | I17: =+I14+1 -> 37
A19: Inversiones en instrumentos de patrimonio
A20: Medidos al valor razonable | B20: =+'7. INVERSIONES'!G15 -> 342225000 | E20: ='7. INVERSIONES'!G13+'7. INVERSIONES'!G14 -> 93375000 | G20: =+B20+D20-E20 -> 248850000
A21: Medidos al costo - Sociedades nacionales | B21: =+'7. INVERSIONES'!G22 -> 48250000 | D21: =+'7. INVERSIONES'!L22-'7. INVERSIONES'!G22 -> 1801508.9 | G21: =+B21+D21-E21 -> 50051509
A22: Inversiones en asociadas - Nacionales | B22: =+'7. INVERSIONES'!G29 -> 426933000 | D22: =+'7. INVERSIONES'!J29 -> 0 | E22: =+'7. INVERSIONES'!G26+'7. INVERSIONES'!G27+'7. INVERSIONES'!G28 -> 146933000 | G22: =+B22+D22-E22 -> 280000000
A23: Medidos al costo - Sociedades en el exterior | B23: =+'7. INVERSIONES'!G35 -> 278681200 | E23: =+'7. INVERSIONES'!G33+'7. INVERSIONES'!G34 -> 63431200 | G23: =+B23+D23-E23 -> 215250000
A24: Deterioro de inversiones | B24: 0 | D24: =-B24 -> 0 | G24: =+B24+D24-E24 -> 0
B25: =SUM(B20:B24) -> 1096089200 | G25: =SUM(G20:G24) -> 7.9415151e+08 | I25: =+I17 -> 37
A26: Total inversiones | B26: =+B17+B25 -> 1494205200 | G26: =+G17+G25 -> 1.1941515e+09 | I26: =+I25 -> 37
A29: Cuentas por cobrar
A30: Deudores - Clientes Nacionales | B30: =+'5. CxC'!D20 -> 387634000 | G30: =+B30+D30-E30 -> 387634000
A31: Deudores - Clientes en el Exterior | B31: =+'5. CxC'!H56 -> 764780836 | E31: ='5. CxC'!G56 -> 32155956 | G31: =+B31+D31-E31 -> 732624880
A32: Menos: Deterioro de cartera | B32: =-'5. CxC'!D32 -> -30550000 | D32: =+'5. CxC'!H32 -> 17149300 | G32: =+B32+D32-E32 -> -13400700
A33: Cuentas por cobrar socios y accionistas | B33: =+'11. INGRESOS'!D44 -> 77160494 | D33: =+'11. INGRESOS'!D46 -> 12839506 | G33: =+B33+D33-E33 -> 90000000
A34: Anticipos de impuestos - Descto. Trib. IVA | B34: =+'8. PPyE'!K25*19% -> 29583000 | E34: =+B34-5016000 -> 24567000 | G34: =+B34+D34-E34 -> 5016000
A35: Retenciones por cobrar - Renta | B35: =+('2. RENTA FISCAL'!B11*72%*2.5%)+('2. RENTA FISCAL'!B13*4%)+('2. RENTA FISCAL'!B18*7%)+('2. RENTA FISCAL'!B28*32%)+('2. RENTA FISCAL'!G32*1%)+('2. RENTA FISCAL'!G136*1%) -> 55006636 | E35: =+B35 -> 55006636 | G35: =+B35+D35-E35 -> 0
A36: Autorretenciones por cobrar - Renta | B36: =('2. RENTA FISCAL'!B39-'2. RENTA FISCAL'!B33-'2. RENTA FISCAL'!B34-'2. RENTA FISCAL'!B90-'2. RENTA FISCAL'!D44)*0.8% -> 33161902 | E36: =+B36 -> 33161902 | G36: =+B36+D36-E36 -> 0
A37: Retenciones practicadas en el exterior | B37: =+'11. INGRESOS'!F62 -> 17200000 | E37: =+B37 -> 17200000 | G37: =+B37+D37-E37 -> 0
B38: =SUM(B30:B37) -> 1.3339769e+09 | G38: =SUM(G30:G37) -> 1201874180 | I38: =+I25+1 -> 38
A40: Inventarios
A41: Inventario de materias primas | B41: 90820000 | G41: =+B41+D41-E41 -> 90820000
A42: Inventario de productos terminados | B42: 117082000 | G42: =+B42+D42-E42 -> 117082000
A43: Menos: Ajuste v/r neto de realización (deterioro) | B43: =-'2. RENTA FISCAL'!E52 -> -39290000 | D43: =-B43 -> 39290000 | G43: =+B43+D43-E43 -> 0
B44: =SUM(B41:B43) -> 168612000 | G44: =SUM(G41:G43) -> 207902000 | I44: =+I38+1 -> 39
A46: Propiedad, planta y equipo
A47: Terrenos - Medidos al costo atribuido | B47: ='8. PPyE'!G13 -> 504800000 | E47: =-'8. PPyE'!L13+'8. PPyE'!G13 -> 72950000 | G47: =+B47+D47-E47 -> 431850000
A48: Edificaciones - Medidas al costo histórico | B48: ='8. PPyE'!G18 -> 688000000 | D48: ='8. PPyE'!L18-'8. PPyE'!G18 -> 233000000 | G48: =+B48+D48-E48 -> 921000000
...

Sheet 2. RENTA FISCAL
A1: =+'1. PATRIM FISCAL'!A1 -> INDUSTRIAS EL MEJOR ESTILO S.A.
A2: =+'1. PATRIM FISCAL'!A2 -> NIT 860.378.961 - 5
A3: =+'1. PATRIM FISCAL'!A3 -> DECLARACION DE RENTA AÑO GRAVABLE 2021 | I3: ANEXO 2
A4: CALCULO DE LA RENTA GRAVABLE Y LAS GANANCIAS OCASIONALES
B6: =+'1. PATRIM FISCAL'!B6 -> SALDO | D6: AJUSTES Y RECLASIFICACIONES | G6: SALDO | I6: SALDO | K6: REN-
B7: =+'1. PATRIM FISCAL'!B7 -> CONTABLE | D7: FISCALES | G7: PARCIAL | I7: RENTA | K7: GLÓN
B8: =+'1. PATRIM FISCAL'!B8 -> 31-12-21 | D8: DEBITO | E8: CREDITO | I8: =+B8 -> 31-12-21 | K8: FORMUL
A10: Ingresos brutos de actividades ordinarias
A11: Ventas nacionales | B11: 2297000000 | G11: =+B11+E11-D11 -> 2297000000
A12: Exportaciones | B12: 1259680000 | G12: =+B12+E12-D12 -> 1259680000
A13: Prestación de servicios | B13: =132029000 -> 132029000 | G13: =+B13+E13-D13 -> 132029000
A14: Servicios en el exterior | B14: =+'11. INGRESOS'!E62 -> 86000000 | G14: =+B14+E14-D14 -> 86000000
A15: Subtotal | B15: =SUM(B11:B14) -> 3774709000 | G15: =SUM(G11:G14) -> 3774709000 | I15: =ROUND(G15,-3) -> 3774709000 | K15: =+'1. PATRIM FISCAL'!I80+1 -> 47
A17: Ingresos Financieros
A18: Intereses | B18: 54728000 | G18: =+B18+E18-D18 -> 54728000
A19: Diferencia en cambio efectivo y equivalentes | B19: =9080000+8193000+12000000 -> 29273000 | D19: =+'4. EFECTIVO'!G28 -> 1664891 | G19: =+B19+E19-D19 -> 27608109
A20: Diferencia en cambio sobre cuentas por cobrar | B20: 57068300 | D20: =+'5. CxC'!G56 -> 32155956 | G20: =+B20+E20-D20 -> 24912344
A21: Diferencia en cambio acciones y aportes | B21: =+'7. INVERSIONES'!F34 -> 38406200 | D21: =+B21 -> 38406200 | G21: =+B21+E21-D21 -> 0
A22: Intereses presuntivos | E22: ='11. INGRESOS'!G37 -> 1614375 | G22: =+B22+E22-D22 -> 1614375
A23: Subtotal | B23: =SUM(B18:B22) -> 179475500 | G23: =SUM(G18:G22) -> 1.0886283e+08 | I23: =ROUND(G23,-3) -> 108863000 | K23: =+K15+1 -> 48
A25: Dividendos y participaciones
A26: Dividendos y particip. no constitutivos de renta | B26: ='11. INGRESOS'!E19-'11. INGRESOS'!F14 -> 34560000 | E26: =+'11. INGRESOS'!D17 -> 52615000 | G26: =+B26+E26-D26 -> 87175000 | I26: =ROUND(G26,-3) -> 87175000 | K26: =+K23+1 -> 49
A27: Dividendos y particip. de entidades no residentes | B27: 0 | G27: =+B27+E27-D27 -> 0 | I27: =ROUND(G27,-3) -> 0 | K27: =+K26+1 -> 50
A28: Dividendos y p. gravados de sociedades nales | B28: =+'11. INGRESOS'!F14 -> 4590000 | G28: =+B28+E28-D28 -> 4590000 | I28: =ROUND(G28,-3) -> 4590000 | K28: =+K27+1 -> 51
A30: Otros Ingresos
A31: Utilidad en venta de acciones | B31: =IF('7. INVERSIONES'!E48>0,'7. INVERSIONES'!E48,0) -> 2550000 | D31: =+B31 -> 2550000 | G31: =+B31+E31-D31 -> 0
A32: Utilidad en venta de propiedad, planta y equipo | B32: =+'10. VTA ACT FIJOS'!E17 -> 194850000 | D32: =+B32 -> 194850000 | G32: =+B32+E32-D32 -> 0
A33: Ingreso por método de participación | B33: =+'7. INVERSIONES'!F26 -> 29158000 | D33: =+B33 -> 29158000 | G33: =+B33+E33-D33 -> 0
A34: Recuperación de provisiones | B34: =19570000-4800000 -> 14770000 | D34: =+B34 -> 14770000 | G34: =+B34+E34-D34 -> 0
A35: Ajuste al valor razonable de inversiones | B35: ='7. INVERSIONES'!F13+'7. INVERSIONES'!F14 -> 50175000 | D35: =+B35 -> 50175000 | G35: =+B35+E35-D35 -> 0
A36: Ingresos diversos - Auxilios del Gobierno | B36: 19696300 | G36: =+B36+E36-D36 -> 19696300
A37: Subtotal | B37: =SUM(B30:B36) -> 311199300 | G37: =SUM(G30:G36) -> 19696300 | I37: =ROUND(G37,-3) -> 19696000 | K37: 57
A39: TOTAL INGRESOS BRUTOS | B39: =+B15+B23+B26+B27+B28+B37 -> 4304533800 | D39: =SUM(D11:D36) -> 3.6373005e+08 | E39: =SUM(E11:E36) -> 54229375 | G39: =+G15+G23+G26+G27+G28+G37 -> 3995033128 | I39: =+I15+I23+I26+I27+I28+I37 -> 3995033000 | K39: =+K37+1 -> 58
A41: Devoluciones, rebajas y descuentos en ventas | B41: =B11*2.5% -> 57425000 | G41: =+B41+E41-D41 -> 57425000 | I41: =ROUND(G41,-3) -> 57425000 | K41: =+K39+1 -> 59
A43: Ingresos no Constitutivos de Renta ni G.O.
A44: Dividendos | D44: ='11. INGRESOS'!G19 -> 87175000 | G44: =+B44+E44-D44 -> -87175000
A45: Utilidad en venta de inversiones | D45: 0 | G45: =+B45+E45-D45 -> 0
A46: Subtotal Ingresos no Constitutivos de Renta | D46: =SUM(D44:D45) -> 87175000 | G46: =SUM(G44:G45) -> -87175000 | I46: =-ROUND(G46,-3) -> 87175000 | K46: =+K41+1 -> 60
A48: TOTAL INGRESOS NETOS | B48: =+B39-B41-B46 -> 4247108800 | I48: =+I39-I41-I46 -> 3850433000 | K48: =+K46+1 -> 61
A50: Costos
...

Sheet 3. VR A PAGAR
B1: =+'1. PATRIM FISCAL'!A1 -> INDUSTRIAS EL MEJOR ESTILO S.A.
B2: =+'1. PATRIM FISCAL'!A2 -> NIT 860.378.961 - 5
B3: =+'1. PATRIM FISCAL'!A3 -> DECLARACION DE RENTA AÑO GRAVABLE 2021 | E3: ANEXO 3
B4: CALCULO DEL IMPUESTO A CARGO Y EL VALOR A PAGAR
E6: SALDO
C7: VALOR | E7: RENTA | G7: RENGLON
C8: PARCIAL | E8: =+'2. RENTA FISCAL'!I8 -> 31-12-21 | G8: FORMUL.
B10: Renta líquida gravable | E10: =+'2. RENTA FISCAL'!I132 -> 574518000 | G10: =+'2. RENTA FISCAL'!K132 -> 79
B12: Ganancias ocasionales gravables | E12: =+'2. RENTA FISCAL'!I146 -> 61774000 | G12: =+'2. RENTA FISCAL'!K146 -> 85
B14: Impuesto sobre la renta líquida gravable (31%) | E14: =ROUND(+E10*31%,-3) -> 178101000 | G14: =+G12+1 -> 86
B16: Total impuesto sobre las rentas líquidas gravables | E16: =SUM(E14:E15) -> 178101000 | G16: 92
B18: Menos descuentos tributarios:
B19: Por IVA en compra de AFRP (Dec. 1089 de 2020) | C19: =+'1. PATRIM FISCAL'!E34 -> 24567000
B20: Impuestos pagados en el exterior | C20: =+'11. INGRESOS'!E69 -> 14213500
B21: Por Impuesto de Industria y Comercio | C21: =+'16. IMPTOS - EFECTIVO'!H20 -> 17228000
B22: Por donaciones | C22: =+'2. RENTA FISCAL'!B102*25% -> 11300000 | E22: =ROUND(SUM(C18:C22),-3) -> 67309000 | G22: =+G16+1 -> 93
B24: Impuesto neto de renta | E24: =E16-E22 -> 110792000 | G24: =+G22+1 -> 94
B25: Impuesto de ganancias ocasionales | E25: =ROUND(+E12*10%,-3) -> 6177000 | G25: =+G24+1 -> 95
B26: Descuento por impuestos pagados en el exterior por G O | E26: 0 | G26: =+G25+1 -> 96
B28: TOTAL IMPUESTO A CARGO | E28: =+E24+E25-E26 -> 116969000 | G28: =+G26+1 -> 97
B30: Inversión obras por impuestos hasta 50% de casilla 97 | E30: 0 | G30: =+G28+1 -> 98
B31: Descuento efectivo inversión obras por impuestos | E31: 0 | G31: =+G30+1 -> 99
B32: Crédito fiscal Artículo 256-1 E.T. | E32: 0 | G32: =+G31+1 -> 100
B33: Menos: Anticipo renta liquidado año gravable anterior | E33: 8379000 | G33: =+G32+1 -> 101
B34: Saldo a favor año anterior sin solicitud de devolución o comp. | E34: 0 | G34: =+G33+1 -> 102
B35: Autorretenciones | E35: =ROUND('1. PATRIM FISCAL'!E36,-3) -> 33162000 | G35: =+G34+1 -> 103
B36: Otras retenciones | E36: =ROUND(+'1. PATRIM FISCAL'!E35,-3) -> 55007000 | G36: =+G35+1 -> 104
B37: Total retenciones año gravable a declarar | E37: =SUM(E35:E36) -> 88169000 | G37: =+G36+1 -> 105
B39: Más: Anticipo renta para el año gravable siguiente | E39: ='20. PÉRDIDAS - ANTICIPO'!F60 -> 0 | G39: =+G37+1 -> 106
B40: Menos: Anticipo sobretasa instituc fras año gravable anterior | E40: 0 | G40: =+G39+1 -> 107
B41: Sobretasa instituciones financieras | E41: 0 | G41: =+G40+1 -> 108
B42: Más: Anticipo sobretasa instituc fras año gravable siguiente | E42: 0 | G42: =+G41+1 -> 109
B44: SALDO A PAGAR POR IMPUESTO | E44: =+E28-E30-E31-E32-E33-E34-E37+E39-E40+E41+E42 -> 20421000 | G44: =+G42+1 -> 110
B46: Más: Sanciones | E46: 0 | G46: =+G44+1 -> 111
B48: TOTAL SALDO A PAGAR | E48: =SUM(E44:E47) -> 20421000 | G48: =+G46+1 -> 112
B50: TOTAL SALDO A FAVOR | E50: 0 | G50: =+G48+1 -> 113
B54: Análisis del beneficio de auditoría:
B55: Impuesto neto de renta del año actual | C55: =+E24 -> 110792000
B56: Impuesto neto de renta del año anterior | C56: =+'20. PÉRDIDAS - ANTICIPO'!F51 -> 89300000
B57: Aumento | C57: =+C55-C56 -> 21492000 | E57: =+C57/C56 -> 0.24067189
...

Sheet 4. EFECTIVO
B1: =+'2. RENTA FISCAL'!A1 -> INDUSTRIAS EL MEJOR ESTILO S.A.
B2: =+'2. RENTA FISCAL'!A2 -> NIT 860.378.961 - 5
B3: =+'2. RENTA FISCAL'!A3 -> DECLARACION DE RENTA AÑO GRAVABLE 2021 | H3: ANEXO 4
B4: EFECTIVO Y EQUIVALENTES, E INVERSIONES TEMPORALES
F6: TRM DIC. 31: | G6: 3981.16
E7: TASA DE | F7: VALOR | G7: DIF. EN | H7: VALOR | I7: VALOR
D8: VALOR | E8: CAMBIO | F8: INICIAL | G8: CAMBIO | H8: CONTABLE | I8: FISCAL
D9: USD | E9: INICIAL | F9: PESOS | G9: CONTABLE | H9: =+'7. INVERSIONES'!G8 -> 31-12-21 | I9: =+H9 -> 31-12-21
B11: EFECTIVO Y EQUIVALENTES
B13: Caja y Bancos - Moneda nacional | F13: 55063000 | H13: =+F13 -> 55063000 | I13: =+F13 -> 55063000
B15: Cuenta bancaria en dólares:
B16: Nov 23: Consignación | D16: 48100
B17: Nov 29: Pago a un proveedor | D17: -6300
B18: Dic. 1: Pago a un proveedor | D18: -20930
B19: Dic. 9: Consignación | D19: 12800
B20: Dic. 15: Pago a un proveedor | D20: -10500
B21: Saldo a Dic. 31 | D21: =SUM(D16:D20) -> 23170
B23: Discriminación del saldo:
B24: Consignación de Nov 23 | D24: =+D16+D17+D18+D20 -> 10370 | E24: 3913.26 | F24: =+D24*E24 -> 40580506 | G24: =+($G$6-E24)*D24 -> 704123 | H24: =+F24+G24 -> 41284629 | I24: =+F24 -> 40580506
B25: Consignación de Dic. 9 | D25: =+D19 -> 12800 | E25: 3906.1 | F25: =+D25*E25 -> 49998080 | G25: =+($G$6-E25)*D25 -> 960768 | H25: =+F25+G25 -> 50958848 | I25: =+F25 -> 49998080
B26: Saldo a Dic. 31 | D26: =SUM(D24:D25) -> 23170 | F26: =SUM(F24:F25) -> 90578586 | G26: =SUM(G24:G25) -> 1664891 | H26: =SUM(H24:H25) -> 92243477 | I26: =SUM(I24:I25) -> 90578586
B28: TOTAL DIF. EN CAMBIO | G28: =+G26 -> 1664891
B29: SALDOS A DIC. 31 | G29: =G28+I29-H29 -> 0 | H29: =SUM(H13)+H26 -> 1.4730648e+08 | I29: =SUM(I13)+I26 -> 1.4564159e+08
B32: INSTRUMENTOS FINANCIEROS
B34: CDT en dólares | D34: 100000 | E34: 4000 | F34: =+D34*E34 -> 400000000 | G34: =+($G$6-E34)*D34 -> -1884000 | H34: =+F34+G34 -> 398116000 | I34: =+F34 -> 400000000

Sheet 5. CxC
B1: =+'14. LABORALES - INTS'!B1 -> INDUSTRIAS EL MEJOR ESTILO S.A.
B2: =+'14. LABORALES - INTS'!B2 -> NIT 860.378.961 - 5
B3: =+'14. LABORALES - INTS'!B3 -> DECLARACION DE RENTA AÑO GRAVABLE 2021 | H3: ANEXO 5
B4: DETERIORO DE CARTERA DE DUDOSO RECAUDO
B7: A. | C7: CÁLCULO DEL DETERIORO FISCAL DE CARTERA
D9: VALOR | F9: MÉTODO | H9: MÉTODO
D10: CARTERA | E10: % | F10: GENERAL | G10: % | H10: INDIVIDUAL
B11: ANTIGÜEDAD DE CARTERA
B13: SIN VENCER | D13: 193552000
B14: ENTRE 0 Y 90 DIAS | D14: 46000000
B15: ENTRE 91 Y 180 DIAS | D15: 48293000 | E15: 0.05 | F15: =+D15*E15 -> 2414650
B16: ENTRE 181 Y 360 DIAS | D16: 79646000 | E16: 0.1 | F16: =+D16*E16 -> 7964600
B17: ENTRE 361 Y 720 DIAS | D17: 13429000 | E17: 0.15 | F17: =+D17*E17 -> 2014350 | G17: 0.33 | H17: =+D17*G17 -> 4431570
B18: ENTRE 721 Y 1.080 DIAS | D18: 6714000 | E18: 0.15 | F18: =+D18*E18 -> 1007100 | G18: 0.66 | H18: =+D18*G18 -> 4431240
B20: TOTAL | D20: =SUM(D13:D18) -> 387634000 | F20: =SUM(F13:F18) -> 13400700 | H20: =SUM(H13:H18) -> 8862810
B23: B. | C23: DETERMINACIÓN DEL DETERIORO DE CARTERA
D25: CONTABLE | F25: FISCAL | H25: DIFERENCIA
B27: SALDO A 31-12-20 | D27: 19000000 | F27: 8000000 | H27: =+D27-F27 -> 11000000
B28: (-) CASTIGOS SOPORTADOS | D28: 0 | F28: 0 | H28: =+D28-F28 -> 0
B29: SALDO ANTES DE AJUSTE | D29: =SUM(D27:D28) -> 19000000 | F29: =SUM(F27:F28) -> 8000000 | H29: =SUM(H27:H28) -> 11000000
B30: GASTO DEL AÑO | D30: 11550000 | F30: =+F32-F29 -> 5400700 | H30: =+D30-F30 -> 6149300
B32: SALDO A 31-12-21 | D32: =SUM(D29:D31) -> 30550000 | F32: =+F20 -> 13400700 | H32: =SUM(H29:H31) -> 17149300
B37: =+'2. RENTA FISCAL'!A1 -> INDUSTRIAS EL MEJOR ESTILO S.A.
B38: =+'2. RENTA FISCAL'!A2 -> NIT 860.378.961 - 5
B39: =+'2. RENTA FISCAL'!A3 -> DECLARACION DE RENTA AÑO GRAVABLE 2021 | H39: ANEXO 6
B40: CARTERA EN MONEDA EXTRANJERA
G41: TRM DIC. 31: | H41: =+'4. EFECTIVO'!G6 -> 3981.16
E42: TRM | F42: VALOR | G42: DIF. EN | H42: VALOR | I42: VALOR
B43: No. | C43: FECHA | D43: VALOR | E43: DEL DIA | F43: INICIAL | G43: CAMBIO | H43: CONTABLE | I43: FISCAL
B44: FACTURA | C44: FACTURA | D44: USD | E44: INICIAL | F44: PESOS | G44: CONTABLE | H44: =+'7. INVERSIONES'!G8 -> 31-12-21 | I44: =+H44 -> 31-12-21
B46: 8595 | C46: 44275 | D46: 40500 | E46: 3553.34 | F46: =+D46*E46 -> 143910270 | G46: =+($H$41-E46)*D46 -> 17326710 | H46: =+F46+G46 -> 161236980 | I46: =+F46 -> 143910270
B47: 8711 | C47: 44385 | D47: 21400 | E47: 3815.22 | F47: =+D47*E47 -> 81645708 | G47: =+($H$41-E47)*D47 -> 3551116 | H47: =+F47+G47 -> 85196824 | I47: =+F47 -> 81645708
B48: 8763 | C48: 44393 | D48: 32900 | E48: 3809.07 | F48: =+D48*E48 -> 125318403 | G48: =+($H$41-E48)*D48 -> 5661761 | H48: =+F48+G48 -> 1.3098016e+08 | I48: =+F48 -> 125318403
B49: 8827 | C49: 44440 | D49: 13200 | E49: 3774 | F49: =+D49*E49 -> 49816800 | G49: =+($H$41-E49)*D49 -> 2734512 | H49: =+F49+G49 -> 52551312 | I49: =+F49 -> 49816800
B50: 8892 | C50: 44442 | D50: 11000 | E50: 3780.85 | F50: =+D50*E50 -> 41589350 | G50: =+($H$41-E50)*D50 -> 2203410 | H50: =+F50+G50 -> 43792760 | I50: =+F50 -> 41589350
B51: 8975 | C51: 44530 | D51: 17800 | E51: 4010.98 | F51: =+D51*E51 -> 71395444 | G51: =+($H$41-E51)*D51 -> -530796 | H51: =+F51+G51 -> 70864648 | I51: =+F51 -> 71395444
B52: 9002 | C52: 44541 | D52: 20000 | E52: 3887.71 | F52: =+D52*E52 -> 77754200 | G52: =+($H$41-E52)*D52 -> 1869000 | H52: =+F52+G52 -> 79623200 | I52: =+F52 -> 77754200
B53: 9010 | C53: 44548 | D53: 35300 | E53: 3999.85 | F53: =+D53*E53 -> 141194705 | G53: =+($H$41-E53)*D53 -> -659757 | H53: =+F53+G53 -> 140534948 | I53: =+F53 -> 141194705
B56: TOTAL CARTERA | D56: =SUM(D45:D54) -> 192100 | F56: =SUM(F45:F54) -> 732624880 | G56: =SUM(G45:G54) -> 32155956 | H56: =SUM(H45:H54) -> 764780836 | I56: =SUM(I45:I54) -> 732624880

Sheet 7. INVERSIONES
B1: =+'2. RENTA FISCAL'!A1 -> INDUSTRIAS EL MEJOR ESTILO S.A.
B2: =+'2. RENTA FISCAL'!A2 -> NIT 860.378.961 - 5
B3: =+'2. RENTA FISCAL'!A3 -> DECLARACION DE RENTA AÑO GRAVABLE 2021 | K3: ANEXO 7
B4: INVERSIONES EN SOCIEDADES
E6: DETALLE CONTABLE | I6: DETALLE FISCAL
B7: NOMBRE DE LA INVERSION | D7: CANT. | E7: SALDO AL | F7: MOVIMIENTOS | G7: SALDO AL | I7: COSTO FISCAL | J7: REAJUSTES | K7: MOVIMIENTOS | L7: COSTO FISCAL
E8: 31-12-20 | F8: Y AJUSTES | G8: =+'1. PATRIM FISCAL'!B8 -> 31-12-21 | I8: =+E8 -> 31-12-20 | J8: =+ANEXOS!C44 -> 0.0197 | K8: Y AJUSTES | L8: =+G8 -> 31-12-21
B10: BANCO DAVIVIENDA S.A.
B11: Poseídas todo el año | D11: 9000 | E11: =D11*25000 -> 225000000 | G11: =F11+E11 -> 225000000 | I11: =E11 -> 225000000 | L11: =+K11+J11+I11 -> 225000000
B12: Dividendos en acciones - Marzo | D12: 750 | F12: =+'11. INGRESOS'!D10 -> 23850000 | G12: =F12+E12 -> 23850000 | K12: =+'11. INGRESOS'!D10 -> 23850000 | L12: =+K12+J12+I12 -> 23850000
B13: Ajuste al vr razonable - Iniciales | D13: =+D11 -> 9000 | E13: =+(29800-25000)*D13 -> 43200000 | F13: =(35100-29800)*D13 -> 47700000 | G13: =F13+E13 -> 90900000 | L13: =+K13+J13+I13 -> 0
B14: Ajuste al vr razonable - Recibidas | D14: =+D12 -> 750 | F14: =+(35100-31800)*D14 -> 2475000 | G14: =F14+E14 -> 2475000 | L14: =+K14+J14+I14 -> 0
D15: =+D13+D14 -> 9750 | E15: =SUM(E11:E14) -> 268200000 | F15: =SUM(F11:F14) -> 74025000 | G15: =SUM(G11:G14) -> 342225000 | I15: =SUM(I11:I14) -> 225000000 | J15: =SUM(J11:J14) -> 0 | K15: =SUM(K11:K14) -> 23850000 | L15: =SUM(L11:L14) -> 248850000
B17: LABORATORIO CENTRAL S.A.S.
B18: Poseídas todo el año | D18: 405000 | E18: 18950000 | G18: =F18+E18 -> 18950000 | I18: =+E18*(1+ANEXOS!$C$42)*(1+ANEXOS!$C$43) -> 20350602 | J18: =+I18*$J$8 -> 400906.86 | L18: =+K18+J18+I18 -> 20751509
B19: Vendidas en Junio | D19: =+D18 -> 405000 | E19: 18950000 | F19: =-E19 -> -18950000 | G19: =F19+E19 -> 0 | I19: =+I18 -> 20350602 | J19: =+I19*$J$8/12*6 -> 200453.43 | K19: =-I19-J19 -> -20551056 | L19: =+K19+J19+I19 -> 0
B20: Adquiridas en Diciembre | D20: 530000 | F20: 29300000 | G20: =F20+E20 -> 29300000 | K20: =F20 -> 29300000 | L20: =+K20+J20+I20 -> 29300000
B21: Deterioro | E21: 0 | G21: =F21+E21 -> 0 | L21: 0
D22: =+D18+D20 -> 935000 | E22: =SUM(E18:E21) -> 37900000 | F22: =SUM(F18:F21) -> 10350000 | G22: =SUM(G18:G21) -> 48250000 | I22: =SUM(I18:I21) -> 40701204 | J22: =SUM(J18:J21) -> 601360.29 | K22: =SUM(K18:K21) -> 8748944.5 | L22: =SUM(L18:L21) -> 50051509
B24: DISTRIBUCIONES ANDINAS S.A.S.
B25: Poseídas todo el año - Histórico | D25: 85000 | E25: 280000000 | G25: =F25+E25 -> 280000000 | I25: =+E25 -> 280000000 | K25: =+F25 -> 0 | L25: =+K25+J25+I25 -> 280000000
B26: Utilidades por M. de Participación | E26: 153000000 | F26: 29158000 | G26: =F26+E26 -> 182158000 | I26: 0 | K26: 0 | L26: 0
B27: Distribución de dividendos | F27: =-'11. INGRESOS'!D17 -> -52615000 | G27: =F27+E27 -> -52615000 | K27: 0 | L27: 0
B28: Superávit método de participación | F28: 17390000 | G28: =F28+E28 -> 17390000 | K28: 0 | L28: 0
D29: =+D25 -> 85000 | E29: =SUM(E25:E28) -> 433000000 | F29: =SUM(F25:F28) -> -6067000 | G29: =SUM(G25:G28) -> 426933000 | I29: =SUM(I25:I28) -> 280000000 | J29: =SUM(J25:J28) -> 0 | K29: =SUM(K25:K28) -> 0 | L29: =SUM(L25:L28) -> 280000000
B31: SOCIEDAD ABC Ltd.
B32: Costo de compra Sept. 10 de 2018 | D32: 70000 | E32: =D32*3075 -> 215250000 | G32: =+E32+F32 -> 215250000 | I32: =+E32 -> 215250000 | L32: =+K32+J32+I32 -> 215250000
B33: Diferencia en cambio 2018 a 2020 | E33: =+(3432.5-3075)*D32 -> 25025000 | G33: =+E33+F33 -> 25025000 | I33: 0 | L33: =+K33+J33+I33 -> 0
B34: Diferencia en cambio 2021 | F34: =+(3981.16-3432.5)*D32 -> 38406200 | G34: =+E34+F34 -> 38406200 | L34: =+K34+J34+I34 -> 0
B35: Costo a Dic. 31 | D35: =+D32 -> 70000 | E35: =SUM(E32:E34) -> 240275000 | F35: =+G35-E35 -> 38406200 | G35: =SUM(G32:G34) -> 278681200 | I35: =SUM(I32:I34) -> 215250000 | L35: =SUM(L32:L34) -> 215250000
B37: TOTALES | E37: =+E15+E22+E29+E35 -> 979375000 | F37: =+F15+F22+F29+F35 -> 116714200 | G37: =+G15+G22+G29+G35 -> 1096089200 | I37: =+I15+I22+I29+I35 -> 7.609512e+08 | J37: =+J15+J22+J29+J35 -> 601360.29 | K37: =+K15+K22+K29+K35 -> 32598944 | L37: =+L15+L22+L29+L35 -> 7.9415151e+08
G38: =SUM(G32:G34)-G35 -> 0 | L38: =+I37+J37+K37-L37 -> 0
B40: VENTA DE ACCIONES - LABORATORIO CENTRAL S.A.S.
E42: VALOR | F42: VALOR
E43: CONTABLE | F43: FISCAL
B45: PRECIO DE VENTA | E45: 21500000 | F45: =+(50*1.3)*D19 -> 26325000 | G45: (*)
B46: COSTO DE VENTA | E46: =F19 -> -18950000 | F46: =K19 -> -20551056
B48: UTILIDAD / (PERDIDA) | E48: =SUM(E45:E47) -> 2550000 | F48: =SUM(F45:F47) -> 5773944.5 | G48: (*)
B50: (*) Valor mínimo de venta: El valor intrínseco de $50 más un 30% = $65. (E.T. Art. 90).
B51: Esta venta se clasifica como ganancia ocasional, porque la inversión se tuvo más
...

Sheet 8. PPyE
A1: =+'7. INVERSIONES'!B1 -> INDUSTRIAS EL MEJOR ESTILO S.A.
A2: =+'7. INVERSIONES'!B2 -> NIT 860.378.961 - 5
A3: =+'7. INVERSIONES'!B3 -> DECLARACION DE RENTA AÑO GRAVABLE 2021 | K3: ANEXO 8
A4: PROPIEDADES, PLANTA Y EQUIPO
E6: ACTIVOS - CONTABLE | I6: ACTIVOS - FISCAL
A7: TIPO DE ACTIVO | C7: COSTO | E7: VALOR A | F7: ADICIONES | G7: VALOR A | I7: VALOR A | J7: REAJUSTES | K7: ADICIONES | L7: VALOR A
C8: HISTÓRICO | E8: =+'7. INVERSIONES'!E8 -> 31-12-20 | F8: (RETIROS) | G8: =+'7. INVERSIONES'!G8 -> 31-12-21 | I8: =+'8. PPyE'!E8 -> 31-12-20 | J8: =+'7. INVERSIONES'!J8 -> 0.0197 | K8: (RETIROS) | L8: =+'8. PPyE'!G8 -> 31-12-21
A10: TERRENOS
A11: Vendido en Noviembre | C11: 61700000 | E11: 108000000 | F11: =-E11 -> -108000000 | G11: =+F11+E11 -> 0 | I11: 239000000 | K11: =-I11-J11 -> -239000000 | L11: =+I11+J11+K11 -> 0
A12: Poseído todo el año | C12: 311990000 | E12: 504800000 | G12: =+F12+E12 -> 504800000 | I12: 431850000 | L12: =I12+J12+K12 -> 431850000
A13: TOTAL TERRENOS | C13: =SUM(C11:C12) -> 373690000 | E13: =SUM(E11:E12) -> 612800000 | F13: =SUM(F10:F12) -> -108000000 | G13: =SUM(G10:G12) -> 504800000 | I13: =SUM(I11:I12) -> 670850000 | J13: =SUM(J11:J12) -> 0 | K13: =SUM(K11:K12) -> -239000000 | L13: =SUM(L11:L12) -> 431850000
A15: EDIFICACIONES
A16: Poseído desde antes de 2016 | C16: 318000000 | E16: =+C16 -> 318000000 | G16: =+F16+E16 -> 318000000 | I16: =E16*(1+ANEXOS!C41)*(1+ANEXOS!C42) -> 3.4206227e+08 | J16: =551000000-I16 -> 2.0893773e+08 | L16: =+I16+J16+K16 -> 551000000
A17: Adquirido en Agosto 2020 | C17: 370000000 | E17: =+C17 -> 370000000 | G17: =+F17+E17 -> 370000000 | I17: =+C17 -> 370000000 | L17: =+I17+J17+K17 -> 370000000
A18: TOTAL EDIFICACIONES | C18: =SUM(C16:C17) -> 688000000 | E18: =SUM(E16:E17) -> 688000000 | F18: =SUM(F16:F17) -> 0 | G18: =SUM(G16:G17) -> 688000000 | I18: =SUM(I16:I17) -> 7.1206227e+08 | J18: =SUM(J16:J17) -> 2.0893773e+08 | K18: =SUM(K16:K17) -> 0 | L18: =SUM(L16:L17) -> 921000000
A20: MUEBLES Y ENSERES | C20: 71330120 | E20: =+C20 -> 71330120 | G20: =+F20+E20 -> 71330120 | I20: =+E20 -> 71330120 | L20: =I20+J20+K20 -> 71330120
A22: MAQUINARIA Y EQUIPO
A23: Poseídos todo el año | C23: 412743000 | E23: =+C23 -> 412743000 | G23: =+F23+E23 -> 412743000 | I23: =+E23 -> 412743000 | J23: =+(I23-'9. DEPRECIACIÓN'!J23)*J8 -> 2439311.1 | L23: =I23+J23+K23 -> 4.1518231e+08
A24: Vendida en Octubre | C24: 30000000 | E24: =+C24 -> 30000000 | F24: =-E24 -> -30000000 | G24: =+F24+E24 -> 0 | I24: =+E24 -> 30000000 | J24: =(+I24-'9. DEPRECIACIÓN'!J24)*J8/12*9 -> 221625 | K24: =-I24-J24 -> -30221625 | L24: =I24+J24+K24 -> 0
A25: Adquirida en Mayo | F25: =129300000+26400000 -> 155700000 | G25: =+F25+E25 -> 155700000 | J25: =+(K25-'9. DEPRECIACIÓN'!J25)*J8/12*7 -> 1789252.5 | K25: =+F25 -> 155700000 | L25: =+I25+J25+K25 -> 1.5748925e+08
A26: TOTAL MAQUINARIA Y EQUIPO | C26: =SUM(C23:C25) -> 442743000 | E26: =SUM(E23:E25) -> 442743000 | F26: =SUM(F23:F25) -> 125700000 | G26: =SUM(G23:G25) -> 568443000 | I26: =SUM(I23:I25) -> 442743000 | J26: =SUM(J23:J25) -> 4450188.6 | K26: =SUM(K23:K25) -> 125478375 | L26: =SUM(L23:L25) -> 5.7267156e+08
A28: VEHICULOS
A29: Poseídos todo el año | C29: 217930000 | E29: =+C29 -> 217930000 | G29: =+F29+E29 -> 217930000 | I29: =+E29 -> 217930000 | L29: =I29+J29+K29 -> 217930000
A30: Adquirido en Abril | E30: =+C30 -> 0 | F30: =89000000*1.19 -> 105910000 | G30: =+F30+E30 -> 105910000 | I30: =+C30 -> 0 | K30: =+F30 -> 105910000 | L30: =I30+J30+K30 -> 105910000
A31: TOTAL VEHÍCULOS | C31: =SUM(C29:C30) -> 217930000 | E31: =SUM(E29:E30) -> 217930000 | F31: =SUM(F29:F30) -> 105910000 | G31: =SUM(G29:G30) -> 323840000 | I31: =SUM(I29:I30) -> 217930000 | J31: =SUM(J29:J30) -> 0 | K31: =SUM(K29:K30) -> 105910000 | L31: =SUM(L29:L30) -> 323840000
A33: EQUIPO DE COMPUTO
A34: Poseídos todo el año | C34: 48791336 | E34: =+C34 -> 48791336 | G34: =+F34+E34 -> 48791336 | I34: =+E34 -> 48791336 | L34: =I34+J34+K34 -> 48791336
A35: Obsoletos en Enero | C35: 50568489 | E35: =+C35 -> 50568489 | F35: =-E35 -> -50568489 | G35: =+F35+E35 -> 0 | I35: =+E35 -> 50568489 | K35: =-I35 -> -50568489 | L35: =I35+J35+K35 -> 0
A36: TOTAL EQUIPO DE COMPUTO | C36: =SUM(C34:C35) -> 99359825 | E36: =SUM(E34:E35) -> 99359825 | F36: =SUM(F34:F35) -> -50568489 | G36: =SUM(G34:G35) -> 48791336 | I36: =SUM(I34:I35) -> 99359825 | J36: =SUM(J34:J35) -> 0 | K36: =SUM(K34:K35) -> -50568489 | L36: =SUM(L34:L35) -> 48791336
A38: TOTALES P P y Eq. | E38: =+E36+E31+E26+E20+E18+E13 -> 2132162945 | F38: =+F36+F31+F26+F20+F18+F13 -> 73041511 | G38: =+G36+G31+G26+G20+G18+G13 -> 2205204456 | I38: =+I36+I31+I26+I20+I18+I13 -> 2.2142752e+09 | J38: =+J36+J31+J26+J20+J18+J13 -> 2.1338792e+08 | K38: =+K36+K31+K26+K20+K18+K13 -> -58180114 | L38: =+L36+L31+L26+L20+L18+L13 -> 2.369483e+09

Sheet 9. DEPRECIACIÓN
A1: =+'8. PPyE'!A1 -> INDUSTRIAS EL MEJOR ESTILO S.A.
A2: =+'8. PPyE'!A2 -> NIT 860.378.961 - 5
A3: =+'8. PPyE'!A3 -> DECLARACION DE RENTA AÑO GRAVABLE 2021 | L3: ANEXO 9
A4: DEPRECIACIÒN
C6: DEPRECIACION - CONTABLE | I6: DEPRECIACION - FISCAL
A7: TIPO DE ACTIVO | C7: BASE DE | D7: VALOR A | E7: GASTO DEL | G7: VALOR A | I7: BASE DE | J7: VALOR A | K7: DEDUCCIÓN | M7: VALOR A
C8: DEPREC. | D8: =+'8. PPyE'!E8 -> 31-12-20 | E8: AÑO | F8: RETIROS | G8: =+'8. PPyE'!G8 -> 31-12-21 | I8: DEPREC. | J8: =+'8. PPyE'!I8 -> 31-12-20 | K8: AÑO | L8: RETIROS | M8: =+'8. PPyE'!L8 -> 31-12-21
A10: TERRENOS
A11: Vendido en Noviembre
A12: Poseído todo el año
A13: TOTAL TERRENOS
A15: EDIFICACIONES (70 años)
A16: Poseído desde antes de 2016 | C16: =+'8. PPyE'!C16*70% -> 222600000 | D16: =+C16/70*11 -> 34980000 | E16: =+C16/70 -> 3180000 | G16: =SUM(D16:F16) -> 38160000 | I16: =+'8. PPyE'!C16 -> 318000000 | J16: =+I16/20*11 -> 174900000 | K16: =+I16/20 -> 15900000 | M16: =SUM(J16:L16) -> 190800000
A17: Adquirido en Agosto 2020 | C17: =+'8. PPyE'!C17*70% -> 2.59e+08 | D17: =C17/70/12*4 -> 1233333.3 | E17: =C17/70 -> 3700000 | G17: =SUM(D17:F17) -> 4933333.3 | I17: =+C17 -> 2.59e+08 | J17: ='9. DEPRECIACIÓN'!D17 -> 1233333.3 | K17: =+E17 -> 3700000 | M17: =SUM(J17:L17) -> 4933333.3
A18: TOTAL EDIFICACIONES | D18: =SUM(D16:D17) -> 36213333 | E18: =SUM(E16:E17) -> 6880000 | F18: =SUM(F16:F17) -> 0 | G18: =SUM(G16:G17) -> 43093333 | J18: =SUM(J16:J17) -> 1.7613333e+08 | K18: =SUM(K16:K17) -> 19600000 | L18: =SUM(L16:L17) -> 0 | M18: =SUM(M16:M17) -> 1.9573333e+08
A20: MUEBLES Y ENSERES (10 años) | C20: =+'8. PPyE'!C20 -> 71330120 | D20: 21758800 | E20: =+C20/10 -> 7133012 | G20: =SUM(D20:F20) -> 28891812 | I20: =+'8. PPyE'!C20 -> 71330120 | J20: =+D20 -> 21758800 | K20: =+E20 -> 7133012 | M20: =SUM(J20:L20) -> 28891812
A22: MAQUINARIA Y EQ. (15 años)
A23: Poseídos todo el año | C23: =+'8. PPyE'!C23*90% -> 371468700 | D23: =+C23/15*7 -> 173352060 | E23: =+C23/15 -> 24764580 | G23: =SUM(D23:F23) -> 198116640 | I23: =+'8. PPyE'!C23 -> 412743000 | J23: =+I23/10*7 -> 288920100 | K23: =+I23/10 -> 41274300 | M23: =SUM(J23:L23) -> 330194400
A24: Vendida en Octubre | C24: =+'8. PPyE'!C24*90% -> 27000000 | D24: =+C24/15*5 -> 9000000 | E24: =C24/180*9 -> 1350000 | F24: =-D24-E24 -> -10350000 | G24: =SUM(D24:F24) -> 0 | I24: =+'8. PPyE'!C24 -> 30000000 | J24: =+I24/10*5 -> 15000000 | K24: =I24/120*9 -> 2250000 | L24: =-K24-J24 -> -17250000 | M24: =SUM(J24:L24) -> 0
A25: Adquirida en Mayo | C25: =+'8. PPyE'!F25*90% -> 140130000 | D25: 0 | E25: =+C25/180*7 -> 5449500 | G25: =SUM(D25:F25) -> 5449500 | I25: =+C25 -> 140130000 | J25: 0 | K25: =+I25/180*7 -> 5449500 | M25: =SUM(J25:L25) -> 5449500
A26: TOTAL MAQUINARIA Y EQUIPO | D26: =SUM(D23:D25) -> 182352060 | E26: =SUM(E23:E25) -> 31564080 | F26: =SUM(F23:F25) -> -10350000 | G26: =SUM(G23:G25) -> 203566140 | J26: =SUM(J23:J25) -> 303920100 | K26: =SUM(K23:K25) -> 48973800 | L26: =SUM(L23:L25) -> -17250000 | M26: =SUM(M23:M25) -> 335643900
A28: VEHICULOS (8 años)
A29: Poseídos todo el año | C29: =+'8. PPyE'!C29*90% -> 196137000 | D29: =+C29/8*5.5 -> 1.3484419e+08 | E29: =+C29/8 -> 24517125 | G29: =SUM(D29:F29) -> 1.5936131e+08 | I29: =+'8. PPyE'!C29 -> 217930000 | J29: =+I29 -> 217930000 | K29: 0 | M29: =SUM(J29:L29) -> 217930000
A30: Adquirido en Abril | C30: =+'8. PPyE'!F30*90% -> 95319000 | D30: 0 | E30: =C30/8/12*8 -> 7943250 | G30: =SUM(D30:F30) -> 7943250 | I30: =+C30 -> 95319000 | J30: 0 | K30: =+I30/10/12*8 -> 6354600 | M30: =SUM(J30:L30) -> 6354600
A31: TOTAL VEHÍCULOS | D31: =SUM(D29:D30) -> 1.3484419e+08 | E31: =SUM(E29:E30) -> 32460375 | F31: =SUM(F29:F30) -> 0 | G31: =SUM(G29:G30) -> 1.6730456e+08 | J31: =SUM(J29:J30) -> 217930000 | K31: =SUM(K29:K30) -> 6354600 | L31: =SUM(L29:L30) -> 0 | M31: =SUM(M29:M30) -> 224284600
A33: EQUIPO DE COMPUTO (5 años)
A34: Poseídos todo el año | C34: =+'8. PPyE'!C34 -> 48791336 | D34: 16620975 | E34: =+'8. PPyE'!G34/5 -> 9758267.2 | G34: =SUM(D34:F34) -> 26379242 | I34: =+'8. PPyE'!C34 -> 48791336 | J34: =+D34 -> 16620975 | K34: =+E34 -> 9758267.2 | M34: =SUM(J34:L34) -> 26379242
A35: Obsoletos en Enero | C35: =+'8. PPyE'!C35 -> 50568489 | D35: =+C35/60*32 -> 26969861 | E35: =+'8. PPyE'!E35-D35 -> 23598628 | F35: =-D35-E35 -> -50568489 | G35: =SUM(D35:F35) -> 0 | I35: =+'8. PPyE'!C35 -> 50568489 | J35: =+D35 -> 26969861 | K35: =+'9. DEPRECIACIÓN'!E35 -> 23598628 | L35: =-J35-K35 -> -50568489 | M35: =SUM(J35:L35) -> 0
A36: TOTAL EQUIPO DE COMPUTO | D36: =SUM(D34:D35) -> 43590836 | E36: =SUM(E34:E35) -> 33356895 | F36: =SUM(F34:F35) -> -50568489 | G36: =SUM(G34:G35) -> 26379242 | J36: =SUM(J34:J35) -> 43590836 | K36: =SUM(K34:K35) -> 33356895 | L36: =SUM(L34:L35) -> -50568489 | M36: =SUM(M34:M35) -> 26379242
A38: TOTALES P P y Eq. | D38: =+D36+D31+D26+D20+D18+D13 -> 4.1875922e+08 | E38: =+E36+E31+E26+E20+E18+E13 -> 1.1139436e+08 | F38: =+F36+F31+F26+F20+F18+F13 -> -60918489 | G38: =+G36+G31+G26+G20+G18+G13 -> 4.6923509e+08 | J38: =+J36+J31+J26+J20+J18+J13 -> 7.6333307e+08 | K38: =+K36+K31+K26+K20+K18+K13 -> 1.1541831e+08 | L38: =+L36+L31+L26+L20+L18+L13 -> -67818489 | M38: =+M36+M31+M26+M20+M18+M13 -> 8.1093289e+08

Sheet 10. VTA ACT FIJOS
A1: =+'9. DEPRECIACIÓN'!A1 -> INDUSTRIAS EL MEJOR ESTILO S.A.
A2: =+'9. DEPRECIACIÓN'!A2 -> NIT 860.378.961 - 5
A3: =+'9. DEPRECIACIÓN'!A3 -> DECLARACION DE RENTA AÑO GRAVABLE 2021 | K3: ANEXO 10
A4: VENTAS DE PROPIEDADES, PLANTA Y EQUIPO
F6: RENTA | J6: GANANCIA OCASIONAL
E7: UTILIDAD | H7: RENTA | I7: RECUPERA- | L7: GANANCIA
A8: DESCRIPCION | B8: FECHA DE | C8: FECHA DE | D8: VALOR | E8: (PÉRIDA) | F8: PRECIO | G8: COSTO | H8: (PERDIDA) | I8: CIÓN DE | J8: PRECIO | K8: COSTO | L8: (PERDIDA) | M8: NOTA
B9: VENTA | C9: COMPRA | D9: EN LIBROS | E9: CONTABLE | F9: DE VENTA | G9: FISCAL | H9: FISCAL | I9: DEDUCCIONES | J9: DE VENTA | K9: FISCAL | L9: OCASIONAL
A11: PROPIEDADES, PLANTA Y EQUIPO:
A13: TERRENO | B13: Noviembre | C13: Marzo 2016 | D13: =-'8. PPyE'!F11 -> 108000000 | E13: =+J13-D13 -> 187000000 | J13: 295000000 | K13: =-'8. PPyE'!K11 -> 239000000 | L13: =+J13-K13 -> 56000000 | M13: (1)
A15: MAQUINA | B15: Octubre | C15: Dicbre 2015 | D15: =-'8. PPyE'!F24+'9. DEPRECIACIÓN'!F24 -> 19650000 | E15: =K28-D15 -> 7850000 | F15: 0 | G15: 0 | I15: =-K32 -> 14528375 | J15: =+K28-I15 -> 12971625 | K15: =+K29 -> 12971625 | L15: =+J15-K15 -> 0 | M15: (2)
A17: TOTAL | D17: =SUM(D13:D16) -> 127650000 | E17: =SUM(E13:E16) -> 194850000 | F17: =SUM(F13:F16) -> 0 | G17: =SUM(G13:G16) -> 0 | H17: =SUM(H13:H16) -> 0 | I17: =SUM(I13:I16) -> 14528375 | J17: =SUM(J13:J16) -> 307971625 | K17: =SUM(K13:K16) -> 251971625 | L17: =SUM(L13:L16) -> 56000000
B20: (1) En la enajenación de bienes raíces no se acepta un precio inferior al costo, al avalúo catastral ni al autoavalúo.
B21: Por lo tanto, no es deducible la pérdida en venta de estos bienes. (Artículo 90 del E.T.)
B23: El ingreso obtenido por la enajenación de inmuebles, en casos de expropiación por vía administrativa, no constituye
B24: renta gravable ni ganancia ocasional, siempre que la negociación se realice por la vía de la enajenación voluntaria
B25: (Ley 388 de 1997 Art. 67 Parágrafo 2 / Oficio DIAN 021714 de 2015).
B28: (2) Precio de venta | K28: 27500000
B29: Menos: Costo fiscal al momento de la venta: | G29: Costo reajustado | J29: =-'8. PPyE'!K24 -> 30221625 | K29: =SUM(J29:J30) -> 12971625
G30: Depreciación acumulada | J30: =+'9. DEPRECIACIÓN'!L24 -> -17250000
B31: Utilidad (pérdida) en la venta | K31: =+K28-K29 -> 14528375
B32: Menos: Recuperación de deducciones (E.T. Arts. 195 y 196) | K32: =-K31 -> -14528375
B33: Ganancia ocasional neta | K33: =SUM(K31:K32) -> 0

Sheet 11. INGRESOS
B1: =+'10. VTA ACT FIJOS'!A1 -> INDUSTRIAS EL MEJOR ESTILO S.A.
B2: =+'10. VTA ACT FIJOS'!A2 -> NIT 860.378.961 - 5
B3: =+'10. VTA ACT FIJOS'!A3 -> DECLARACION DE RENTA AÑO GRAVABLE 2021 | F3: ANEXO 11
B4: INGRESOS POR DIVIDENDOS Y PARTICIPACIONES
D6: TOTAL | E6: INGRESO | G6: NO CONST. | H6: RET. FTE. | I6: RET. FTE.
B7: SOCIEDAD | D7: DIVIDENDOS | E7: CONTABLE | F7: GRAVADOS | G7: DE RENTA | H7: 0.31 | I7: 0.075
B9: =+'7. INVERSIONES'!B10 -> BANCO DAVIVIENDA S.A.
B10: Distribución de utilidades en acciones | D10: =750*31800 -> 23850000 | E10: =+D10 -> 23850000 | G10: =+D10 -> 23850000 | I10: =+G10*7.5% -> 1788750
B12: =+'7. INVERSIONES'!B17 -> LABORATORIO CENTRAL S.A.S. | D12: 15300000 | E12: =+D12 -> 15300000
B13: Dividendos en efectivo - No const. Renta | G13: =D12*70% -> 10710000 | I13: =+G13*I7 -> 803250
B14: Dividendos en efectivo - Gravados | F14: =+D12-G13 -> 4590000 | H14: =+F14*H7 -> 1422900 | I14: =+(F14-H14)*7.5% -> 237532.5
B16: DISTRIBUCIONES ANDINAS S.A.S.
B17: Distribución en efectivo (M. Participación) | D17: =61900000*85% -> 52615000 | E17: 0 | G17: =+D17 -> 52615000 | I17: 0
B19: TOTAL DIVIDENDOS | D19: =SUM(D9:D18) -> 91765000 | E19: =SUM(E9:E18) -> 39150000 | F19: =SUM(F9:F18) -> 4590000 | G19: =SUM(G9:G18) -> 87175000 | H19: =SUM(H9:H18) -> 1422900 | I19: =SUM(I9:I18) -> 2829532.5
B23: =+B1 -> INDUSTRIAS EL MEJOR ESTILO S.A.
B24: =+B2 -> NIT 860.378.961 - 5
B25: =+B3 -> DECLARACION DE RENTA AÑO GRAVABLE 2021 | F25: ANEXO 12
B26: CÁLCULO DE INTERESES PRESUNTIVOS
B29: NOMBRE ACCIONISTA | C29: FECHA | D29: SALDO | E29: AUMENTOS | F29: TASA (%) | G29: INTERÉS
E30: (ABONOS) | G30: PRESUNTO
B32: JAVIER MARTINEZ | C32: Saldo anterior | D32: 55000000 | F32: =+(D50/12)*12 -> 0.0189 | G32: =+D32*F32 -> 1039500
C33: 36982 | E33: 40000000 | F33: =+(D50/12)*9 -> 0.014175 | G33: =+E33*F33 -> 567000
C34: 11505 | E34: 10000000 | F34: =+(D50/12)*5 -> 0.007875 | G34: =+E34*F34 -> 78750
C35: 45170 | E35: -15000000 | F35: =+(D50/12)*3 -> 0.004725 | G35: =+E35*F35 -> -70875
B37: TOTAL PRÉSTAMOS | D37: =D32+E33+E34+E35 -> 90000000 | G37: =SUM(G31:G36) -> 1614375
B40: Cálculo del valor presente
B42: Tasa de interés anual | D42: 0.08
B43: Plazo | D43: 2 años
B44: Valor presente | D44: =+D37/((1+D42)*(1+D42)) -> 77160494
B46: Gasto - Interés implícito | D46: =+D37-D44 -> 12839506
B48: El artículo 35 del E.T. determina que los préstamos en dinero otorgados por las sociedades a los
B49: socios, generan un interés presuntivo. De acuerdo con el Decreto 455 de 2021, artículo 1, para
B50: el año 2021 el rendimiento presuntivo es del | D50: 0.0189
B54: =+B1 -> INDUSTRIAS EL MEJOR ESTILO S.A.
B55: =+B2 -> NIT 860.378.961 - 5
B56: =+B3 -> DECLARACION DE RENTA AÑO GRAVABLE 2021 | F56: ANEXO 13
B57: DESCUENTO TRIBUTARIO POR IMPUESTOS PAGADOS EN EL EXTERIOR
E60: VALOR | F60: RETENCIÓN
B62: Ingresos de fuente extranjera | E62: 86000000 | F62: =+E62*20% -> 17200000
B63: Menos: Costos y deducciones | E63: -40150000
...

Sheet 14. LABORALES - INTS
B1: =+'11. INGRESOS'!B1 -> INDUSTRIAS EL MEJOR ESTILO S.A.
B2: =+'11. INGRESOS'!B2 -> NIT 860.378.961 - 5
B3: =+'11. INGRESOS'!B3 -> DECLARACION DE RENTA AÑO GRAVABLE 2021 | G3: ANEXO 14
B4: TRATAMIENTO FISCAL DE LOS GASTOS LABORALES
E6: GASTOS
E7: DE PERSONAL | G7: APORTES
B9: VALOR GASTO CONTABLE | E9: 789510000 | G9: 103712000
B11: MENOS: GASTOS NO DEDUCIBLES:
B13: Auxilios extralegales sin retención en la fuente | E13: -9250000 | F13: (1)
B14: Pagos a trabajadores con ingresos de más de 10
B15: salarios mínimos, sin los aportes respectivos | E15: -35943000 | F15: (2)
E16: =SUM(E12:E15) -> -45193000
B18: MÁS: DEDUCCIONES ADICIONALES
B20: Deducción adicional por contratación de discapacitados | E20: 17420000 | F20: (3)
B21: Deducción adicional por contratar menores de 28 años | E21: =28000000*20% -> 5600000 | F21: (4)
B22: Aportes adicionales de abril y mayo de 2020 | E22: 12201000 | F22: (5)
E23: =SUM(E19:E22) -> 35221000
B25: VALOR DEDUCCIÓN FISCAL | E25: =+E9+E16+E23 -> 779538000 | G25: =+G9+G16+G23 -> 103712000
B28: (1) E.T. Artículo 87-1.
B29: (2) E.T. Artículos 108 y 664. Solución: Pagar los aportes adeudados antes de presentar
B30: la declaración de renta.
B31: (3) Ley 361 de 1997 Art. 31: Deducción del 200% del valor de los salarios y prestaciones
B32: sociales sociales pagados a trabajadores con limitación no inferior al 25%
B33: (4) E.T. Artículo 108-5: Deducción del 120%
B34: (5) Decreto Legislativo 558 de 2020 / Decreto 376 de abril 9 de 2021.
B38: =+B1 -> INDUSTRIAS EL MEJOR ESTILO S.A.
B39: =+B2 -> NIT 860.378.961 - 5
B40: =+B3 -> DECLARACION DE RENTA AÑO GRAVABLE 2021 | G40: ANEXO 15
B41: DEDUCCIÓN POR INTERESES - SUBCAPITALIZACIÓN
B43: ACREEDOR | C43: FECHA INICIAL | D43: FECHA FINAL | E43: V/R CRÉDITO (BASE) | F43: % | G43: VALOR INTERESES | H43: DÍAS DE PERMA-NENCIA | I43: DEUDA PONDERADA
B45: Entidades financieras:
B46: Banco de Occidente (1) | C46: Ene 1 | D46: Abr 15 | E46: 750000000 | F46: 0.14 | G46: =+E46*F46/365*H46 -> 30205479 | H46: =31+28+31+15 -> 105 | I46: =+E46*H46 -> 78750000000
C47: Abr 16 | D47: Nov 3 | E47: 1824000000 | F47: 0.135 | G47: =+E47*F47/365*H47 -> 1.3627529e+08 | H47: =15+31+30+31+31+30+31+3 -> 202 | I47: =+E47*H47 -> 368448000000
B49: Banco Davivienda (2) | C49: Oct 15 | D49: Dic 31 | E49: 1440000000 | F49: 0.125 | G49: =+E49*F49/365*H49 -> 37972603 | H49: 77 | I49: 0
B51: Bancolombia (2) | C51: Mar 20 | D51: Jul 25 | E51: 418000000 | F51: 0.14 | G51: =+E51*F51/365*H51 -> 20201425 | H51: 126 | I51: 0
B53: Préstamos de accionistas:
B54: Inversiones El Rubí (1) | C54: Ago 9 | D54: Dic 20 | E54: 1380000000 | F54: 0.07 | G54: =+E54*F54/365*H54 -> 35464110 | H54: =23+30+31+30+20 -> 134 | I54: =+E54*H54 -> 184920000000
C55: Dic 19 | D55: Dic 29 | E55: 970000000 | F55: =+F54 -> 0.07 | G55: =+E55*F55/365*H55 -> 2046301.4 | H55: 11 | I55: =+E55*H55 -> 10670000000
B57: TOTAL | G57: =SUM(G46:G56) -> 2.6216521e+08 | I57: =SUM(I46:I56) -> 642788000000
B59: Monto total promedio de las deudas | I59: =+I57/365 -> 1.761063e+09
...

Sheet 16. IMPTOS - EFECTIVO
B1: =+'14. LABORALES - INTS'!B1 -> INDUSTRIAS EL MEJOR ESTILO S.A.
B2: =+'14. LABORALES - INTS'!B2 -> NIT 860.378.961 - 5
B3: =+'14. LABORALES - INTS'!B3 -> DECLARACION DE RENTA AÑO GRAVABLE 2021 | G3: ANEXO 16
B4: IMPUESTO DE INDUSTRIA Y COMERCIO
D6: FECHA | E6: GASTO | F6: DEDUCCION | G6: NO | H6: DESCUENTO
B7: CONCEPTO | C7: VALOR | D7: DE PAGO | E7: DEL AÑO | F7: DEL AÑO | G7: DEDUCIBLE | H7: TRIB. (50%)
B9: BOGOTÁ
B11: 1o AL 5o BIMESTRE DE 2020 | C11: 11530000 | D11: Año 2020 | E11: 0 | F11: 0 | H11: 0 | I11: (1)
B12: 6o BIMESTRE DE 2020 | C12: 3843000 | D12: Enero 25 2021 | E12: 0 | H12: 0 | I12: (1)
B13: 1o AL 5o BIMESTRE DE 2021 | C13: 13975000 | D13: Año 2021 | E13: =+C13 -> 13975000 | F13: 0 | G13: =+E13 -> 13975000 | H13: =+G13*50% -> 6987500
B14: 6o BIMESTRE DE 2021 | C14: 4132000 | D14: Enero 18 2022 | E14: =+C14 -> 4132000 | F14: 0 | G14: =+E14 -> 4132000 | H14: =+G14*50% -> 2066000 | I14: (2)
B16: OTRAS CIUDADES (ANUAL)
B18: IMPUESTO AÑO 2021 | C18: 16349000 | D18: Marzo de 2022 | E18: =+C18 -> 16349000 | F18: 0 | G18: =+E18 -> 16349000 | H18: =+C18*50% -> 8174500 | I18: (2)
B20: TOTAL | E20: =SUM(E10:E19) -> 34456000 | F20: =SUM(F10:F19) -> 0 | G20: =SUM(G10:G19) -> 34456000 | H20: =SUM(H10:H19) -> 17228000
B23: (1) Fue deducible en 2020, año en que se devengó contablemente. Se pagó antes de presentar la declaración de renta de ese año.
B24: También pudo tomarse como descuento tributario en ese mismo año.
B26: (2) En 2021 se devengó contablemente, y se paga antes de presentar la declaración de renta. En 2021 se puede tomar
B27: como deducción el 100%, o como descuento tributario el 50% (E.T. Art. 115 / Oficio DIAN No. 00417 de mayo 14 de 2020).
B32: =+B1 -> INDUSTRIAS EL MEJOR ESTILO S.A.
B33: =+B2 -> NIT 860.378.961 - 5
B34: =+B3 -> DECLARACION DE RENTA AÑO GRAVABLE 2021 | E34: ANEXO 17
B35: DETALLE DE PAGOS EN EFECTIVO
C37: MÁS DE | D37: MENOS DE | E37: NO
B38: CONCEPTO | C38: 100 UVT | D38: 100 UVT | E38: DEDUCIBLE | F38: DEDUCIBLE
B40: Compras de materias primas | C40: 30960000 | D40: 126140000 | E40: =+C40 -> 30960000
B41: Honorarios | C41: 5120000 | D41: 0 | E41: =+C41 -> 5120000
B42: Mantenimiento y reparaciones | C42: 0 | D42: 9327000 | E42: =+C42 -> 0
B43: Gastos de viaje | C43: 17029000 | D43: 15488000 | E43: =+C43 -> 17029000
B44: Otros diversos | C44: 0 | D44: 23180000 | E44: =+C44 -> 0
B46: Total gastos pagados en efectivo | C46: =SUM(C40:C45) -> 53109000 | D46: =SUM(D40:D45) -> 174135000 | F46: =+D46 -> 174135000
B48: 1) Total de pagos en el año | D48: =+('2. RENTA FISCAL'!B63+'2. RENTA FISCAL'!B113)*86% -> 4.3356463e+09
B49: 40% | D49: =+D48*40% -> 1.7342585e+09
B51: 2) Total de costos y deducciones | D51: =+'2. RENTA FISCAL'!B63+'2. RENTA FISCAL'!B85+'2. RENTA FISCAL'!B94+'2. RENTA FISCAL'!B104 -> 3.522422e+09
B52: 35% | D52: =+D51*35% -> 1.2328477e+09
B54: 3) 40.000 UVT | D54: =40000*36308 -> 1452320000
B56: Totales | E56: =SUM(E40:E55) -> 53109000 | F56: =SUM(F40:F55) -> 174135000
B59: E.T. Artículo 771-5. Concepto DIAN No. 19439 de Julio 27 de 2018.

Sheet 18. EXT - 1%
B1: =+'14. LABORALES - INTS'!B1 -> INDUSTRIAS EL MEJOR ESTILO S.A.
B2: =+'14. LABORALES - INTS'!B2 -> NIT 860.378.961 - 5
B3: =+'14. LABORALES - INTS'!B3 -> DECLARACION DE RENTA AÑO GRAVABLE 2021 | G3: ANEXO 18
B4: DEDUCCION POR GASTOS EN EL EXTERIOR
C6: VALOR | E6: NO | F6: DEDUCCION | G6: DEDUCCION | H6: DIFERENCIA
B7: CONCEPTO | C7: GASTO | E7: DEDUCIBLE | F7: LIMITADA | G7: NO LIMITADA | H7: EN CAMBIO
B9: ASISTENCIA TÉCNICA:
B11: SOMETIDA A RETENCIÓN EN LA FUENTE | C11: 23170000 | G11: =+C11 -> 23170000
B12: NO SOMETIDA A RETENCIÓN EN LA FUENTE | C12: 14780000 | E12: =+C12 -> 14780000
B14: TOTAL ASISTENCIA TÉCNICA | C14: =SUM(C10:C13) -> 37950000 | E14: =SUM(E10:E13) -> 14780000 | F14: =SUM(F10:F13) -> 0 | G14: =SUM(G10:G13) -> 23170000 | H14: =SUM(H10:H13) -> 0
B16: OTROS GASTOS DEL EXTERIOR:
B18: COMISIONES 2% POR VENTAS AL EXTERIOR | C18: 10370000 | D18: (1) | F18: =+C18 -> 10370000
B19: SEMINARIOS, RESTAURANTE, HOTEL, TRANS. | C19: 30088000 | D19: (1) | F19: =C19 -> 30088000
B20: REGALIAS A CASA MATRIZ | C20: 16350000 | D20: (2) | E20: =C20 -> 16350000 | H20: 1173000
B22: TOTAL OTROS GASTOS DEL EXTERIOR | C22: =SUM(C18:C21) -> 56808000 | E22: =SUM(E18:E21) -> 16350000 | F22: =SUM(F18:F21) -> 40458000 | G22: =SUM(G18:G21) -> 0 | H22: =SUM(H18:H21) -> 1173000
B25: (1) No se debe efectuar retención en la fuente, y están limitados al 15% de la renta líquida antes de la deducción.
B27: (2) No son deducibles las regalías sobre compra de productos terminados, ni las regalías sobre intangibles formados en
B28: Colombia (E.T. Art. 120). Los gastos financieros, incluida la diferencia en cambio, no son deducibles (E.T. Art. 124-1).
B33: =+B1 -> INDUSTRIAS EL MEJOR ESTILO S.A.
B34: =+B2 -> NIT 860.378.961 - 5
B35: =+B3 -> DECLARACION DE RENTA AÑO GRAVABLE 2021 | G35: ANEXO 19
B36: DEDUCCION POR ATENCIONES Y OBSEQUIOS
H38: NO
B39: CONCEPTO | C39: CUENTA | F39: VALOR | G39: DEDUCIBLE | H39: DEDUCIBLE
B41: Ingresos netos - Renta | F41: =+'2. RENTA FISCAL'!I39-'2. RENTA FISCAL'!I41 -> 3937608000
B42: Ingresos por ganancias ocasionales | F42: =+'2. RENTA FISCAL'!I137 -> 334297000
F43: =SUM(F41:F42) -> 4271905000
B44: Límite: 1% de los "ingresos fiscales netos" | F44: =+F43*1% -> 42719050
B45: (E.T. Artículo 107-1)
B47: Detalle de los gastos a analizar:
B49: Regalos navideños para empleados | C49: Gastos de personal | F49: 9486000 | G49: =IF(+F42-G47-G48<F49,F42-G47-G48,F49) -> 9486000 | H49: =+F49-G49 -> 0
B50: Premios por cumplimiento de metas | C50: Gastos de viaje | F50: 20153000 | G50: =IF(+F43-G48-G49<F50,F43-G48-G49,F50) -> 20153000 | H50: =+F50-G50 -> 0
B51: Invitaciones a almorzar a clientes | C51: Gastos diversos - Representación | F51: 11204000 | G51: =IF(+F44-G49-G50<F51,F44-G49-G50,F51) -> 11204000 | H51: =+F51-G51 -> 0
B52: Fiesta de fin de año para empleados | C52: Gastos diversos | F52: 23120000 | G52: =IF(+F44-G49-G50-G51<F52,F44-G49-G50-G51,F52) -> 1876050 | H52: =+F52-G52 -> 21243950
B54: Total gastos | F54: =SUM(F49:F53) -> 63963000 | G54: =SUM(G49:G53) -> 42719050 | H54: =SUM(H49:H53) -> 21243950

Sheet 20. PÉRDIDAS - ANTICIPO
B1: =+'18. EXT - 1%'!B1 -> INDUSTRIAS EL MEJOR ESTILO S.A.
B2: =+'18. EXT - 1%'!B2 -> NIT 860.378.961 - 5
B3: =+'18. EXT - 1%'!B3 -> DECLARACION DE RENTA AÑO GRAVABLE 2021 | H3: ANEXO 20
B4: PERDIDAS FISCALES Y EXCESOS DE RENTA PRESUNTIVA
B6: Tarifas en el año 2016 (sin sobretasa): | D6: Renta: | E6: 0.25 | F6: =+E6/$E$9 -> 0.73529412
D7: CREE: | E7: 0.09 | F7: =+E7/$E$9 -> 0.26470588
B9: Tarifa de Renta en 2017, sin sobretasa: | E9: 0.34 | F9: =SUM(F6:F8) -> 1
B12: DESCRIPCION | C12: VALOR | D12: REAJUSTE | E12: VALOR | F12: SALDO | G12: AÑO | H12: VALOR | I12: SALDO POR | J12: %
C13: HISTORICO | D13: FISCAL | E13: AJUSTE | F13: AJUSTADO | H13: COMPENSADO | I13: COMPENSAR
B15: PÉRDIDAS FISCALES
B17: AÑO 2015 - RENTA | C17: 253489000 | D17: =+ANEXOS!C39 -> 0.0708 | E17: =+C17*D17 -> 17947021 | F17: =+C17+E17 -> 2.7143602e+08 | G17: 2016 | I17: =F17+H17 -> 2.7143602e+08
B18: Compensación procedente | I18: =+I17*J18 -> 1.9958531e+08 | J18: =+F6 -> 0.73529412
B19: Compensado el año anterior | H19: -100000000 | I19: =I18+H19 -> 99585310
B20: Saldo por compensar a Dic. 2020 | I20: =+I19 -> 99585310
E21: =+I17*D21 -> 0 | F21: =+I20 -> 99585310 | G21: 2021 | H21: =-F21 -> -99585310 | I21: =F21+H21 -> 0
B23: AÑO 2015 - CREE | C23: 194275000 | D23: =+ANEXOS!C39 -> 0.0708 | E23: =+C23*D23 -> 13754670 | F23: =+C23+E23 -> 208029670 | G23: =+G17 -> 2016 | I23: =F23+H23 -> 208029670
B24: Compensación procedente | I24: =+I23*J24 -> 55066677 | J24: =+F7 -> 0.26470588
B25: Saldo por compensar a Dic. 2020 | I25: =+I24 -> 55066677
F26: =+I25 -> 55066677 | G26: =+G21 -> 2021 | H26: =-F26 -> -55066677 | I26: =F26+H26 -> 0
B28: TOTALES | H28: =H21+H26 -> -1.5465199e+08 | I28: =I21 -> 0
B31: EXCESO DE RENTA PRESUNTIVA SOBRE ORDINARIA
B33: AÑO 2019 - RENTA | C33: 86330000 | F33: =+C33 -> 86330000 | I33: =+F33 -> 86330000
B34: Compensación procedente | I34: =+I33*J34 -> 86330000 | J34: 1
F35: =+I34 -> 86330000 | G35: =+G21 -> 2021 | H35: 0 | I35: =F35+H35 -> 86330000
B37: TOTALES | H37: =H35 -> 0 | I37: =I35 -> 86330000
B42: =+B1 -> INDUSTRIAS EL MEJOR ESTILO S.A.
B43: =+B2 -> NIT 860.378.961 - 5
B44: =+B3 -> DECLARACION DE RENTA AÑO GRAVABLE 2021 | F44: ANEXO 21
B45: CALCULO DEL ANTICIPO PARA EL AÑO SIGUIENTE
E47: AÑO
E48: ACTUAL | F48: PROMEDIO
B50: IMPUESTO NETO DE RENTA AÑO ACTUAL | E50: =+'3. VR A PAGAR'!E24 -> 110792000 | F50: =+E50 -> 110792000
B51: IMPUESTO NETO DE RENTA AÑO ANTERIOR | F51: 89300000
B52: PROMEDIO | E52: =+E50 -> 110792000 | F52: =(F50+F51)/2 -> 100046000
B54: ANTICIPO 75% | E54: =+E52*75% -> 83094000 | F54: =+F52*75% -> 75034500
B56: MENOS: RETENCIONES A FAVOR | E56: =-'3. VR A PAGAR'!E37 -> -88169000 | F56: =+E56 -> -88169000
B58: OPCIONES DE ANTICIPOS | E58: =IF((E54+E56)>0,E54+E56,0) -> 0 | F58: =IF((F54+F56)>0,F54+F56,0) -> 0
B60: ANTICIPO PARA EL AÑO GRAVABLE SIGUIENTE | F60: =ROUND(IF(F58<E58,F58,E58),-3) -> 0

Sheet 22. IMPTO DIF
B1: =+'20. PÉRDIDAS - ANTICIPO'!B1 -> INDUSTRIAS EL MEJOR ESTILO S.A.
B2: =+'20. PÉRDIDAS - ANTICIPO'!B2 -> NIT 860.378.961 - 5
B3: =+'20. PÉRDIDAS - ANTICIPO'!B3 -> DECLARACION DE RENTA AÑO GRAVABLE 2021 | I3: ANEXO 22
B4: IMPUESTO DIFERIDO
C6: BASE | D6: BASE | E6: DIFERENCIA | I6: IMPTO DIFERIDO
B7: CONCEPTO | C7: CONTABLE | D7: FISCAL | E7: DEDUCIBLE | F7: GRAVABLE | G7: TARIFA | I7: ACTIVO | J7: PASIVO
B8: ACTIVOS
B10: Efectivo y equivalentes de efectivo | C10: =+'1. PATRIM FISCAL'!B14 -> 1.4730648e+08 | D10: =+'1. PATRIM FISCAL'!G14 -> 1.4564159e+08 | F10: =+C10-D10 -> 1664891 | G10: 0.35 | J10: =+F10*G10 -> 582711.85
B11: Instrumentos financieros | C11: =+'1. PATRIM FISCAL'!B17 -> 398116000 | D11: =+'1. PATRIM FISCAL'!G17 -> 400000000 | E11: =+D11-C11 -> 1884000 | G11: =+G10 -> 0.35 | I11: =+E11*G11 -> 659400
B12: Clientes nacionales | C12: =+'1. PATRIM FISCAL'!B30+'1. PATRIM FISCAL'!B32 -> 357084000 | D12: =+'1. PATRIM FISCAL'!G30+'1. PATRIM FISCAL'!G32 -> 374233300 | E12: =+D12-C12 -> 17149300 | G12: =+G10 -> 0.35 | I12: =+E12*G12 -> 6002255
B13: Clientes del exterior | C13: =+'1. PATRIM FISCAL'!B31 -> 764780836 | D13: =+'1. PATRIM FISCAL'!G31 -> 732624880 | F13: =+C13-D13 -> 32155956 | G13: =+G11 -> 0.35 | J13: =+F13*G13 -> 11254585
B14: Cuentas por cobrar a socios y accionistas | C14: =+'1. PATRIM FISCAL'!B33 -> 77160494 | D14: =+'1. PATRIM FISCAL'!G33 -> 90000000 | E14: =+D14-C14 -> 12839506 | G14: =+G12 -> 0.35 | I14: =+E14*G14 -> 4493827.2
B15: Inventarios | C15: =+'1. PATRIM FISCAL'!B44 -> 168612000 | D15: =+'1. PATRIM FISCAL'!G44 -> 207902000 | E15: =+D15-C15 -> 39290000 | G15: =+G13 -> 0.35 | I15: =+E15*G15 -> 13751500
B17: Inversiones en sociedades
B18: Acciones al valor razonable (en bolsa) | C18: =+'1. PATRIM FISCAL'!B20 -> 342225000 | D18: =+'1. PATRIM FISCAL'!G20 -> 248850000 | F18: =+C18-D18 -> 93375000 | G18: 0 | H18: (1)
B19: Medidos al costo | C19: =+'1. PATRIM FISCAL'!B21+'1. PATRIM FISCAL'!B23 -> 326931200 | D19: =+'1. PATRIM FISCAL'!G21+'1. PATRIM FISCAL'!G23 -> 2.6530151e+08 | F19: =+C19-D19 -> 61629691 | G19: 0.1 | J19: =+F19*G19 -> 6162969.1
B20: Inversiones en asociadas (M.P.) | C20: =+'1. PATRIM FISCAL'!B22 -> 426933000 | D20: =+'1. PATRIM FISCAL'!G22 -> 280000000 | F20: =+C20-D20 -> 146933000 | G20: 0 | H20: (2)
B22: Propiedad, planta y equipo
B23: Terrenos - Costo atribuido | C23: =+'1. PATRIM FISCAL'!B47 -> 504800000 | D23: =+'1. PATRIM FISCAL'!G47 -> 431850000 | F23: =+C23-D23 -> 72950000 | G23: 0.1 | H23: (3) | J23: =F23*G23 -> 7295000
B24: Edificaciones - Costo histórico | C24: =+'1. PATRIM FISCAL'!B48 -> 688000000 | D24: =+'1. PATRIM FISCAL'!G48 -> 921000000 | E24: =+D24-C24 -> 233000000 | G24: =+G23 -> 0.1 | H24: (3) | I24: =+E24*G24 -> 23300000
B25: Maquinaria - Costo histórico | C25: =+'1. PATRIM FISCAL'!B50 -> 568443000 | D25: =+'1. PATRIM FISCAL'!G50 -> 5.7267156e+08 | E25: =+D25-C25 -> 4228563.6 | G25: =+G24 -> 0.1 | H25: (3) | I25: =+E25*G25 -> 422856.36 | J25: =F25*G25 -> 0
B27: Depreciación acumulada | C27: =+'1. PATRIM FISCAL'!B53 -> -4.6923509e+08 | D27: =+'1. PATRIM FISCAL'!G53 -> -8.1093289e+08 | F27: =+C27-D27 -> 3.416978e+08 | G27: =+G10 -> 0.35 | J27: =+F27*G27 -> 1.1959423e+08
B29: PASIVOS
B31: Provisión para contingencias laborales | C31: 0 | D31: 0
B33: CRÉDITOS FISCALES
B34: Pérdidas fiscales | D34: =+'20. PÉRDIDAS - ANTICIPO'!I28 -> 0
B35: Exceso de renta presuntiva | D35: =+'20. PÉRDIDAS - ANTICIPO'!I37 -> 86330000 | E35: =+D35 -> 86330000 | G35: =+G10 -> 0.35 | I35: =+E35*G35 -> 30215500
B37: TOTALES | I37: =SUM(I9:I36) -> 78845339 | J37: =SUM(J9:J36) -> 1.4488949e+08
B39: MOVIMIENTO DEL AÑO:
B41: Saldo impuesto diferido año actual | I41: =+I37 -> 78845339 | J41: =+J37 -> 1.4488949e+08
B42: Saldo impuesto diferido año anterior | I42: 71904000 | J42: 1.0999259e+08
B43: Aumento (reducción) del año | I43: =+I41-I42 -> 6941338.5 | J43: =+J41-J42 -> 34896901
B45: (1) La utilidad en venta de las acciones es un ingreso no constitutivo de renta ni ganancia ocasional.
B46: (2) Se tiene la expectativa de recibir los dividendos como ingresos no constitutivos de renta.
B47: (3) Los reajustes fiscales no se deprecian.

Sheet 23. COMPAR - DIVID
B1: =+'22. IMPTO DIF'!B1 -> INDUSTRIAS EL MEJOR ESTILO S.A.
B2: =+'22. IMPTO DIF'!B2 -> NIT 860.378.961 - 5
B3: =+'22. IMPTO DIF'!B3 -> DECLARACION DE RENTA AÑO GRAVABLE 2021 | F3: ANEXO 23
B4: RENTA POR COMPARACIÓN PATRIMONIAL
E7: PARCIAL | F7: VALORES
B9: PATRIMONIO LIQUIDO AL 31-12-2021 | F9: =+'1. PATRIM FISCAL'!G80 -> 1.7655289e+09
B10: PATRIMONIO LIQUIDO AL 31-12-2020 | F10: =+'14. LABORALES - INTS'!E68 -> 825873000
B11: DIFERENCIA | F11: =+F9-F10 -> 9.3965593e+08
B13: Menos:
C14: Ajustes a avalúo catastral o autoavalúo inmueble | F14: =-'8. PPyE'!J16 -> -2.0893773e+08
C15: Reajustes fiscales de inversiones en sociedades | F15: =-'7. INVERSIONES'!J37 -> -601360.29
C16: Reajustes fiscales de propiedades, planta y equipo | F16: =-'8. PPyE'!J26 -> -4450188.6
B18: Diferencia a justificar | F18: =SUM(F11:F17) -> 7.2566666e+08
B20: Justificación:
B22: Renta líquida gravable | E22: =+'2. RENTA FISCAL'!I132 -> 574518000
B23: Ganancia ocasional gravable | E23: =+'2. RENTA FISCAL'!I146 -> 61774000
B24: Rentas exentas | E24: 0
B25: Ingresos no constitutivos de renta | E25: =+'2. RENTA FISCAL'!I46 -> 87175000
B26: Ganancias Ocasionales no gravadas y exentas | E26: =+'2. RENTA FISCAL'!I144 -> 0
B27: Menos: Impuesto de renta pagado en el año | E27: =-'2. RENTA FISCAL'!B107 -> -175100000 | F27: =SUM(E22:E27) -> 548367000
B28: (Concepto DIAN 51651 de 2004: Provisión de renta)
B30: DIFERENCIA PATRIMONIAL SEGÚN ART. 236 E.T. | F30: =+F18-F27 -> 1.7729966e+08
B32: Menos:
C33: Deducción adicional por pagos laborales | F33: =-'14. LABORALES - INTS'!E23 -> -35221000
C34: Compensación de pérdidas fiscales | F34: ='20. PÉRDIDAS - ANTICIPO'!H28 -> -1.5465199e+08
C35: Compensación del exceso de renta presuntiva | F35: =+'20. PÉRDIDAS - ANTICIPO'!H35 -> 0
B37: DIFERENCIA PATRIMONIAL NO JUSTIFICADA / (SOBRANTE) | F37: =SUM(F30:F36) -> -12573331
B39: RENTA GRAVABLE POR COMPARACIÓN PATRIMONIAL | F39: =IF(F37>0,F37,0) -> 0
B44: =+B1 -> INDUSTRIAS EL MEJOR ESTILO S.A.
B45: =+B2 -> NIT 860.378.961 - 5
B46: =+B3 -> DECLARACION DE RENTA AÑO GRAVABLE 2021 | F46: ANEXO 24
B47: CÁLCULO DE LOS DIVIDENDOS GRAVADOS Y NO GRAVADOS
F50: PARCIAL | G50: VALORES
B52: RENTA LÍQUIDA GRAVABLE | G52: =+'2. RENTA FISCAL'!I132 -> 574518000
B53: MÁS: GANANCIA OCASIONAL GRAVABLE | G53: =+'2. RENTA FISCAL'!I146 -> 61774000
B55: MENOS EL RESULTADO DE:
C56: IMPUESTO BÁSICO DE RENTA | F56: =+'3. VR A PAGAR'!E14 -> 178101000
C57: IMPUESTO DE GANANCIAS OCASIONALES | F57: =+'3. VR A PAGAR'!E25 -> 6177000
C58: MENOS: DESCUENTO TRIBUTARIO POR IMPUESTOS
C59: PAGADOS EN EL EXTERIOR SOBRE DIVIDENDOS | F59: 0
...
