Workbook
Name D: [1]Hoja1!$A$2:$A$6
Name D: [1]Hoja1!$A$2:$A$6
Name ExportarAExcel: #REF!
Name ExportarAExcel: #REF!
Name ExportarAExcel: #REF!
Name ExportarAExcel: #REF!
Name ExportarAExcel: #REF!
Name ExportarAExcel: #REF!
Name ExportarAExcel: #REF!
Name ExportarAExcel: #REF!
Name ExportarAExcel: #REF!
Name ExportarAExcel: #REF!
Name ExportarAExcel: #REF!
Name ExportarAExcel: #REF!
Name ExportarAExcel: #REF!
Name ExportarAExcel: #REF!
Name ExportarAExcel: #REF!
Name ExportarAExcel: #REF!
Name ExportarAExcel: #REF!

Sheet ORI
A1: Sección 35 | B1: Adopción por primera vez
C3: 43466 | E3: 43830 | G3: 44561 | L3: Impuesto diferido
B4: TERRENO | C4: 10000 | E4: =C8 -> 15000 | L4: Diferencias temporarias | O4: Pasivo por
B5: Adopción por primera vez | G5: La entidad vende el terreno | L5: NIIF | M5: Base fiscal | N5: Diferencia | O5: Impuesto Diferido | U5: Declaración de renta
B6: Sección 35 Párrafo 10 | G6: Valor: | H6: 22000 | L6: =E4 -> 15000 | M6: =C4 -> 10000 | N6: =L6-M6 -> 5000 | O6: =N6*10% -> 500 | U6: Utilidad gravada | W6: =N6 -> 5000
Q7: Gasto (ingreso) por impuestos | U7: Pago de impuestos | W7: =W6*10% -> 500
B8: Valor razonable - Costo atribuido | C8: 15000 | L8: DB - ESF - Patrimonio * | Q8: Gasto por impuesto corriente | T8: DB
L9: * Ganancias acumuladas - Ax1V | O9: =O6 -> 500 | Q9: Efecto del imp difer activo | T9: CR | U9: DB - ER - Gasto (ingreso) por impuestos | X9: =W7 -> 500
B10: DB - ESF - Terreno | C10: =C8-C4 -> 5000 | G10: DB - ESF - Efectivo | H10: =H6 -> 22000 | L10: CR - ESF - Pasivo impuesto diferido | O10: =-O9 -> -500 | Q10: Efecto del imp difer pasivo | T10: DB | U10: CR - ESF - Pasivos impuesto corriente | X10: =-X9 -> -500
B11: CR - ESF - Patrimonio * | C11: =-C10 -> -5000 | E11: =C11 -> -5000 | G11: CR - ESF - Terreno | H11: =-E4 -> -15000
B12: * Ganancias acumuladas - Ax1V | G12: CR - ER - Utilidad en venta | H12: =-SUM(H10:H11) -> -7000 | I12: => Distribución a los socios | L12: Saldo Ganancias acumuladas - Ax1V | O12: =E11+O9 -> -4500 | Q12: Saldo al momento de la venta del activo
B13: "Modelo del costo" | Q13: Gasto por impuesto corriente | T13: =X9 -> 500
G14: DB - ESF - Patrimonio * | H14: =-O12 -> 4500 | L14: DB - ESF - Pasivo impuesto diferido | O14: =-O10 -> 500 | Q14: Efecto del imp difer pasivo | T14: =O15 -> -500
G15: * Ganancias acumuladas - Ax1V | L15: CR - ER - Gasto (ingreso) por impuestos | O15: =-O14 -> -500 | T15: =SUM(T13:T14) -> 0
G16: CR - ESF - Patrimonio * | H16: =-H14 -> -4500 | I16: => Distribución a los socios
G17: * Ganancias acumuladas
A19: Sección 17 | B19: Modelo de revaluación
C21: 44196 | E21: 44561
B22: TERRENO | C22: 10000 | E22: =C22+C29 -> 15000 | G22: Estado de situación financiera
B23: Cambio de política contable | G23: Activo - No Corriente | H23: 2021 | J23: 2020
B24: Sección 10 - 10A | G24: Propiedades, planta y equipo | H24: =E22 -> 15000 | J24: =C22 -> 10000
B25: => Aplicación prospectiva
G26: Patrimonio
B27: Valor razonable | E27: 15000 | G27: Otro resultado integral | H27: =E30 -> -5000 | J27: 0
B29: DB - ESF - Terreno | C29: =E27-C22 -> 5000 | G29: Estado de resultados integral
B30: CR - ESF - Patrimonio * | C30: =-C29 -> -5000 | E30: =C30 -> -5000 | G30: Ingresos
B31: * Superávit de revaluación | G31: Gastos
G32: Otros ingresos | H32: =H12 -> -7000
G33: Utilidad antes de impuestos
G34: Gastos por impuestos
G35: Utilidad del ejercicio | H35: =SUM(H32:H34) -> -7000 | I35: => Se distribuyen dividendos
G37: Otros resultados integrales
G38: => Superávit de revaluación | H38: =H27 -> -5000
G40: Utilidad integral del ejercicio | H40: =H35+H38 -> -12000
B42: Compra de un inventario | C42: 44503
B43: Valor del inventario - USD | C43: 13500
C44: 3623 | D44: TRM
B46: DB - ESF - Inventario | C46: =C43*C44 -> 48910500 | E46: Partida no monetaria | G46: (Histórica)
B47: CR - ESF - Cuentas por pagar | C47: =-C46 -> -48910500 | E47: Partida monetaria | G47: (Diferencia en cambio)
C49: 44561
...

Sheet HW PYMES
A1: EJEMPLO CORP
A2: BALANCES DE PRUEBA - 31 de Diciembre 2019, 2020 y 2021
G3: AJUSTES | K3: AJUSTES
A4: Cta.mayor | B4: Texto breve | C4: ID | D4: NIIF ESF | E4: Saldo 31 Dic 2019 | F4: Movimiento 2020 | G4: Débito | H4: Crédito | I4: Saldo 31 Dic 2020 | J4: Movimiento 2021 | K4: Débito | L4: Crédito | M4: Saldo 31 Dic 2021 | N4: Corriente | O4: No Corriente | P4: Clasificación Gastos
A5: 11051000 | B5: Caja menores | C5: 10 | D5: Efectivo | E5: 7131366 | F5: 2365544.4 | I5: =E5+F5+G5-H5 -> 9496910.4 | J5: -8866931.3 | M5: =I5+J5+K5-L5 -> 629979.18
A6: 11100502 | B6: BANCO BILBAO VIZ. ARGENTARIA- BBVA (COP) | C6: 10 | D6: Efectivo | E6: 430445855 | F6: -3.6422379e+08 | I6: =E6+F6+G6-H6 -> 66222067 | J6: 6.9753371e+08 | M6: =I6+J6+K6-L6 -> 7.6375577e+08
A7: 11200500 | B7: Cta.ahorro, bancos | C7: 10 | D7: Efectivo | E7: 0 | F7: 0 | I7: =E7+F7+G7-H7 -> 0 | J7: 1398097.1 | M7: =I7+J7+K7-L7 -> 1398097.1
A8: 11200501 | B8: Ctas. de ahorro, AV VILLAS | C8: 10 | D8: Efectivo | E8: 0 | F8: 0 | I8: =E8+F8+G8-H8 -> 0 | J8: 4357.74 | M8: =I8+J8+K8-L8 -> 4357.74
A9: 11200502 | B9: Ctas. de ahorro, AV VILLAS 2 | C9: 10 | D9: Efectivo | E9: 0 | F9: 0 | I9: =E9+F9+G9-H9 -> 0 | J9: 474695.38 | M9: =I9+J9+K9-L9 -> 474695.38
A10: 11200503 | B10: Ctas. de ahorro, AV VILLAS 3 | C10: 10 | D10: Efectivo | E10: 0 | F10: 0 | I10: =E10+F10+G10-H10 -> 0 | J10: 2197898.9 | M10: =I10+J10+K10-L10 -> 2197898.9
A11: 11200504 | B11: Ctas. de ahorro, AV VILLAS 4 | C11: 10 | D11: Efectivo | E11: 0 | F11: 0 | I11: =E11+F11+G11-H11 -> 0 | J11: 1983409.3 | M11: =I11+J11+K11-L11 -> 1983409.3
A12: 13050500 | B12: Deud.,client. nacion | C12: 11 | D12: Cuentas comerciales por cobrar | E12: 9.492041e+08 | F12: 1.0166788e+09 | I12: =E12+F12+G12-H12 -> 1.9658829e+09 | J12: -1.7652441e+08 | M12: =I12+J12+K12-L12 -> 1.7893585e+09
A13: 13300500 | B13: Antic./avan. a prov. | C13: 12 | D13: Otras cuentas por cobrar | E13: 0 | F13: 0 | I13: =E13+F13+G13-H13 -> 0 | J13: 29798151 | M13: =I13+J13+K13-L13 -> 29798151
A14: 13301500 | B14: Antic./avan. a trab. | C14: 12 | D14: Otras cuentas por cobrar | E14: 20136142 | F14: -20136142 | I14: =E14+F14+G14-H14 -> 0 | J14: 1226278 | M14: =I14+J14+K14-L14 -> 1226278
A15: 13550501 | B15: Antic.impto.renta | C15: 13 | D15: Activos por impuestos corrientes | E15: 121343848 | F15: 2.4149233e+08 | I15: =E15+F15+G15-H15 -> 3.6283618e+08 | J15: -67313355 | M15: =I15+J15+K15-L15 -> 2.9552282e+08
A16: 13551800 | B16: Impto. de industria y comercio retenido | C16: 12 | D16: Otras cuentas por cobrar | E16: 0 | F16: 0 | I16: =E16+F16+G16-H16 -> 0 | J16: 0 | M16: =I16+J16+K16-L16 -> 0
... A53: 16984000 | B53: Depreciación y/o amortización acumulada, licencias | C53: 17 | D53: Activos intangibles | E53: -12037717 | F53: -382708.95 | I53: =E53+F53+G53-H53 -> -12420426 | J53: -33609890 | M53: =I53+J53+K53-L53 -> -46030316
A54: 21051000 | B54: Obligaciones financieras, bancos nacionales, pagar | C54: 21 | D54: Obligaciones financieras | E54: -9578896000 | F54: -1300000000 | I54: =E54+F54+G54-H54 -> -10878896000 | J54: 0 | M54: =I54+J54+K54-L54 -> -10878896000 | N54: OBLIGACIONES FINANCIERAS
A55: 21051001 | B55: Pasivos estim./prov., para costos y gastos, intere | C55: 21 | D55: Obligaciones financieras | E55: -47382275 | F55: -16093078 | I55: =E55+F55+G55-H55 -> -63475353 | J55: 23486344 | M55: =I55+J55+K55-L55 -> -39989009 | N55: 31 DE DICIEMBRE DE 2019
A56: 21052000 | B56: Obl.fin,bannac,acept | C56: 21 | D56: Obligaciones financieras | E56: -6070426 | F56: 5790414 | I56: =E56+F56+G56-H56 -> -280012 | J56: -122608 | M56: =I56+J56+K56-L56 -> -402620 | N56: =ROUND((E55+E56)/1000,0) -> -53453 | O56: =ROUND((E54)/1000,0) -> -9578896
A57: 21953500 | B57: Obl.fin., otras obligaciones, otras | C57: 21 | D57: Pasivos por arrendamientos | E57: -37774894 | F57: 28235244 | I57: =E57+F57+G57-H57 -> -9539650.3 | J57: 9539650 | M57: =I57+J57+K57-L57 -> -0.29 | N57: 31 DE DICIEMBRE DE 2020
A58: 22100100 | B58: Proveed. del exterio | C58: 23 | D58: Cuentas por pagar a partes relacionadas | E58: -219766879 | F58: 95836947 | I58: =E58+F58+G58-H58 -> -1.2392993e+08 | J58: -11852319 | M58: =I58+J58+K58-L58 -> -1.3578225e+08 | N58: =ROUND((I55+I56)/1000,0) -> -63755 | O58: =ROUND((I54)/1000,0) -> -10878896
A59: 23359500 | B59: Cost./gast.p.pagar,o | C59: 22 | D59: Cuentas comerciales por pagar y otras cuentas por pagar | E59: -2079134695 | F59: 1.0724179e+09 | I59: =E59+F59+G59-H59 -> -1.0067167e+09 | J59: -7.0999117e+08 | M59: =I59+J59+K59-L59 -> -1.7167079e+09 | N59: 31 DE DICIEMBRE DE 2021
A60: 23550500 | B60: Deudas con accionist | C60: 23 | D60: Cuentas por pagar a partes relacionadas | E60: 0 | F60: -393256800 | I60: =E60+F60+G60-H60 -> -393256800 | J60: 3.932568e+08 | M60: =I60+J60+K60-L60 -> -0.0099999905 | N60: =ROUND((M55+M56)/1000,0) -> -40392 | O60: =ROUND((M54)/1000,0) -> -10878896
A61: 23650500 | B61: Ret.fuente,salar/pag | C61: 22 | D61: Cuentas comerciales por pagar y otras cuentas por pagar | E61: -6995000 | F61: -3000 | I61: =E61+F61+G61-H61 -> -6998000 | J61: -1230000 | M61: =I61+J61+K61-L61 -> -8228000
A62: 23654000 | B62: Ret.fuente,compras | C62: 22 | D62: Cuentas comerciales por pagar y otras cuentas por pagar | E62: -15469303 | F62: 8428863.6 | I62: =E62+F62+G62-H62 -> -7040439.4 | J62: -11739831 | M62: =I62+J62+K62-L62 -> -18780270 | N62: PASIVOS POR ARRENDAMIENTOS
A63: 23657001 | B63: Otras ret./ patrimon | C63: 22 | D63: Cuentas comerciales por pagar y otras cuentas por pagar | E63: -6572991 | F63: 248723 | I63: =E63+F63+G63-H63 -> -6324268 | J63: -3629318 | M63: =I63+J63+K63-L63 -> -9953586 | N63: 1 DE ENERO DE 2019
A64: 23670100 | B64: Impto.a l.ventas ret | C64: 22 | D64: Cuentas comerciales por pagar y otras cuentas por pagar | E64: -249670 | F64: 249670 | I64: =E64+F64+G64-H64 -> 0 | J64: -2160847.7 | M64: =I64+J64+K64-L64 -> -2160847.7 | N64: =ROUND((-Arrendam!T40)/1000,0) -> -4083 | O64: =ROUND((-Arrendam!U40)/1000,0) -> -37775
A65: 23680100 | B65: Impto.d.ind/com.rete | C65: 22 | D65: Cuentas comerciales por pagar y otras cuentas por pagar | E65: -3718420 | F65: 1992138.3 | I65: =E65+F65+G65-H65 -> -1726281.7 | J65: -783154.88 | M65: =I65+J65+K65-L65 -> -2509436.6 | N65: 31 DE DICIEMBRE DE 2019
A66: 23680101 | B66: Impto. de industria y comercio retenido Municipal | C66: 22 | D66: Cuentas comerciales por pagar y otras cuentas por pagar | E66: -152250 | F66: 152250 | I66: =E66+F66+G66-H66 -> 0 | J66: 0 | M66: =I66+J66+K66-L66 -> 0 | N66: =ROUND((-Arrendam!T52)/1000,0) -> -28235 | O66: =ROUND((-Arrendam!U52)/1000,0) -> -9540
A67: 23700500 | B67: Aport.promot.saludEP | C67: 22 | D67: Cuentas comerciales por pagar y otras cuentas por pagar | E67: -12908000 | F67: 2961700 | I67: =E67+F67+G67-H67 -> -9946300 | J67: -5344939 | M67: =I67+J67+K67-L67 -> -15291239 | N67: 31 DE DICIEMBRE DE 2020
A68: 23700600 | B68: Aport.adm.riesgprofA | C68: 22 | D68: Cuentas comerciales por pagar y otras cuentas por pagar | E68: -13225500 | F68: 2879200 | I68: =E68+F68+G68-H68 -> -10346300 | J68: -7556299 | M68: =I68+J68+K68-L68 -> -17902599 | N68: =ROUND((-Arrendam!T64)/1000,0) -> -9540 | O68: 0
A69: 23701000 | B69: Aport.ICBF,SENA,cajc | C69: 22 | D69: Cuentas comerciales por pagar y otras cuentas por pagar | E69: -11215400 | F69: 2428800 | I69: =E69+F69+G69-H69 -> -8786600 | J69: -5272683 | M69: =I69+J69+K69-L69 -> -14059283 | N69: 31 DE DICIEMBRE DE 2021
A70: 23702500 | B70: Embargos judiciales | C70: 22 | D70: Cuentas comerciales por pagar y otras cuentas por pagar | E70: 0 | F70: -1240532 | I70: =E70+F70+G70-H70 -> -1240532 | J70: 1240532 | M70: =I70+J70+K70-L70 -> 0 | N70: 0 | O70: 0
A71: 23704500 | B71: Fondos | C71: 22 | D71: Cuentas comerciales por pagar y otras cuentas por pagar | E71: 0 | F71: -5070000 | I71: =E71+F71+G71-H71 -> -5070000 | J71: 5070000 | M71: =I71+J71+K71-L71 -> 0
A72: 23803000 | B72: Acreed.var.,fond.ces | C72: 22 | D72: Cuentas comerciales por pagar y otras cuentas por pagar | E72: -37083500 | F72: 8643700 | I72: =E72+F72+G72-H72 -> -28439800 | J72: -68692763 | M72: =I72+J72+K72-L72 -> -97132563
A73: 24040500 | B73: Imptos,grav.vig.fisc | C73: 24 | D73: Pasivos por impuestos corrientes | E73: 0 | F73: 0 | I73: =E73+F73+G73-H73 -> 0 | J73: 0 | M73: =I73+J73+K73-L73 -> 0
A74: 24080100 | B74: Impto.s.l.ventas p.p | C74: 22 | D74: Cuentas comerciales por pagar y otras cuentas por pagar | E74: 0 | F74: 0 | I74: =E74+F74+G74-H74 -> 0 | J74: 0.97 | M74: =I74+J74+K74-L74 -> 0.97 | N74: CUENTAS COMERCIALES Y OTRAS CUENTAS POR PAGAR
A75: 24120500 | B75: Impto. de industria y comercio, vigencia fiscal co | C75: 22 | D75: Cuentas comerciales por pagar y otras cuentas por pagar | E75: 0 | F75: 0 | I75: =E75+F75+G75-H75 -> 0 | J75: 0 | M75: =I75+J75+K75-L75 -> 0 | N75: 31 DE DICIEMBRE DE 2019
A76: 25050100 | B76: Obl.lab,salarios p.p | C76: 22 | D76: Cuentas comerciales por pagar y otras cuentas por pagar | E76: -397857 | F76: 397857 | I76: =E76+F76+G76-H76 -> 0 | J76: 23.1 | M76: =I76+J76+K76-L76 -> 23.1 | N76: =ROUND((SUM(E59,E61:E72,E74:E77,E79:E83))/1000,0)-O76 -> -2336145 | O76: 0
...

Sheet ESF_ERI_PYMES
A3: Etiquetas de fila | B3: Suma de Saldo 31 Dic 2021 | C3: Suma de Saldo 31 Dic 2020 | D3: Suma de Saldo 31 Dic 2019 | F3: 2021 | G3: 2020 | H3: 2019
A4: 10 | B4: 8.2262219e+08 | C4: 1.1077173e+09 | D4: 437577221 | F4: =ROUND(B4/1000,0) -> 822622 | G4: =ROUND(C4/1000,0) -> 1107717 | H4: =ROUND(D4/1000,0) -> 437577
A5: Efectivo | B5: 7.7044421e+08 | C5: 75718977 | D5: 437577221
A6: Equivalente al efectivo | B6: 52177973 | C6: 1.0319984e+09 | D6: 0
A7: 11 | B7: 1.7893585e+09 | C7: 1.9658829e+09 | D7: 9.492041e+08 | F7: =ROUND(B7/1000,0) -> 1789358 | G7: =ROUND(C7/1000,0) -> 1965883 | H7: =ROUND(D7/1000,0) -> 949204
A8: Cuentas comerciales por cobrar | B8: 1.7893585e+09 | C8: 1.9658829e+09 | D8: 9.492041e+08
A9: 12 | B9: 4.2569329e+08 | C9: 382364000 | D9: 457715142 | F9: =ROUND(B9/1000,0) -> 425693 | G9: =ROUND(C9/1000,0) -> 382364 | H9: =ROUND(D9/1000,0) -> 457715
A10: Otras cuentas por cobrar | B10: 4.2569329e+08 | C10: 382364000 | D10: 457715142
A11: 13 | B11: 2.9552282e+08 | C11: 3.6283618e+08 | D11: 121343848 | F11: =ROUND(B11/1000,0) -> 295523 | G11: =ROUND(C11/1000,0) -> 362836 | H11: =ROUND(D11/1000,0) -> 121344
A12: Activos por impuestos corrientes | B12: 2.9552282e+08 | C12: 3.6283618e+08 | D12: 121343848
A13: 14 | B13: 3.1182377e+09 | C13: 8.1702881e+08 | D13: 1362317110 | F13: =ROUND(B13/1000,0) -> 3118238 | G13: =ROUND(C13/1000,0) -> 817029 | H13: =ROUND(D13/1000,0) -> 1362317
A14: Inventarios | B14: 3.1182377e+09 | C14: 8.1702881e+08 | D14: 1362317110
A15: 15 | B15: 2.9901815e+10 | C15: 3.0348376e+10 | D15: 3.05448e+10 | F15: =ROUND(B15/1000,0) -> 29901815 | G15: =ROUND(C15/1000,0) -> 30348376 | H15: =ROUND(D15/1000,0) -> 30544800
A16: Propiedades, planta y equipo | B16: 2.9901815e+10 | C16: 3.0348376e+10 | D16: 3.05448e+10
A17: 16 | B17: 2.3283064e-10 | C17: 1207606.1 | D17: 8453242.7 | F17: =ROUND(B17/1000,0) -> 0 | G17: =ROUND(C17/1000,0) -> 1208 | H17: =ROUND(D17/1000,0) -> 8453
A18: Activos por derecho de uso | B18: 2.3283064e-10 | C18: 1207606.1 | D18: 8453242.7
A19: 17 | B19: 4.9580073e+08 | C19: 5.0830677e+08 | D19: 13784516 | F19: =ROUND(B19/1000,0) -> 495801 | G19: =ROUND(C19/1000,0) -> 508307 | H19: =ROUND(D19/1000,0) -> 13785
A20: Activos intangibles | B20: 4.9580073e+08 | C20: 5.0830677e+08 | D20: 13784516
A21: 21 | B21: -1.0919288e+10 | C21: -1.0952191e+10 | D21: -9.6701236e+09 | F21: =ROUND(B21/1000,0) -> -10919288 | G21: =ROUND(C21/1000,0) -> -10952191 | H21: =ROUND(D21/1000,0) -> -9670124
A22: Obligaciones financieras | B22: -1.0919288e+10 | C22: -1.0942651e+10 | D22: -9632348701
A23: Pasivos por arrendamientos | B23: -0.29 | C23: -9539650.3 | D23: -37774894
A24: 22 | B24: -2.2225932e+09 | C24: -1.3382983e+09 | D24: -2336144698 | F24: =ROUND(B24/1000,0) -> -2222593 | G24: =ROUND(C24/1000,0) -> -1338298 | H24: =ROUND(D24/1000,0) -> -2336145
A25: Cuentas comerciales por pagar y otras cuentas por pagar | B25: -2.2225932e+09 | C25: -1.3382983e+09 | D25: -2336144698
A26: 23 | B26: -1.3578225e+08 | C26: -5.1718673e+08 | D26: -219766879 | F26: =ROUND(B26/1000,0) -> -135782 | G26: =ROUND(C26/1000,0) -> -517187 | H26: =ROUND(D26/1000,0) -> -219767
A27: Cuentas por pagar a partes relacionadas | B27: -1.3578225e+08 | C27: -5.1718673e+08 | D27: -219766879
A28: 24 | B28: 0 | C28: 0 | D28: 0 | F28: =ROUND(B28/1000,0) -> 0 | G28: =ROUND(C28/1000,0) -> 0 | H28: =ROUND(D28/1000,0) -> 0
A29: Pasivos por impuestos corrientes | B29: 0 | C29: 0 | D29: 0
A30: 28 | B30: -1.3321322e+09 | C30: -9.301544e+08 | D30: -1172511485 | F30: =ROUND(B30/1000,0) -> -1332132 | G30: =ROUND(C30/1000,0) -> -930154 | H30: =ROUND(D30/1000,0) -> -1172511
A31: Anticipos recibidos | B31: -1.3321322e+09 | C31: -9.301544e+08 | D31: -1172511485
A32: 29 | B32: -595622024 | C32: -595622024 | D32: -595622024 | F32: =ROUND(B32/1000,0) -> -595622 | G32: =ROUND(C32/1000,0) -> -595622 | H32: =ROUND(D32/1000,0) -> -595622
A33: Pasivos por impuestos diferidos | B33: -595622024 | C33: -595622024 | D33: -595622024
A34: 31 | B34: -3.2481759e+10 | C34: -3.2481759e+10 | D34: -27116624669 | F34: =ROUND(B34/1000,0) -> -32481759 | G34: =ROUND(C34/1000,0) -> -32481759 | H34: =ROUND(D34/1000,0) -> -27116625
A35: Capital suscrito y pagado | B35: -3.2481759e+10 | C35: -3.2481759e+10 | D35: -27116624669
A36: 32 | B36: -181715 | C36: -181715 | D36: -1692516101 | F36: =ROUND(B36/1000,0) -> -182 | G36: =ROUND(C36/1000,0) -> -182 | H36: =ROUND(D36/1000,0) -> -1692516
A37: Capital suscrito y pagado | B37: -181715 | C37: -181715 | D37: -1692516101
A38: 37 | B38: 1.6160989e+10 | C38: 1.6644355e+10 | D38: 1.4230796e+10 | F38: =ROUND(B38/1000,0) -> 16160989 | G38: =ROUND(C38/1000,0) -> 16644355 | H38: =ROUND(D38/1000,0) -> 14230796
A39: Resultados acumulados | B39: 1.6160989e+10 | C39: 1.6644355e+10 | D39: 1.4230796e+10
A40: 38 | B40: -5.3226813e+09 | C40: -5.3226813e+09 | D40: -5.3226813e+09 | F40: =ROUND(B40/1000,0) -> -5322681 | G40: =ROUND(C40/1000,0) -> -5322681 | H40: =ROUND(D40/1000,0) -> -5322681
A41: Adopción por primera vez | B41: -5.3226813e+09 | C41: -5.3226813e+09 | D41: -5.3226813e+09
A42: 39 | B42: 0 | C42: 0 | D42: 0 | F42: =ROUND(B42/1000,0) -> 0 | G42: =ROUND(C42/1000,0) -> 0 | H42: =ROUND(D42/1000,0) -> 0
...

Sheet EST FIN
B1: EJEMPLO CORP | J1: EJEMPLO CORP | S1: EJEMPLO CORP
B3: ESTADO DE SITUACIÓN FINANCIERA | J3: ESTADO DE SITUACIÓN FINANCIERA | S3: ESTADO DE SITUACIÓN FINANCIERA
B4: AL 31 DE DICIEMBRE DE 2019 | J4: AL 31 DE DICIEMBRE DE 2020 | S4: AL 31 DE DICIEMBRE DE 2021
B5: (Cifras en miles de pesos colombianos - COP) | J5: (Cifras en miles de pesos colombianos - COP) | S5: (Cifras en miles de pesos colombianos - COP)
B7: ACTIVOS | J7: ACTIVOS | S7: ACTIVOS
B9: ACTIVOS CORRIENTES | J9: ACTIVOS CORRIENTES | S9: ACTIVOS CORRIENTES
B11: Efectivo y equivalentes al efectivo | G11: =ESF_ERI_PYMES!H4 -> 437577 | J11: Efectivo y equivalentes al efectivo | O11: =ESF_ERI_PYMES!G4 -> 1107717 | S11: Efectivo y equivalentes al efectivo | X11: =ESF_ERI_PYMES!F4 -> 822622
B12: Cuentas comerciales por cobrar y otras cuentas por cobrar | G12: =ESF_ERI_PYMES!H7 -> 949204 | J12: Cuentas comerciales por cobrar y otras cuentas por cobrar | O12: =ESF_ERI_PYMES!G7 -> 1965883 | S12: Cuentas comerciales por cobrar y otras cuentas por cobrar | X12: =ESF_ERI_PYMES!F7 -> 1789358
B13: Otras cuentas por cobrar | G13: =ESF_ERI_PYMES!H9 -> 457715 | J13: Otras cuentas por cobrar | O13: =ESF_ERI_PYMES!G9 -> 382364 | S13: Otras cuentas por cobrar | X13: =ESF_ERI_PYMES!F9 -> 425693
B14: Activos por impuestos corrientes | G14: =ESF_ERI_PYMES!H11 -> 121344 | J14: Activos por impuestos corrientes | O14: =ESF_ERI_PYMES!G11 -> 362836 | S14: Activos por impuestos corrientes | X14: =ESF_ERI_PYMES!F11 -> 295523
B15: Inventarios | G15: =ESF_ERI_PYMES!H13 -> 1362317 | J15: Inventarios | O15: =ESF_ERI_PYMES!G13 -> 817029 | S15: Inventarios | X15: =ESF_ERI_PYMES!F13 -> 3118238
B17: TOTAL ACTIVOS CORRIENTES | G17: =SUM(G11:G16) -> 3328157 | J17: TOTAL ACTIVOS CORRIENTES | O17: =SUM(O11:O16) -> 4635829 | S17: TOTAL ACTIVOS CORRIENTES | X17: =SUM(X11:X16) -> 6451434
B19: ACTIVOS NO CORRIENTES | J19: ACTIVOS NO CORRIENTES | S19: ACTIVOS NO CORRIENTES
B21: Propiedades, planta y equipo | G21: =ESF_ERI_PYMES!H15 -> 30544800 | J21: Propiedades, planta y equipo | O21: =ESF_ERI_PYMES!G15 -> 30348376 | S21: Propiedades, planta y equipo | X21: =ESF_ERI_PYMES!F15 -> 29901815
B22: Activos por derecho de uso | G22: =ESF_ERI_PYMES!H17 -> 8453 | J22: Activos por derecho de uso | O22: =ESF_ERI_PYMES!G17 -> 1208 | S22: Activos por derecho de uso | X22: =ESF_ERI_PYMES!F17 -> 0
B23: Activos intangibles | G23: =ESF_ERI_PYMES!H19 -> 13785 | J23: Activos intangibles | O23: =ESF_ERI_PYMES!G19 -> 508307 | S23: Activos intangibles | X23: =ESF_ERI_PYMES!F19 -> 495801
B25: TOTAL ACTIVOS NO CORRIENTES | G25: =SUM(G21:G24) -> 30567038 | J25: TOTAL ACTIVOS NO CORRIENTES | O25: =SUM(O21:O24) -> 30857891 | S25: TOTAL ACTIVOS NO CORRIENTES | X25: =SUM(X21:X24) -> 30397616
B27: TOTAL DE ACTIVOS | G27: =SUM(G17,G25) -> 33895195 | J27: TOTAL DE ACTIVOS | O27: =SUM(O17,O25) -> 35493720 | S27: TOTAL DE ACTIVOS | X27: =SUM(X17,X25) -> 36849050
B29: PASIVOS | J29: PASIVOS | S29: PASIVOS
B31: PASIVOS CORRIENTES | J31: PASIVOS CORRIENTES | S31: PASIVOS CORRIENTES
B33: Obligaciones financieras corrientes | G33: =-'HW PYMES'!N56 -> 53453 | J33: Obligaciones financieras corrientes | O33: =-'HW PYMES'!N58 -> 63755 | P33: =O33-G33 -> 10302 | S33: Obligaciones financieras corrientes | X33: =-'HW PYMES'!N60 -> 40392 | Y33: =X33-O33 -> -23363
B34: Pasivos por arrendamientos | G34: =-'HW PYMES'!N66 -> 28235 | J34: Pasivos por arrendamientos | O34: =-'HW PYMES'!N68 -> 9540 | P34: =O34-G34 -> -18695 | S34: Pasivos por arrendamientos | X34: =-'HW PYMES'!N70 -> 0 | Y34: =X34-O34 -> -9540
B35: Cuentas comerciales por pagar y otras cuentas por pagar | G35: =-'HW PYMES'!N76 -> 2336145 | J35: Cuentas comerciales por pagar y otras cuentas por pagar | O35: =-'HW PYMES'!N78+1 -> 1338299 | S35: Cuentas comerciales por pagar y otras cuentas por pagar | X35: =-'HW PYMES'!N80 -> 2222593
B36: Cuentas por pagar a partes relacionadas corrientes | G36: =-ESF_ERI_PYMES!H26 -> 219767 | J36: Cuentas por pagar a partes relacionadas corrientes | O36: =-ESF_ERI_PYMES!G26 -> 517187 | S36: Cuentas por pagar a partes relacionadas corrientes | X36: =-ESF_ERI_PYMES!F26 -> 135782
B37: Pasivos por impuestos corrientes | G37: =-ESF_ERI_PYMES!H28 -> 0 | J37: Pasivos por impuestos corrientes | O37: =-ESF_ERI_PYMES!G28 -> 0 | S37: Pasivos por impuestos corrientes | X37: =-ESF_ERI_PYMES!F28 -> 0
B38: Pasivos por contratos | G38: =-ESF_ERI_PYMES!H30 -> 1172511 | J38: Pasivos por contratos | O38: =-ESF_ERI_PYMES!G30 -> 930154 | S38: Pasivos por contratos | X38: =-ESF_ERI_PYMES!F30 -> 1332132
B40: TOTAL PASIVOS CORRIENTES | G40: =SUM(G33:G39) -> 3810111 | J40: TOTAL PASIVOS CORRIENTES | O40: =SUM(O33:O39) -> 2858935 | S40: TOTAL PASIVOS CORRIENTES | X40: =SUM(X33:X39) -> 3730899
B42: PASIVOS NO CORRIENTES | J42: PASIVOS NO CORRIENTES | S42: PASIVOS NO CORRIENTES
B44: Obligaciones financieras no corrientes | G44: =-'HW PYMES'!O56 -> 9578896 | J44: Obligaciones financieras no corrientes | O44: =-'HW PYMES'!O58 -> 10878896 | S44: Obligaciones financieras no corrientes | X44: =-'HW PYMES'!O60 -> 10878896
B45: Pasivos por arrendamientos | G45: =-'HW PYMES'!O66 -> 9540 | J45: Pasivos por arrendamientos | O45: =-'HW PYMES'!O68 -> 0 | P45: =O45-G45 -> -9540 | S45: Pasivos por arrendamientos | X45: =-'HW PYMES'!O70 -> 0 | Y45: =X45-O45 -> 0
B46: Cuentas comerciales por pagar y otras cuentas por pagar | G46: =-'HW PYMES'!O76 -> 0 | J46: Cuentas comerciales por pagar y otras cuentas por pagar | O46: =-'HW PYMES'!O78 -> 0 | S46: Cuentas comerciales por pagar y otras cuentas por pagar | X46: =-'HW PYMES'!O80 -> 0
B47: Pasivo por impuestos diferidos | G47: =-ESF_ERI_PYMES!H32 -> 595622 | J47: Pasivo por impuestos diferidos | O47: =-ESF_ERI_PYMES!G32 -> 595622 | S47: Pasivo por impuestos diferidos | X47: =-ESF_ERI_PYMES!F32 -> 595622
B49: TOTAL PASIVOS NO CORRIENTES | G49: =SUM(G44:G48) -> 10184058 | J49: TOTAL PASIVOS NO CORRIENTES | O49: =SUM(O44:O48) -> 11474518 | S49: TOTAL PASIVOS NO CORRIENTES | X49: =SUM(X44:X48) -> 11474518
B51: TOTAL DE PASIVOS | G51: =SUM(G40,G49) -> 13994169 | J51: TOTAL DE PASIVOS | O51: =SUM(O40,O49) -> 14333453 | S51: TOTAL DE PASIVOS | X51: =SUM(X40,X49) -> 15205417
B53: PATRIMONIO | J53: PATRIMONIO | S53: PATRIMONIO
B55: Capital suscrito y pagado | G55: =-ESF_ERI_PYMES!H34 -> 27116625 | J55: Capital suscrito y pagado | O55: =-ESF_ERI_PYMES!G34 -> 32481759 | S55: Capital suscrito y pagado | X55: =-ESF_ERI_PYMES!F34 -> 32481759
B56: Anticipo recibido por acciones a emitir | G56: =-ESF_ERI_PYMES!H36 -> 1692516 | J56: Anticipo recibido por acciones a emitir | O56: =-ESF_ERI_PYMES!G36 -> 182 | S56: Anticipo recibido por acciones a emitir | X56: =-ESF_ERI_PYMES!F36 -> 182
B57: Utilidades (Pérdidas) PCGA Anteriores | G57: =-ESF_ERI_PYMES!H38 -> -14230796 | J57: Utilidades (Pérdidas) PCGA Anteriores | O57: =-ESF_ERI_PYMES!G38 -> -16644355 | S57: Utilidades (Pérdidas) PCGA Anteriores | X57: =-ESF_ERI_PYMES!F38 -> -16160989
B58: Utilidad (Pérdida) en Conversión a NIIF | G58: =-ESF_ERI_PYMES!H40 -> 5322681 | J58: Utilidad (Pérdida) en Conversión a NIIF | O58: =-ESF_ERI_PYMES!G40 -> 5322681 | S58: Utilidad (Pérdida) en Conversión a NIIF | X58: =-ESF_ERI_PYMES!F40 -> 5322681
B60: PATRIMONIO TOTAL | G60: =SUM(G55:G59) -> 19901026 | J60: PATRIMONIO TOTAL | O60: =SUM(O55:O59) -> 21160267 | S60: PATRIMONIO TOTAL | X60: =SUM(X55:X59) -> 21643633
...

Sheet EFE
A1: EJEMPLO CORP | L1: EJEMPLO CORP
A3: ESTADO DE FLUJO DE EFECTIVO | L3: ESTADO DE SITUACIÓN FINANCIERA
A4: AL 31 DE DICIEMBRE DE 2021 | Q4: 2021 | R4: 2020 | S4: Variación
A5: (Cifras en miles de pesos colombianos - COP) | L5: (Cifras en miles de pesos colombianos - COP)
A7: Flujos de efectivo procedentes de (utilizados en) actividades de operación | L7: ACTIVOS
B8: Utilidad neta del año | I8: =-S54 -> 483366
A9: Ajustes para conciliar la ganancia (pérdida) | L9: ACTIVOS CORRIENTES
B10: Ajustes por gasto por impuestos a las ganancias
B11: Ajustes por costos financieros | I11: =-W38 -> 39989.009 | L11: Efectivo y equivalentes al efectivo | Q11: ='EST FIN'!X11 -> 822622 | R11: ='EST FIN'!O11 -> 1107717 | S11: =Q11-R11 -> -285095
B12: Ajustes por gastos de depreciación y amortización | I12: =-W22-Z22-AC22+W30 -> 1242322.2 | L12: Cuentas comerciales por cobrar y otras cuentas por cobrar | Q12: ='EST FIN'!X12 -> 1789358 | R12: ='EST FIN'!O12 -> 1965883 | S12: =Q12-R12 -> -176525
B13: Ajustes por deterioro de valor (reversiones de pérdidas por deterioro de valor) reconocidas en el resultado del periodo | L13: Otras cuentas por cobrar | Q13: ='EST FIN'!X13 -> 425693 | R13: ='EST FIN'!O13 -> 382364 | S13: =Q13-R13 -> 43329
B14: Ajustes por provisiones | L14: Activos por impuestos corrientes | Q14: ='EST FIN'!X14 -> 295523 | R14: ='EST FIN'!O14 -> 362836 | S14: =Q14-R14 -> -67313
B15: Ajustes por pérdidas (ganancias) de moneda extranjera no realizadas | L15: Inventarios | Q15: ='EST FIN'!X15 -> 3118238 | R15: ='EST FIN'!O15 -> 817029 | S15: =Q15-R15 -> 2301209
B16: Ajustes por pagos basados en acciones
B17: Ajustes por pérdidas (ganancias) del valor razonable | L17: TOTAL ACTIVOS CORRIENTES | Q17: =SUM(Q11:Q15) -> 6451434 | R17: =SUM(R11:R15) -> 4635829
B18: Ajustes por ganancias no distribuidas de asociadas
B19: Otros ajustes por partidas distintas al efectivo | L19: ACTIVOS NO CORRIENTES
B20: Ajustes por pérdidas (ganancias) por la disposición de activos no corrientes | I20: =W31 -> -2733 | V20: Propiedades, planta y equipo | Y20: Activos por derecho de uso | AB20: Activos intangibles
B21: Otros ajustes para los que los efectos sobre el efectivo son flujos de efectivo de inversión o financiación | L21: Propiedades, planta y equipo | Q21: ='EST FIN'!X21 -> 29901815 | R21: ='EST FIN'!O21 -> 30348376 | S21: =Q21-R21 -> -446561 | V21: Saldo inicial | W21: =R21 -> 30348376 | Y21: Saldo inicial | Z21: =R22 -> 1208 | AB21: Saldo inicial | AC21: =R23 -> 508307
B22: Otros ajustes para conciliar la ganancia (pérdida) | L22: Activos por derecho de uso | Q22: ='EST FIN'!X22 -> 0 | R22: ='EST FIN'!O22 -> 1208 | S22: =Q22-R22 -> -1208 | V22: Depreciación | W22: =-'P, Pl y Eq 2021'!AG344/1000 -> -1206171.7 | Y22: Depreciación | Z22: =-(Arrendam!I65+Arrendam!I66)/1000 -> -1207.6061 | AB22: Amortización | AC22: =-'Int y Dif'!T66/1000 -> -33609.89
A23: Ajustes en el capital de trabajo | L23: Activos intangibles | Q23: ='EST FIN'!X23 -> 495801 | R23: ='EST FIN'!O23 -> 508307 | S23: =Q23-R23 -> -12506 | V23: Compras | W23: =+'P, Pl y Eq 2021'!AH344/1000 -> 759611.23 | Y23: Compras | Z23: 0 | AB23: Compras | AC23: =SUM('Int y Dif'!D60:D63)/1000 -> 21103.846
B24: Disminución (incremento) de cuentas por cobrar de origen comercial | I24: =-S12 -> 176525 | V24: Saldo final | W24: =Q21 -> 29901815 | Y24: Saldo final | Z24: =Q22 -> 0 | AB24: Saldo final | AC24: =Q23 -> 495801
B25: Disminuciones (incrementos) en otras cuentas por cobrar derivadas de las actividades de operación | I25: =-S13 -> -43329 | L25: TOTAL ACTIVOS NO CORRIENTES | Q25: =SUM(Q21:Q23) -> 30397616 | R25: =SUM(R21:R23) -> 30857891 | W25: =SUM(W21:W23)-W24 -> 0.49272 | Z25: =SUM(Z21:Z23)-Z24 -> 0.39389612 | AC25: =SUM(AC21:AC23)-AC24 -> -0.0438
B26: Disminuciones (incrementos) en los activos y pasivos por impuestos corrientes | I26: =-S14 -> 67313
B27: Disminuciones (incrementos) en los inventarios | I27: =-S15 -> -2301209 | L27: TOTAL DE ACTIVOS | Q27: =Q17+Q25 -> 36849050 | R27: =R17+R25 -> 35493720 | V27: Venta de propiedades, planta y equipo
B28: Incremento (disminución) de cuentas por pagar de origen comercial | I28: =-S35 -> 884294 | V28: Valor venta | W28: 21392
B29: Incrementos (disminuciones) en cuentas por pagar a partes relacionadas | I29: =-S36 -> -381405 | L29: PASIVOS | V29: Costo | W29: -19992
B30: Incrementos (disminuciones) en los pasivos por contratos | I30: =-S37 -> 401978 | V30: Depreciación | W30: 1333
A31: Total ajustes para conciliar la ganancia (pérdida) | I31: =SUM(I10:I30) -> 83745.238 | L31: PASIVOS CORRIENTES | V31: Utilidad | W31: -2733
A32: Flujos de efectivo netos procedentes (utilizados en) operaciones | I32: =SUM(I8,I31) -> 567111.24
B33: Dividendos pagados | L33: Obligaciones financieras corrientes | Q33: =-'EST FIN'!X33 -> -40392 | R33: =-'EST FIN'!O33 -> -63755 | S33: =Q33-R33 -> 23363 | V33: Obligaciones financieras | Y33: Pasivos por arrendamientos
B34: Dividendos recibidos | L34: Pasivos por arrendamientos | Q34: =-'EST FIN'!X34 -> 0 | R34: =-'EST FIN'!O34 -> -9540 | S34: =Q34-R34 -> 9540 | V34: Saldo inicial | W34: =R33 -> -63755 | Y34: Saldo inicial | Z34: =R34 -> -9540
B35: Intereses pagados | I35: =-W37-Z37 -> 710960.43 | L35: Cuentas comerciales por pagar y otras cuentas por pagar | Q35: =-'EST FIN'!X35 -> -2222593 | R35: =-'EST FIN'!O35 -> -1338299 | S35: =Q35-R35 -> -884294 | V35: Capital | W35: 0 | Y35: Capital | Z35: =Arrendam!C65/1000 -> 9539.6503
B36: Intereses recibidos | I36: =-'EST FIN'!X84 -> -14202 | L36: Cuentas por pagar a partes relacionadas corrientes | Q36: =-'EST FIN'!X36 -> -135782 | R36: =-'EST FIN'!O36 -> -517187 | S36: =Q36-R36 -> 381405 | V36: Intereses $ | W36: 773816 | Y36: Intereses $ | Z36: =Arrendam!E65/1000 -> 496.4277
B37: Impuestos a las ganancias reembolsados (pagados) | L37: Pasivos por contratos | Q37: =-'EST FIN'!X38 -> -1332132 | R37: =-'EST FIN'!O38 -> -930154 | S37: =Q37-R37 -> -401978 | V37: Resultado | W37: -710464 | Y37: Resultado | Z37: =-Z36 -> -496.4277
B38: Otras entradas (salidas) de efectivo | V38: Intereses No$ | W38: =-'Pas Finan'!F64/1000 -> -39989.009 | Y38: Intereses No$ | Z38: 0
A39: Flujos de efectivo netos procedentes de (utilizados en) actividades de operación | I39: =SUM(I32:I38) -> 1263869.7 | L39: TOTAL PASIVOS CORRIENTES | Q39: =SUM(Q33:Q37) -> -3730899 | R39: =SUM(R33:R37) -> -2858935 | V39: Saldo final | W39: =Q33 -> -40392 | Y39: Saldo final | Z39: =Q34 -> 0
A40: Flujos de efectivo procedentes de (utilizados en) actividades de inversión | W40: =SUM(W34:W38)-W39 -> -0.00855 | Z40: =SUM(Z34:Z38)-Z39 -> -0.34970417
B41: Flujos de efectivo procedentes de la pérdida de control de subsidiarias u otros negocios | L41: PASIVOS NO CORRIENTES
B42: Flujos de efectivo utilizados para obtener el control de subsidiarias u otros negocios
...

Sheet Efect y Equiv
C1: NIIF Pymes | XFC1: Caja | XFD1: COP
A2: CUENTA | B2: DESCRIPCIÓN | C2: SALDO 31-DIC-2020 | D2: Validación | E2: Observaciones | F2: Validación 2 | XFC2: Cuenta ahorros | XFD2: USD
A3: 11051000 | B3: Caja menores | C3: 9496910.4 | D3: =SUMIF($A$10:$F$11,A3,$F$10:$F$11)-C3 -> 0 | E3: Confirmación Gerencia | F3: =C3-'HW PYMES'!I5 -> 0 | XFC3: Cuenta corriente | XFD3: EUR
A4: 11100502 | B4: BANCO BILBAO VIZ. ARGENTARIA- BBVA (COP) | C4: 66222067 | D4: =SUMIF($A$10:$F$11,A4,$F$10:$F$11)-C4 -> 0 | E4: Confirmación Gerencia | F4: =C4-'HW PYMES'!I6 -> 0 | XFD4: VEF
C5: =SUM(C3:C4) -> 75718977
B6: Diferencia | C6: =C5-F13 -> 0
A8: Cuenta | B8: Descripción cuenta | C8: Clase de Disponible | D8: Moneda | E8: Entidad Financiera | F8: Saldo NIIF | G8: Saldo Auxiliar | H8: ¿La Empresa lo puede convertir en menos de tres meses en efectivo? | J8: (a) ¿Este efectivo tiene destinación específica? | L8: Si (a) es "SI", cuál es la destinación? | M8: (b) ¿La Empresa lo tiene que utilizar para cancelar pasivos específicos? | O8: Si (b) es "SI", indicar: Plazo en meses de la restricción | P8: Si (b) es "SI", indicar: cuenta contable y saldo del pasivo relacionado | R8: (c) ¿El efectivo restringido se debe reclasificar como un Activo no corriente? | S8: Si (c) es "SI", indicar: Cuenta contable para reclasificación | T8: Si (c) es "SI", indicar: Saldo de reclasificación | U8: Diferencia por ajustar "Errores"
H9: SI | I9: NO | J9: SI | K9: NO | M9: SI | N9: NO | P9: Cuenta | Q9: Saldo pasivo
A10: 11051000 | B10: Caja menores | C10: Caja | D10: COP | F10: 9496910.4 | G10: 9496910.4 | H10: X | K10: X | N10: X | R10: =IF(O10="","",IF(O10>12,"SI","NO")) | U10: =G10-F10 -> 0
A11: 11100502 | B11: BANCO BILBAO VIZ. ARGENTARIA- BBVA (COP) | C11: Cuenta corriente | D11: COP | E11: BBVA | F11: 66222067 | G11: 66222067 | H11: X | K11: X | N11: X | R11: =IF(O11="","",IF(O11>12,"SI","NO")) | U11: =G11-F11 -> 0
F13: =SUM(F10:F12) -> 75718977 | G13: =SUM(G10:G12) -> 75718977
C16: NIIF PLENAS
A17: CUENTA | B17: DESCRIPCIÓN | C17: SALDO 31-DIC-2021 | D17: Validación | E17: Observaciones | F17: Validación 2
A18: 11051000 | B18: Caja menores | C18: 629979.18 | D18: =SUMIF($A$30:$G$36,A18,$G$30:$G$36)-C18 -> 2.2118911e-09 | E18: Confirmación Gerencia | F18: =C18-'HW PYMES'!M5 -> -1.8626451e-09
A19: 11100502 | B19: BANCO BILBAO VIZ. ARGENTARIA- BBVA (COP) | C19: 7.6375577e+08 | D19: =SUMIF($A$30:$G$36,A19,$G$30:$G$36)-C19 -> 0 | E19: Confirmación Gerencia | F19: =C19-'HW PYMES'!M6 -> 0
A20: 11200500 | B20: Cta.ahorro, bancos | C20: 1398097.1 | D20: =SUMIF($A$30:$G$36,A20,$G$30:$G$36)-C20 -> 0 | E20: Confirmación Gerencia | F20: =C20-'HW PYMES'!M7 -> -4.1909516e-09
A21: 11200501 | B21: Ctas. de ahorro, AV VILLAS | C21: 4357.74 | D21: =SUMIF($A$30:$G$36,A21,$G$30:$G$36)-C21 -> 0 | E21: Confirmación Gerencia | F21: =C21-'HW PYMES'!M8 -> 0
A22: 11200502 | B22: Ctas. de ahorro, AV VILLAS 2 | C22: 474695.38 | D22: =SUMIF($A$30:$G$36,A22,$G$30:$G$36)-C22 -> 0 | E22: Confirmación Gerencia | F22: =C22-'HW PYMES'!M9 -> 0
A23: 11200503 | B23: Ctas. de ahorro, AV VILLAS 3 | C23: 2197898.9 | D23: =SUMIF($A$30:$G$36,A23,$G$30:$G$36)-C23 -> 0 | E23: Confirmación Gerencia | F23: =C23-'HW PYMES'!M10 -> 0
A24: 11200504 | B24: Ctas. de ahorro, AV VILLAS 4 | C24: 1983409.3 | D24: =SUMIF($A$30:$G$36,A24,$G$30:$G$36)-C24 -> 0 | E24: Confirmación Gerencia | F24: =C24-'HW PYMES'!M11 -> 0
C25: =SUM(C18:C24) -> 7.7044421e+08
B26: Diferencia | C26: =C25-F38 -> 0
A28: Cuenta | B28: Descripción cuenta | C28: Clase de Disponible | D28: Moneda | E28: Entidad Financiera | F28: Saldo NIIF | G28: Saldo Auxiliar | H28: ¿La Empresa lo puede convertir en menos de tres meses en efectivo? | J28: (a) ¿Este efectivo tiene destinación específica? | L28: Si (a) es "SI", cuál es la destinación? | M28: (b) ¿La Empresa lo tiene que utilizar para cancelar pasivos específicos? | O28: Si (b) es "SI", indicar: Plazo en meses de la restricción | P28: Si (b) es "SI", indicar: cuenta contable y saldo del pasivo relacionado | R28: (c) ¿El efectivo restringido se debe reclasificar como un Activo no corriente? | S28: Si (c) es "SI", indicar: Cuenta contable para reclasificación | T28: Si (c) es "SI", indicar: Saldo de reclasificación | U28: Diferencia por ajustar "Errores"
H29: SI | I29: NO | J29: SI | K29: NO | M29: SI | N29: NO | P29: Cuenta | Q29: Saldo pasivo
A30: 11051000 | B30: Caja menores | C30: Caja | D30: COP | F30: 629979.18 | G30: 629979.18 | H30: X | K30: X | N30: X | R30: =IF(O30="","",IF(O30>12,"SI","NO")) | U30: =G30-F30 -> 2.2118911e-09
A31: 11100502 | B31: BANCO BILBAO VIZ. ARGENTARIA- BBVA (COP) | C31: Cuenta corriente | D31: COP | E31: BBVA | F31: 7.6375577e+08 | G31: 7.6375577e+08 | H31: X | K31: X | N31: X | R31: =IF(O31="","",IF(O31>12,"SI","NO")) | U31: =G31-F31 -> 0
A32: 11200500 | B32: Cta.ahorro, bancos | C32: Cuenta ahorros | D32: COP | E32: BANCOLOMBIA | F32: 1398097.1 | G32: 1398097.1 | H32: X | K32: X | N32: X | R32: =IF(O32="","",IF(O32>12,"SI","NO")) | U32: =G32-F32 -> 0
A33: 11200501 | B33: Ctas. de ahorro, AV VILLAS | C33: Cuenta ahorros | D33: COP | E33: AV VILLAS | F33: 4357.74 | G33: 4357.74 | H33: X | K33: X | N33: X | R33: =IF(O33="","",IF(O33>12,"SI","NO")) | U33: =G33-F33 -> 0
A34: 11200502 | B34: Ctas. de ahorro, AV VILLAS 2 | C34: Cuenta ahorros | D34: COP | E34: AV VILLAS | F34: 474695.38 | G34: 474695.38 | H34: X | K34: X | N34: X | R34: =IF(O34="","",IF(O34>12,"SI","NO")) | U34: =G34-F34 -> 0
A35: 11200503 | B35: Ctas. de ahorro, AV VILLAS 3 | C35: Cuenta ahorros | D35: COP | E35: AV VILLAS | F35: 2197898.9 | G35: 2197898.9 | H35: X | K35: X | N35: X | R35: =IF(O35="","",IF(O35>12,"SI","NO")) | U35: =G35-F35 -> 0
A36: 11200504 | B36: Ctas. de ahorro, AV VILLAS 4 | C36: Cuenta ahorros | D36: COP | E36: AV VILLAS | F36: 1983409.3 | G36: 1983409.3 | H36: X | K36: X | N36: X | R36: =IF(O36="","",IF(O36>12,"SI","NO")) | U36: =G36-F36 -> 0
F38: =SUM(F30:F37) -> 7.7044421e+08 | G38: =SUM(G30:G37) -> 7.7044421e+08

Sheet Act Fin
C1: NIIF Pymes | XFA1: Calcular flujos futuros a valor presente | XFB1: Método del costo | XFC1: Asegurar flujo de efectivo | XFD1: Acciones
A2: CUENTA | B2: DESCRIPCIÓN | C2: SALDO 31-DIC-2020 | D2: Validación | E2: Validación 2 | XFA2: Determinar valor del mercado (bolsa) | XFB2: Método del costo amortizado | XFC2: Mantener hasta el vencimiento | XFD2: CDT's
A3: 13801500 | B3: OTRS INVS.FIN - COST | C3: 1.0319984e+09 | D3: =SUMIF($A$10:$G$11,A3,$G$10:$G$11)-C3 -> 0 | E3: =C3-'HW PYMES'!I18 -> 0 | XFA3: Reclasificar y mantener al costo | XFB3: Método de participación | XFC3: Mantener para la venta | XFD3: Fiducias
C4: =SUM(C3:C3) -> 1.0319984e+09 | XFA4: Reclasificar y mantener al valor razonable | XFB4: Valor razonable | XFC4: Mantener por control
B5: Diferencia | C5: =C4-G12 -> 0 | XFC5: Mantener influencia significativa
A8: Cuenta | B8: Descripción cuenta | C8: Entidad emisora | D8: Clase de inversión | E8: Número de documento | F8: Intención de la Gerencia | G8: Saldo NIIF | H8: Saldo Extracto | I8: Fecha inicial (Título) | J8: Fecha de vencimiento o estimada de venta | K8: Plazo acordado (días) | L8: Presentación en EF | M8: Medición bajo NIIF | N8: Acción a ejecutar | O8: Diferencia por ajustar "Errores" | P8: Observaciones de la Gerencia
A10: 13801500 | B10: OTRS INVS.FIN - COST | C10: BBVA | D10: Fiducias | F10: Asegurar flujo de efectivo | G10: 1.0319984e+09 | H10: =406169.906214*2540.804609 -> 1.0319984e+09 | I10: 43812 | L10: Equivalente a efectivo | M10: Valor razonable | N10: Reclasificar y mantener al valor razonable | O10: =H10-G10 -> -0.004371047
G12: =SUM(G10:G11) -> 1.0319984e+09
XFA13: Calcular flujos futuros a valor presente
C14: NIIF PLENAS | XFA14: Determinar valor del mercado (bolsa) | XFB14: Método del costo | XFC14: Asegurar flujo de efectivo | XFD14: Acciones
A15: CUENTA | B15: DESCRIPCIÓN | C15: SALDO 31-DIC-2021 | D15: Validación | E15: Validación 2 | XFA15: Determinar valor intrínseco | XFB15: Método del costo amortizado | XFC15: Mantener hasta el vencimiento | XFD15: CDT's
A16: 13801500 | B16: Deudores varios, fondo de inversión | C16: 52177973 | D16: =SUMIF($A$23:$G$24,A16,$G$23:$G$24)-C16 -> 0 | E16: =C16-'HW PYMES'!M18 -> 0 | XFA16: Reclasificar y mantener al costo | XFB16: Método de participación | XFC16: Mantener para la venta | XFD16: Fiducias
C17: =SUM(C16:C16) -> 52177973 | XFA17: Reclasificar y mantener al valor razonable | XFB17: Valor razonable | XFC17: Mantener por control
B18: Diferencia | C18: =C17-G25 -> 0 | XFC18: Mantener influencia significativa
A21: Cuenta | B21: Descripción cuenta | C21: Entidad emisora | D21: Clase de inversión | E21: Número de documento | F21: Intención de la Gerencia | G21: Saldo NIIF | H21: Saldo Extracto | I21: Fecha inicial (Título) | J21: Fecha de vencimiento o estimada de venta | K21: Plazo acordado (días) | L21: Presentación en EF | M21: Medición bajo NIIF | N21: Acción a ejecutar | O21: Diferencia por ajustar "Errores" | P21: Observaciones de la Gerencia
A23: 13801500 | B23: Deudores varios, fondo de inversión | C23: BBVA | D23: Fiducias | F23: Asegurar flujo de efectivo | G23: 52177973 | H23: 52177973 | I23: 43812 | L23: Equivalente a efectivo | M23: Valor razonable | N23: Reclasificar y mantener al valor razonable | O23: =H23-G23 -> 0
G25: =SUM(G23:G24) -> 52177973

Sheet CXC y Otras
C1: NIIF Pymes | XFD1: Facturación venta bienes
A2: CUENTA | B2: DESCRIPCIÓN | C2: SALDO 31-DIC-2020 | D2: Validación | E2: Validación 2 | XFD2: Facturación prestación servicios
A3: 13050500 | B3: Deud.,client. nacion | C3: 1.9658829e+09 | D3: =SUMIF($A$10:$G$24,A3,$G$10:$G$24)-C3 -> 0 | E3: =C3-'HW PYMES'!I12 -> 0 | XFD3: Contrato de construcción
C4: =SUM(C3:C3) -> 1.9658829e+09 | XFD4: Préstamo a socios
B5: Diferencia | C5: =C4-G25 -> 0 | XFD5: Préstamo a terceros
N6: Días para cálculo de deterioro | XFD6: Otras cuentas por cobrar
L7: 44196 | N7: 30 | XFD7: Efectivo restringido
A8: Cuenta | B8: Descripción cuenta | C8: Nombre tercero | D8: NIT tercero | E8: Documento o factura | F8: Concepto cuenta por cobrar | G8: Saldo NIIF | H8: Saldo Auxiliar | I8: Fecha inicial (Documento o factura) | J8: Fecha de vencimiento | K8: Plazo acordado (días) | L8: Días en mora | M8: Medición bajo NIIF | N8: Deterioro de valor NIIF | O8: Diferencia por ajustar "Errores" | P8: Observaciones de la Gerencia | Q8: CHECK | XFD8: Retención de garantías
A10: 13050500 | B10: Deud.,client. Nacion | C10: AR | F10: Retención de garantías | G10: 87456162 | H10: 87456162 | I10: 43757 | J10: =I10+365 -> 44122 | K10: =IF(J10-I10<0,"Error",J10-I10) -> 365 | L10: =IF($L$7-J10<0,0,$L$7-J10) -> 74 | M10: =IF(L10="","",IF(K10>365,"Medir al costo amortizado","Dejar al valor nominal")) -> Dejar al valor nominal | N10: =IF(L10>$N$7,"Indicio de deterioro de valor","No presenta deterioro de valor") -> Indicio de deterioro de valor | O10: =H10-G10 -> 0 | P10: RETE GARANTÍAS (No hay indicio de deterioro) | Q10: (A)
A11: 13050500 | B11: Deud.,client. Nacion | C11: CC 1268 | F11: Otras cuentas por cobrar | G11: 59561.47 | H11: 59561.47 | I11: 44174 | J11: =I11+365 -> 44539 | K11: =IF(J11-I11<0,"Error",J11-I11) -> 365 | L11: =IF($L$7-J11<0,0,$L$7-J11) -> 0 | M11: =IF(L11="","",IF(K11>365,"Medir al costo amortizado","Dejar al valor nominal")) -> Dejar al valor nominal | N11: =IF(L11>$N$7,"Indicio de deterioro de valor","No presenta deterioro de valor") -> No presenta deterioro de valor | O11: =H11-G11 -> 0 | P11: SALDO FC 267 PENDIENTE CONFIRMAR RTE ICA MA
A12: 13050500 | B12: Deud.,client. Nacion | C12: CEPS | F12: Contrato de construcción | G12: 89390313 | H12: 89390313 | I12: 44182 | J12: =I12+90 -> 44272 | K12: =IF(J12-I12<0,"Error",J12-I12) -> 90 | L12: =IF($L$7-J12<0,0,$L$7-J12) -> 0 | M12: =IF(L12="","",IF(K12>365,"Medir al costo amortizado","Dejar al valor nominal")) -> Dejar al valor nominal | N12: =IF(L12>$N$7,"Indicio de deterioro de valor","No presenta deterioro de valor") -> No presenta deterioro de valor | O12: =H12-G12 -> 0 | P12: ACTA N3 OBRA 094-2019
A13: 13050500 | B13: Deud.,client. Nacion | C13: CEPS | F13: Retención de garantías | G13: 2.0686497e+08 | H13: 2.0686497e+08 | I13: 44080 | J13: =I13+365 -> 44445 | K13: =IF(J13-I13<0,"Error",J13-I13) -> 365 | L13: =IF($L$7-J13<0,0,$L$7-J13) -> 0 | M13: =IF(L13="","",IF(K13>365,"Medir al costo amortizado","Dejar al valor nominal")) -> Dejar al valor nominal | N13: =IF(L13>$N$7,"Indicio de deterioro de valor","No presenta deterioro de valor") -> No presenta deterioro de valor | O13: =H13-G13 -> 0 | P13: RETE GARANTÍAS | Q13: (A)
A14: 13050500 | B14: Deud.,client. Nacion | C14: CM1 | F14: Contrato de construcción | G14: 7.7605876e+08 | H14: 7.7605876e+08 | I14: 44135 | J14: =I14+90 -> 44225 | K14: =IF(J14-I14<0,"Error",J14-I14) -> 90 | L14: =IF($L$7-J14<0,0,$L$7-J14) -> 0 | M14: =IF(L14="","",IF(K14>365,"Medir al costo amortizado","Dejar al valor nominal")) -> Dejar al valor nominal | N14: =IF(L14>$N$7,"Indicio de deterioro de valor","No presenta deterioro de valor") -> No presenta deterioro de valor | O14: =H14-G14 -> 0 | P14: ACTA DE OBRA # 12 (20 DE OCT) / ACTA DE OBRA # 13 (20 DE NOV)
A15: 13050500 | B15: Deud.,client. Nacion | C15: CM1 | F15: Retención de garantías | G15: 1.8340446e+08 | H15: 1.8340446e+08 | I15: 43869 | J15: =I15+365 -> 44234 | K15: =IF(J15-I15<0,"Error",J15-I15) -> 365 | L15: =IF($L$7-J15<0,0,$L$7-J15) -> 0 | M15: =IF(L15="","",IF(K15>365,"Medir al costo amortizado","Dejar al valor nominal")) -> Dejar al valor nominal | N15: =IF(L15>$N$7,"Indicio de deterioro de valor","No presenta deterioro de valor") -> No presenta deterioro de valor | O15: =H15-G15 -> 0 | P15: RETE GARANTÍAS | Q15: (A)
A16: 13050500 | B16: Deud.,client. Nacion | C16: CORM | F16: Retención de garantías | G16: 2.5570615e+08 | H16: 2.5570615e+08 | I16: 43586 | J16: =I16+365 -> 43951 | K16: =IF(J16-I16<0,"Error",J16-I16) -> 365 | L16: =IF($L$7-J16<0,0,$L$7-J16) -> 245 | M16: =IF(L16="","",IF(K16>365,"Medir al costo amortizado","Dejar al valor nominal")) -> Dejar al valor nominal | N16: =IF(L16>$N$7,"Indicio de deterioro de valor","No presenta deterioro de valor") -> Indicio de deterioro de valor | O16: =H16-G16 -> 0 | P16: RETE GARANTÍAS (No hay indicio de deterioro) | Q16: (A)
A17: 13050500 | B17: Deud.,client. Nacion | C17: CR40 | F17: Retención de garantías | G17: 74708180 | H17: 74708180 | I17: 43778 | J17: =I17+365 -> 44143 | K17: =IF(J17-I17<0,"Error",J17-I17) -> 365 | L17: =IF($L$7-J17<0,0,$L$7-J17) -> 53 | M17: =IF(L17="","",IF(K17>365,"Medir al costo amortizado","Dejar al valor nominal")) -> Dejar al valor nominal | N17: =IF(L17>$N$7,"Indicio de deterioro de valor","No presenta deterioro de valor") -> Indicio de deterioro de valor | O17: =H17-G17 -> 0 | P17: RETE GARANTÍAS (No hay indicio de deterioro) | Q17: (A)
A18: 13050500 | B18: Deud.,client. Nacion | C18: CS | F18: Contrato de construcción | G18: 24647608 | H18: 24647608 | I18: 44091 | J18: =I18+90 -> 44181 | K18: =IF(J18-I18<0,"Error",J18-I18) -> 90 | L18: =IF($L$7-J18<0,0,$L$7-J18) -> 15 | M18: =IF(L18="","",IF(K18>365,"Medir al costo amortizado","Dejar al valor nominal")) -> Dejar al valor nominal | N18: =IF(L18>$N$7,"Indicio de deterioro de valor","No presenta deterioro de valor") -> No presenta deterioro de valor | O18: =H18-G18 -> 0 | P18: SUMINISTRO DE PRE
A19: 13050500 | B19: Deud.,client. Nacion | C19: CS | F19: Retención de garantías | G19: 12233603 | H19: 12233603 | I19: 44196 | J19: =I19+365 -> 44561 | K19: =IF(J19-I19<0,"Error",J19-I19) -> 365 | L19: =IF($L$7-J19<0,0,$L$7-J19) -> 0 | M19: =IF(L19="","",IF(K19>365,"Medir al costo amortizado","Dejar al valor nominal")) -> Dejar al valor nominal | N19: =IF(L19>$N$7,"Indicio de deterioro de valor","No presenta deterioro de valor") -> No presenta deterioro de valor | O19: =H19-G19 -> 0 | P19: RETE GARANTÍAS | Q19: (A)
A20: 13050500 | B20: Deud.,client. Nacion | C20: IMA | F20: Retención de garantías | G20: 40621552 | H20: 40621552 | I20: 44196 | J20: =I20+365 -> 44561 | K20: =IF(J20-I20<0,"Error",J20-I20) -> 365 | L20: =IF($L$7-J20<0,0,$L$7-J20) -> 0 | M20: =IF(L20="","",IF(K20>365,"Medir al costo amortizado","Dejar al valor nominal")) -> Dejar al valor nominal | N20: =IF(L20>$N$7,"Indicio de deterioro de valor","No presenta deterioro de valor") -> No presenta deterioro de valor | O20: =H20-G20 -> 0 | P20: RETE GARANTÍAS | Q20: (A)
A21: 13050500 | B21: Deud.,client. Nacion | C21: JC | F21: Retención de garantías | G21: 52053651 | H21: 52053651 | I21: 44013 | J21: =I21+365 -> 44378 | K21: =IF(J21-I21<0,"Error",J21-I21) -> 365 | L21: =IF($L$7-J21<0,0,$L$7-J21) -> 0 | M21: =IF(L21="","",IF(K21>365,"Medir al costo amortizado","Dejar al valor nominal")) -> Dejar al valor nominal | N21: =IF(L21>$N$7,"Indicio de deterioro de valor","No presenta deterioro de valor") -> No presenta deterioro de valor | O21: =H21-G21 -> 0 | P21: RETE GARANTÍAS | Q21: (A)
A22: 13050500 | B22: Deud.,client. Nacion | C22: LLCPC | F22: Contrato de construcción | G22: 1.3925861e+08 | H22: 1.3925861e+08 | I22: 44174 | J22: =I22+90 -> 44264 | K22: =IF(J22-I22<0,"Error",J22-I22) -> 90 | L22: =IF($L$7-J22<0,0,$L$7-J22) -> 0 | M22: =IF(L22="","",IF(K22>365,"Medir al costo amortizado","Dejar al valor nominal")) -> Dejar al valor nominal | N22: =IF(L22>$N$7,"Indicio de deterioro de valor","No presenta deterioro de valor") -> No presenta deterioro de valor | O22: =H22-G22 -> 0 | P22: PANELES HORIZONTALES
A23: 13050500 | B23: Deud.,client. Nacion | C23: LLCPC | F23: Retención de garantías | G23: 23419306 | H23: 23419306 | I23: 44162 | J23: =I23+365 -> 44527 | K23: =IF(J23-I23<0,"Error",J23-I23) -> 365 | L23: =IF($L$7-J23<0,0,$L$7-J23) -> 0 | M23: =IF(L23="","",IF(K23>365,"Medir al costo amortizado","Dejar al valor nominal")) -> Dejar al valor nominal | N23: =IF(L23>$N$7,"Indicio de deterioro de valor","No presenta deterioro de valor") -> No presenta deterioro de valor | O23: =H23-G23 -> 0 | P23: RETE GARANTÍAS | Q23: (A)
G25: =SUM(G10:G24) -> 1.9658829e+09
A27: (A) Por efectos de contratación, el pago de la retegarantía se dará a la terminación del contrato o finalización del proyecto.
C37: NIIF PLENAS | XFD37: Facturación venta bienes
A38: CUENTA | B38: DESCRIPCIÓN | C38: SALDO 31-DIC-2021 | D38: Validación | E38: Validación 2 | XFD38: Facturación prestación servicios
A39: 13050500 | B39: Deud.,client. nacion | C39: 1.7893585e+09 | D39: =SUMIF($A$46:$H$65,A39,$H$46:$H$65)-C39 -> -0.49999976 | E39: =C39-'HW PYMES'!M12 -> 0 | XFD39: Contrato de construcción
C40: =SUM(C39:C39) -> 1.7893585e+09 | XFD40: Préstamo a socios
B41: Diferencia | C41: =C40-G66 -> 0.49999976 | XFD41: Préstamo a terceros
N42: Días para cálculo de deterioro | XFD42: Otras cuentas por cobrar
L43: 44196 | N43: 30 | XFD43: Efectivo restringido
A44: Cuenta | B44: Descripción cuenta | C44: Nombre tercero | D44: NIT tercero | E44: Documento o factura | F44: Concepto cuenta por cobrar | G44: Saldo NIIF | H44: Saldo Auxiliar | I44: Fecha inicial (Documento o factura) | J44: Fecha de vencimiento | K44: Plazo acordado (días) | L44: Días en mora | M44: Medición bajo NIIF | N44: Deterioro de valor NIIF | O44: Diferencia por ajustar "Errores" | P44: Observaciones de la Gerencia | Q44: CHECK | XFD44: Retención de garantías
A46: 13050500 | B46: Deud.,client. nacion | C46: AGB | F46: Contrato de construcción | G46: 2404087.5 | H46: 2404087.5 | I46: 44172 | J46: 44179 | K46: =IF(J46-I46<0,"Error",J46-I46) -> 7 | L46: =IF($L$43-J46<0,0,$L$43-J46) -> 17 | M46: =IF(L46="","",IF(K46>365,"Medir al costo amortizado","Dejar al valor nominal")) -> Dejar al valor nominal | N46: =IF(L46>$N$7,"Indicio de deterioro de valor","No presenta deterioro de valor") -> No presenta deterioro de valor | O46: =H46-G46 -> 0
A47: 13050500 | B47: Deud.,client. nacion | C47: AGB | F47: Retención de garantías | G47: 23708948 | H47: 23708948 | I47: 44172 | J47: 44202 | K47: =IF(J47-I47<0,"Error",J47-I47) -> 30 | L47: =IF($L$43-J47<0,0,$L$43-J47) -> 0 | M47: =IF(L47="","",IF(K47>365,"Medir al costo amortizado","Dejar al valor nominal")) -> Dejar al valor nominal | N47: =IF(L47>$N$7,"Indicio de deterioro de valor","No presenta deterioro de valor") -> No presenta deterioro de valor | O47: =H47-G47 -> 0 | P47: RETE GARANTÍAS (No hay indicio de deterioro) | Q47: (A)
A48: 13050500 | B48: Deud.,client. nacion | C48: AR | F48: Retención de garantías | G48: 25680562 | H48: 25680562 | I48: 44088 | J48: 44196 | K48: =IF(J48-I48<0,"Error",J48-I48) -> 108 | L48: =IF($L$43-J48<0,0,$L$43-J48) -> 0 | M48: =IF(L48="","",IF(K48>365,"Medir al costo amortizado","Dejar al valor nominal")) -> Dejar al valor nominal | N48: =IF(L48>$N$7,"Indicio de deterioro de valor","No presenta deterioro de valor") -> No presenta deterioro de valor | O48: =H48-G48 -> 0 | P48: RETE GARANTÍAS (No hay indicio de deterioro) | Q48: (A)
A49: 13050500 | B49: Deud.,client. nacion | C49: CCS | F49: Contrato de construcción | G49: 10583293 | H49: 10583293 | I49: 44131 | J49: 44131 | K49: =IF(J49-I49<0,"Error",J49-I49) -> 0 | L49: =IF($L$43-J49<0,0,$L$43-J49) -> 65 | M49: =IF(L49="","",IF(K49>365,"Medir al costo amortizado","Dejar al valor nominal")) -> Dejar al valor nominal | N49: =IF(L49>$N$7,"Indicio de deterioro de valor","No presenta deterioro de valor") -> Indicio de deterioro de valor | O49: =H49-G49 -> 0 | P49: Facturas pagadas en febrero de 2021
A50: 13050500 | B50: Deud.,client. nacion | C50: CCU | F50: Contrato de construcción | G50: 134575.44 | H50: 134575.44 | I50: 44196 | J50: 44218 | K50: =IF(J50-I50<0,"Error",J50-I50) -> 22 | L50: =IF($L$43-J50<0,0,$L$43-J50) -> 0 | M50: =IF(L50="","",IF(K50>365,"Medir al costo amortizado","Dejar al valor nominal")) -> Dejar al valor nominal | N50: =IF(L50>$N$7,"Indicio de deterioro de valor","No presenta deterioro de valor") -> No presenta deterioro de valor | O50: =H50-G50 -> 0
A51: 13050500 | B51: Deud.,client. nacion | C51: CCA | F51: Contrato de construcción | G51: 8494369 | H51: 8494369 | I51: 44179 | J51: 44209 | K51: =IF(J51-I51<0,"Error",J51-I51) -> 30 | L51: =IF($L$43-J51<0,0,$L$43-J51) -> 0 | M51: =IF(L51="","",IF(K51>365,"Medir al costo amortizado","Dejar al valor nominal")) -> Dejar al valor nominal | N51: =IF(L51>$N$7,"Indicio de deterioro de valor","No presenta deterioro de valor") -> No presenta deterioro de valor | O51: =H51-G51 -> 0
A52: 13050500 | B52: Deud.,client. nacion | C52: CEPS | F52: Contrato de construcción | G52: 14406921 | H52: 14406921 | I52: 44174 | J52: 44204 | K52: =IF(J52-I52<0,"Error",J52-I52) -> 30 | L52: =IF($L$43-J52<0,0,$L$43-J52) -> 0 | M52: =IF(L52="","",IF(K52>365,"Medir al costo amortizado","Dejar al valor nominal")) -> Dejar al valor nominal | N52: =IF(L52>$N$7,"Indicio de deterioro de valor","No presenta deterioro de valor") -> No presenta deterioro de valor | O52: =H52-G52 -> 0
A53: 13050500 | B53: Deud.,client. nacion | C53: CEPS | F53: Retención de garantías | G53: 3.2381818e+08 | H53: 3.2381818e+08 | I53: 43714 | J53: 44196 | K53: =IF(J53-I53<0,"Error",J53-I53) -> 482 | L53: =IF($L$43-J53<0,0,$L$43-J53) -> 0 | M53: =IF(L53="","",IF(K53>365,"Medir al costo amortizado","Dejar al valor nominal")) -> Medir al costo amortizado | N53: =IF(L53>$N$7,"Indicio de deterioro de valor","No presenta deterioro de valor") -> No presenta deterioro de valor | O53: =H53-G53 -> 0 | P53: RETE GARANTÍAS (No hay indicio de deterioro) | Q53: (A)
...

Sheet Ant y Avan
C1: NIIF Pymes | XFD1: Para compra de inventario
A2: CUENTA | B2: DESCRIPCIÓN | C2: SALDO 31-DIC-2021 | D2: Validación | E2: Validación 2 | F2: Observaciones | XFD2: Para compra de activos fijos
A3: 13300500 | B3: Antic./avan. a prov. | C3: 29798151 | D3: =SUMIF($A$8:$H$16,A3,$H$8:$H$16)-C3 -> 0 | E3: =C3-'HW PYMES'!M13 -> 0 | F3: Confirmación Gerencia | XFD3: Para compra de intangibles
A4: 13301500 | B4: Antic./avan. a trab. | C4: 1226278 | D4: =SUMIF($A$8:$H$16,A4,$H$8:$H$16)-C4 -> 0 | E4: =C4-'HW PYMES'!M14 -> 0 | F4: Confirmación Gerencia | XFD4: Constituye una cuenta por cobrar
C5: =SUM(C3:C4) -> 31024429 | XFD5: Servicio pagado por anticipado
B6: Diferencia | C6: =C5-H17 -> 0 | XFD6: Otros conceptos
XFD7: Costo o gasto - Resultados
A8: Cuenta | B8: Descripción cuenta | C8: Nombre tercero | D8: NIT tercero | E8: Documento o factura | F8: Fecha inicial (Documento o factura) | G8: Concepto del anticipo (a) | H8: Saldo NIIF | I8: Saldo Auxiliar | J8: Si (a) es un servicio, indicar el % de avance | K8: Inventario | L8: Activos fijos | M8: Intangibles | N8: Cuenta por cobrar | O8: Otros conceptos "Seguir análisis" | P8: Gasto pagado por anticipado | Q8: Resultados "Gasto" | R8: Diferencia por ajustar "Errores" | S8: Observaciones de la Gerencia | T8: Revisión Contable | XFD8: Ganancias acumuladas
A10: 13300500 | B10: Antic./avan. a prov. | C10: SEGUROS ABC | E10: 0L-RCG11-9795481 | F10: 44546 | G10: Servicio pagado por anticipado | H10: 7650000 | I10: 7650000 | K10: =IF(G10="Para compra de inventario",I10,0) -> 0 | L10: =IF(G10="Para compra de activos fijos",I10,0) -> 0 | M10: =IF(G10="Para compra de intangibles",I10,0) -> 0 | N10: =IF(G10="Constituye una cuenta por cobrar",I10,0) -> 0 | O10: =IF(G10="Otros conceptos",I10,0) -> 0 | P10: =IF(G10="Servicio pagado por anticipado",I10-(I10*J10),0) -> 7650000 | Q10: =IF(OR(G10="Ganancias acumuladas",I10*J10>0),I10-SUM(K10:P10),0) -> 0 | R10: =I10-H10 -> 0 | S10: SALDO ANTICIPO POLIZA RESPONSABILIDAD CIVIL | T10: EVALUAR MATERIALIDAD - GPXANT
A11: 13300500 | B11: Antic./avan. a prov. | C11: SEGUROS ABC | E11: 0M-CPL12-2828771 | F11: 44546 | G11: Servicio pagado por anticipado | H11: 11097377 | I11: 11097377 | K11: =IF(G11="Para compra de inventario",I11,0) -> 0 | L11: =IF(G11="Para compra de activos fijos",I11,0) -> 0 | M11: =IF(G11="Para compra de intangibles",I11,0) -> 0 | N11: =IF(G11="Constituye una cuenta por cobrar",I11,0) -> 0 | O11: =IF(G11="Otros conceptos",I11,0) -> 0 | P11: =IF(G11="Servicio pagado por anticipado",I11-(I11*J11),0) -> 11097377 | Q11: =IF(OR(G11="Ganancias acumuladas",I11*J11>0),I11-SUM(K11:P11),0) -> 0 | R11: =I11-H11 -> 0 | S11: SALDO ANTICIPO POLIZA EQUIPO Y MAQUINARIA | T11: EVALUAR MATERIALIDAD - GPXANT
A12: 13300500 | B12: Antic./avan. a prov. | C12: SEGUROS ABC | E12: 0Z-MPL11-4113471 | F12: 44546 | G12: Servicio pagado por anticipado | H12: 11050774 | I12: 11050774 | K12: =IF(G12="Para compra de inventario",I12,0) -> 0 | L12: =IF(G12="Para compra de activos fijos",I12,0) -> 0 | M12: =IF(G12="Para compra de intangibles",I12,0) -> 0 | N12: =IF(G12="Constituye una cuenta por cobrar",I12,0) -> 0 | O12: =IF(G12="Otros conceptos",I12,0) -> 0 | P12: =IF(G12="Servicio pagado por anticipado",I12-(I12*J12),0) -> 11050774 | Q12: =IF(OR(G12="Ganancias acumuladas",I12*J12>0),I12-SUM(K12:P12),0) -> 0 | R12: =I12-H12 -> 0 | S12: SALDO ANTICIPO POLIZA TODO RIESGO DAÑO MATERIAL | T12: EVALUAR MATERIALIDAD - GPXANT
A14: 13301500 | B14: Antic./avan. a trab. | C14: EMPLEADO | E14: 6400001262 | F14: 44527 | G14: Constituye una cuenta por cobrar | H14: 750000 | I14: 750000 | K14: =IF(G14="Para compra de inventario",I14,0) -> 0 | L14: =IF(G14="Para compra de activos fijos",I14,0) -> 0 | M14: =IF(G14="Para compra de intangibles",I14,0) -> 0 | N14: =IF(G14="Constituye una cuenta por cobrar",I14,0) -> 750000 | O14: =IF(G14="Otros conceptos",I14,0) -> 0 | P14: =IF(G14="Servicio pagado por anticipado",I14-(I14*J14),0) -> 0 | Q14: =IF(OR(G14="Ganancias acumuladas",I14*J14>0),I14-SUM(K14:P14),0) -> 0 | R14: =I14-H14 -> 0 | S14: PAGO VIATICOS | T14: ANTICIPOS LEGALIZADOS EN ENE-22
