Workbook

Sheet Ingresos
A2: Año | B2: Ingresos | C2: Promedio movil | G2: Modelo CAGR | K2: Regresión lineal | N2: Suavización exponencial simple 0,1 | Q2: Suavización exponencial simple 0,9
C3: Variable | D3: valor | E3: Desviación absoluta | F3: Error porcentual Absoluto | G3: Variable | H3: valor | I3: Desviación absoluta | J3: Error porcentual Absoluto | K3: valor | L3: Desviación absoluta | M3: Error porcentual Absoluto | N3: Variable | O3: Desviación absoluta | P3: Error porcentual Absoluto | Q3: Variable | R3: Desviación absoluta | S3: Error porcentual Absoluto
A4: 1 | B4: 135763990 | N4: =B4 -> 135763990 | P4: 0.1 | Q4: =B4 -> 135763990 | S4: 0.9
A5: 2 | B5: 146638893 | C5: =(B5/B4)-1 -> 0.080101528 | N5: =((1-$P$4)*B4)+(N4*$P$4) -> 135763990 | Q5: =((1-$S$4)*B4)+(Q4*$S$4) -> 135763990
A6: 3 | B6: 103325502 | C6: =(B6/B5)-1 -> -0.29537451 | N6: =((1-$P$4)*B5)+(N5*$P$4) -> 1.455514e+08 | Q6: =((1-$S$4)*B5)+(Q5*$S$4) -> 1.3685148e+08
A7: 4 | B7: 114869601 | C7: =(B7/B6)-1 -> 0.11172555 | G7: =((B7/B4)^(1/(A7-A4))-1) -> -0.054183601 | N7: =((1-$P$4)*B6)+(N6*$P$4) -> 1.0754809e+08 | Q7: =((1-$S$4)*B6)+(Q6*$S$4) -> 1.3349888e+08
A8: 5 | B8: 130000000 | C8: =AVERAGE(C5:C7) -> -0.034515809 | D8: =(B7*(1+C8)) -> 1.1090478e+08 | E8: =B8-D8 -> 19095216 | F8: =E8/B8 -> 0.14688628 | H8: =(B7*(1+G7)) -> 1.0864555e+08 | I8: =B8-H8 -> 21354448 | J8: =I8/B8 -> 0.16426498 | K8: =_xlfn.FORECAST.LINEAR(A8,$B$4:B7,$A$4:A7) -> 98650357 | L8: =B8-K8 -> 31349643 | M8: =L8/B8 -> 0.2411511 | N8: =((1-$P$4)*B7)+(N7*$P$4) -> 1.1413745e+08 | O8: =B8-N8 -> 15862550 | P8: =O8/B8 -> 0.12201961 | Q8: =((1-$S$4)*B7)+(Q7*$S$4) -> 1.3163595e+08 | R8: =B8-Q8 -> -1635954.3 | S8: =R8/B8 -> -0.012584264
A9: 6 | B9: 95000000 | C9: =AVERAGE(C6:C8) -> -0.072721588 | D9: =(D8*(1+C9)) -> 1.0283961e+08 | E9: =B9-D9 -> -7839611.8 | F9: =E9/B9 -> -0.08252223 | H9: =(H8*(1+$G$7)) -> 1.0275875e+08 | I9: =B9-H9 -> -7758745.1 | J9: =I9/B9 -> -0.081671002 | K9: =_xlfn.FORECAST.LINEAR(A9,$B$4:B8,$A$4:A8) -> 1.1313042e+08 | L9: =B9-K9 -> -18130416 | M9: =L9/B9 -> -0.19084648 | N9: =((1-$P$4)*N7)+(N8*$P$4) -> 1.0820703e+08 | O9: =B9-N9 -> -13207028 | P9: =O9/B9 -> -0.13902135 | Q9: =((1-$S$4)*Q7)+(Q8*$S$4) -> 1.3182225e+08 | R9: =B9-Q9 -> -36822247 | S9: =R9/B9 -> -0.3876026
A10: 7 | B10: 120000000 | C10: =AVERAGE(C7:C9) -> 0.0014960526 | D10: =(D9*(1+C10)) -> 1.0299347e+08 | E10: =B10-D10 -> 17006535 | F10: =E10/B10 -> 0.14172112 | H10: =(H9*(1+$G$7)) -> 97190906 | I10: =B10-H10 -> 22809094 | J10: =I10/B10 -> 0.19007578 | K10: =_xlfn.FORECAST.LINEAR(A10,$B$4:B9,$A$4:A9) -> 96713745 | L10: =B10-K10 -> 23286255 | M10: =L10/B10 -> 0.19405213 | N10: =((1-$P$4)*N8)+(N9*$P$4) -> 1.1354441e+08 | O10: =B10-N10 -> 6455592.1 | P10: =O10/B10 -> 0.053796601 | Q10: =((1-$S$4)*Q8)+(Q9*$S$4) -> 1.3180362e+08 | R10: =B10-Q10 -> -11803618 | S10: =R10/B10 -> -0.098363482
A11: 8 | B11: 65000000 | C11: =AVERAGE(C8:C10) -> -0.035247115 | D11: =(D10*(1+C11)) -> 99363243 | E11: =B11-D11 -> -34363243 | F11: =E11/B11 -> -0.52866527 | H11: =(H10*(1+$G$7)) -> 91924753 | I11: =B11-H11 -> -26924753 | J11: =I11/B11 -> -0.41422697 | K11: =_xlfn.FORECAST.LINEAR(A11,$B$4:B10,$A$4:A10) -> 1.0310039e+08 | L11: =B11-K11 -> -38100390 | M11: =L11/B11 -> -0.58615984 | N11: =((1-$P$4)*N9)+(N10*$P$4) -> 1.0874077e+08 | O11: =B11-N11 -> -43740766 | P11: =O11/B11 -> -0.67293486 | Q11: =((1-$S$4)*Q9)+(Q10*$S$4) -> 1.3180548e+08 | R11: =B11-Q11 -> -66805481 | S11: =R11/B11 -> -1.0277766
E13: =SUM(E8:E11) -> -6101103.7 | F13: =SUM(F8:F11) -> -0.3225801 | I13: =SUM(I8:I11) -> 9480043.1 | J13: =SUM(J8:J11) -> -0.14155721 | L13: =SUM(L8:L11) -> -1594907 | M13: =SUM(M8:M11) -> -0.34180309 | O13: =SUM(O8:O11) -> -34629652 | P13: =SUM(P8:P11) -> -0.63613999 | R13: =SUM(R8:R11) -> -1.170673e+08 | S13: =SUM(S8:S11) -> -1.526327
A14: DAM y MAPE | E14: =E13/4 -> -1525275.9 | F14: =F13/4 -> -0.080645026 | I14: =I13/4 -> 2370010.8 | J14: =J13/4 -> -0.035389302 | L14: =L13/4 -> -398726.75 | M14: =M13/4 -> -0.085450773 | O14: =O13/4 -> -8657412.9 | P14: =P13/4 -> -0.159035 | R14: =R13/4 -> -29266825 | S14: =S13/4 -> -0.38158174

Sheet Costos y gastos
A2: Cuenta | B2: Concepto | C2: 1 | D2: 2 | E2: 3 | F2: 4 | G2: 5 | H2: 6 | I2: 7 | J2: 8
A3: 4105 | B3: Ingresos | C3: 135763990 | D3: 146638893 | E3: 103325502 | F3: 114869601 | G3: =Ingresos!K8 -> 98650357 | H3: =Ingresos!K9 -> 1.1313042e+08 | I3: =Ingresos!K10 -> 96713745 | J3: =Ingresos!K11 -> 1.0310039e+08
A4: 6105 | B4: Costo de venta | C4: 67881995 | D4: 65987502 | E4: 46496476 | F4: 50542624 | G4: =G$3*G29 -> 43899409 | H4: =H$3*H29 -> 50060209 | I4: =I$3*I29 -> 42916724 | J4: =J$3*J29 -> 45686360
A5: 5105 | B5: Gastos de Personal | C5: 8145839.4 | D5: 8798333.6 | E5: 6199530.1 | F5: 6892176.1 | G5: =G$3*G30 -> 5919021.4 | H5: =H$3*H30 -> 6787824.9 | I5: =I$3*I30 -> 5802824.7 | J5: =J$3*J30 -> 6186023.4
A6: 5115 | B6: Impuestos | C6: 5430559.6 | D6: 5865555.7 | E6: 4133020.1 | F6: 4594784 | G6: =G$3*G31 -> 3946014.3 | H6: =H$3*H31 -> 4525216.6 | I6: =I$3*I31 -> 3868549.8 | J6: =J$3*J31 -> 4124015.6
A7: 5120 | B7: Arrendamientos | C7: 5000000 | D7: 5300000 | E7: 5618000 | F7: 5955080 | G7: =(F7*(1+$C$52)) -> 6098001.9 | H7: =(G7*(1+$D$52)) -> 6280942 | I7: =(H7*(1+$E$52)) -> 6544741.5 | J7: =(I7*(1+$F$52)) -> 6839254.9
A8: 5125 | B8: Contribuciones y Afiliaciones | C8: 3500000 | D8: 3710000 | E8: 3932600 | F8: 4168556 | G8: =G$3*G33 -> 3667315.5 | H8: =H$3*H33 -> 4155525.9 | I8: =I$3*I33 -> 3573914 | J8: =J$3*J33 -> 3798512.2
A9: 5130 | B9: Seguros | C9: 2000000 | D9: 2120000 | E9: 2247200 | F9: 2382032 | G9: =G$3*G34 -> 2095608.8 | H9: =H$3*H34 -> 2374586.2 | I9: =I$3*I34 -> 2042236.6 | J9: =J$3*J34 -> 2170578.4
A10: 5135 | B10: Servicios | C10: 2300000 | D10: 2438000 | E10: 2584280 | F10: 2739336.8 | G10: =G$3*G35 -> 2409950.2 | H10: =H$3*H35 -> 2730774.2 | I10: =I$3*I35 -> 2348572.1 | J10: =J$3*J35 -> 2496165.2
A11: 5140 | B11: Gastos Legales | C11: 400000 | D11: 424000 | E11: 449440 | F11: 476406.4 | G11: =(F11*(1+$C$52)) -> 487840.15 | H11: =(G11*(1+$D$52)) -> 502475.36 | I11: =(H11*(1+$E$52)) -> 523579.32 | J11: =(I11*(1+$F$52)) -> 547140.39
A12: 5145 | B12: Mantenimiento y Reparaciones | C12: 700000 | D12: 742000 | E12: 786520 | F12: 833711.2 | G12: =(F12*(1+$C$52)) -> 853720.27 | H12: =(G12*(1+$D$52)) -> 879331.88 | I12: =(H12*(1+$E$52)) -> 916263.82 | J12: =(I12*(1+$F$52)) -> 957495.69
A13: 5150 | B13: Adecuación e Instalacion | C13: 0 | D13: 800000 | E13: 880000 | F13: 968000 | G13: =(F13*(1+$C$52)) -> 991232 | H13: =(G13*(1+$D$52)) -> 1020969 | I13: =(H13*(1+$E$52)) -> 1063849.7 | J13: =(I13*(1+$F$52)) -> 1111722.9
A14: 5155 | B14: Gastos de Viaje | C14: 2000000 | D14: 2200000 | E14: 2420000 | F14: 2662000 | G14: =G$3*G39 -> 2298318.2 | H14: =H$3*H39 -> 2628682.5 | I14: =I$3*I39 -> 2250213.4 | J14: =J$3*J39 -> 2397218
A15: 5160 | B15: Depreciaciones | C15: 489090 | D15: 537999 | E15: 591798.9 | F15: 650978.79 | G15: =-'CAPEX y Financiacion'!F43 -> 6961723.4 | H15: =-'CAPEX y Financiacion'!G43 -> 12391485 | I15: =-'CAPEX y Financiacion'!H43 -> 12991485 | J15: =-'CAPEX y Financiacion'!I43 -> 12991485
A16: 5199 | B16: Deterioro | C16: 2500000 | D16: 2750000 | E16: 3025000 | F16: 3327500 | G16: =(F16*(1+$C$52)) -> 3407360 | H16: =(G16*(1+$D$52)) -> 3509580.8 | I16: =(H16*(1+$E$52)) -> 3656983.2 | J16: =(I16*(1+$F$52)) -> 3821547.4
A17: 5210 | B17: Honorarios | C17: 2000000 | D17: 2060000 | E17: 2121800 | F17: 2185454 | G17: =G$3*G42 -> 1951334.9 | H17: =H$3*H42 -> 2195060.1 | I17: =I$3*I42 -> 1894778.4 | J17: =J$3*J42 -> 2010175.7
A18: 5220 | B18: Arrendamientos | C18: 6000000 | D18: 6600000 | E18: 7260000 | F18: 7986000 | G18: =(F18*(1+$C$52)) -> 8177664 | H18: =(G18*(1+$D$52)) -> 8422993.9 | I18: =(H18*(1+$E$52)) -> 8776759.7 | J18: =(I18*(1+$F$52)) -> 9171713.8
A19: 5240 | B19: Gastos Legales | C19: 800000 | D19: 824000 | E19: 848720 | F19: 874181.6 | G19: =(F19*(1+$C$52)) -> 895161.96 | H19: =(G19*(1+$D$52)) -> 922016.82 | I19: =(H19*(1+$E$52)) -> 960741.52 | J19: =(I19*(1+$F$52)) -> 1003974.9
A20: 5245 | B20: Mantenimiento y Reparaciones | C20: 2500000 | D20: 2600000 | E20: 2704000 | F20: 2812160 | G20: =(F20*(1+$C$52)) -> 2879651.8 | H20: =(G20*(1+$D$52)) -> 2966041.4 | I20: =(H20*(1+$E$52)) -> 3090615.1 | J20: =(I20*(1+$F$52)) -> 3229692.8
A21: 5405 | B21: Impuesto de renta | C21: 5926116.9 | D21: 6365403 | E21: 261318.19 | F21: 4467005.5 | G21: =G$3*G46 -> 2042886.1 | H21: =H$3*H46 -> 3371058.5 | I21: =I$3*I46 -> 2442328.4 | J21: =J$3*J46 -> 2837897.6
B22: Gasto por interes | G22: ='CAPEX y Financiacion'!C66 -> 0 | H22: ='CAPEX y Financiacion'!D66 -> 0 | I22: ='CAPEX y Financiacion'!E66 -> 0 | J22: ='CAPEX y Financiacion'!F66 -> 0
A23: Utilidad | C23: 18190389 | D23: 26516100 | E23: 10765799 | F23: 10351614 | G23: =G3-SUM(G4:G22) -> -331856.71 | H23: =H3-SUM(H4:H22) -> -2594358.6 | I23: =I3-SUM(I4:I22) -> -8951416 | J23: =J3-SUM(J4:J22) -> -8280584.7
A27: Cuenta | B27: Concepto | C27: 1 | D27: 2 | E27: 3 | F27: 4 | G27: 5 | H27: 6 | I27: 7 | J27: 8
A28: 4105 | B28: Ingresos
A29: 6105 | B29: Costo de venta | C29: {=C4:F21/C3:F3} -> 0.5 | D29: 0.45 | E29: 0.45 | F29: 0.44 | G29: =AVERAGE(E29:F29) -> 0.445 | H29: =AVERAGE(F29:G29) -> 0.4425 | I29: =AVERAGE(G29:H29) -> 0.44375 | J29: =AVERAGE(H29:I29) -> 0.443125
A30: 5105 | B30: Gastos de Personal | C30: 0.06 | D30: 0.06 | E30: 0.06 | F30: 0.06 | G30: =AVERAGE(E30:F30) -> 0.06 | H30: =AVERAGE(F30:G30) -> 0.06 | I30: =AVERAGE(G30:H30) -> 0.06 | J30: =AVERAGE(H30:I30) -> 0.06
A31: 5115 | B31: Impuestos | C31: 0.04 | D31: 0.04 | E31: 0.04 | F31: 0.04 | G31: =AVERAGE(E31:F31) -> 0.04 | H31: =AVERAGE(F31:G31) -> 0.04 | I31: =AVERAGE(G31:H31) -> 0.04 | J31: =AVERAGE(H31:I31) -> 0.04
A32: 5120 | B32: Arrendamientos | C32: 0.036828617 | D32: 0.036143208 | E32: 0.054371863 | F32: 0.051842088
A33: 5125 | B33: Contribuciones y Afiliaciones | C33: 0.025780032 | D33: 0.025300246 | E33: 0.038060304 | F33: 0.036289462 | G33: =AVERAGE(E33:F33) -> 0.037174883 | H33: =AVERAGE(F33:G33) -> 0.036732172 | I33: =AVERAGE(G33:H33) -> 0.036953528 | J33: =AVERAGE(H33:I33) -> 0.03684285
A34: 5130 | B34: Seguros | C34: 0.014731447 | D34: 0.014457283 | E34: 0.021748745 | F34: 0.020736835 | G34: =AVERAGE(E34:F34) -> 0.02124279 | H34: =AVERAGE(F34:G34) -> 0.020989813 | I34: =AVERAGE(G34:H34) -> 0.021116301 | J34: =AVERAGE(H34:I34) -> 0.021053057
A35: 5135 | B35: Servicios | C35: 0.016941164 | D35: 0.016625876 | E35: 0.025011057 | F35: 0.023847361 | G35: =AVERAGE(E35:F35) -> 0.024429209 | H35: =AVERAGE(F35:G35) -> 0.024138285 | I35: =AVERAGE(G35:H35) -> 0.024283747 | J35: =AVERAGE(H35:I35) -> 0.024211016
A36: 5140 | B36: Gastos Legales | C36: 0.0029462894 | D36: 0.0028914566 | E36: 0.004349749 | F36: 0.0041473671
A37: 5145 | B37: Mantenimiento y Reparaciones | C37: 0.0051560064 | D37: 0.0050600491 | E37: 0.0076120608 | F37: 0.0072578924
A38: 5150 | B38: Adecuación e Instalacion | C38: 0 | D38: 0.0054555786 | E38: 0.0085167745 | F38: 0.0084269467
A39: 5155 | B39: Gastos de Viaje | C39: 0.014731447 | D39: 0.015002841 | E39: 0.02342113 | F39: 0.023174103 | G39: =AVERAGE(E39:F39) -> 0.023297617 | H39: =AVERAGE(F39:G39) -> 0.02323586 | I39: =AVERAGE(G39:H39) -> 0.023266738 | J39: =AVERAGE(H39:I39) -> 0.023251299
A40: 5160 | B40: Depreciaciones | C40: 0.0036025017 | D40: 0.0036688698 | E40: 0.0057275202 | F40: 0.0056671111
A41: 5199 | B41: Deterioro | C41: 0.018414309 | D41: 0.018753551 | E41: 0.029276412 | F41: 0.028967629
A42: 5210 | B42: Honorarios | C42: 0.014731447 | D42: 0.014048115 | E42: 0.020535105 | F42: 0.019025521 | G42: =AVERAGE(E42:F42) -> 0.019780313 | H42: =AVERAGE(F42:G42) -> 0.019402917 | I42: =AVERAGE(G42:H42) -> 0.019591615 | J42: =AVERAGE(H42:I42) -> 0.019497266
A43: 5220 | B43: Arrendamientos | C43: 0.04419434 | D43: 0.045008523 | E43: 0.07026339 | F43: 0.06952231
A44: 5240 | B44: Gastos Legales | C44: 0.0058925787 | D44: 0.0056192459 | E44: 0.0082140419 | F44: 0.0076102084
...

Sheet Hoja1
B1: PROMEDIO MOVIL
B2: Años | C2: Ingreso
B3: 1 | C3: 182815672
B4: 2 | C4: 123066911 | D4: =(C4/C3)-1 -> -0.32682516
B5: 3 | C5: 171232603 | D5: =(C5/C4)-1 -> 0.39137809
B6: 4 | C6: 171831114 | D6: =(C6/C5)-1 -> 0.0034953098
B7: 5 | C7: 166637020 | D7: =(C7/C6)-1 -> -0.030227902
B8: 6 | C8: =(C7*(1+D8)) -> 1.868915e+08 | D8: =AVERAGE(D5:D7) -> 0.1215485
B10: SUAVIZACIÓN EXPONENCIAL | E10: 0 A 1 | F10: 0.3
B11: Años | C11: Ingreso
B12: 1 | C12: 182815672 | D12: =C12 -> 182815672
B13: 2 | C13: 123066911 | D13: =((1-$F$10)*C12)+($F$10*D12) -> 182815672
B14: 3 | C14: 171232603 | D14: =((1-$F$10)*C13)+($F$10*D13) -> 1.4099154e+08
B15: 4 | C15: 171831114 | D15: =((1-$F$10)*C14)+($F$10*D14) -> 1.6216028e+08
B16: 5 | C16: 166637020 | D16: =((1-$F$10)*C15)+($F$10*D15) -> 1.6892986e+08
B17: 6 | D17: =((1-$F$10)*C16)+($F$10*D16) -> 1.6732487e+08
B22: Años | C22: Ingreso
B23: 1 | C23: 182815672
B24: 2 | C24: 123066911
B25: 3 | C25: 171232603
B26: 4 | C26: 171831114
B27: 5 | C27: 166637020 | D27: =((C27/C23)^(1/(B27-B23))-1) -> -0.022898867
B28: 6 | C28: =(C27*(1+D27)) -> 1.6282122e+08
B37: Años | C37: Ingreso
B38: 1 | C38: 182815672
B39: 2 | C39: 123066911
B40: 3 | C40: 171232603
B41: 4 | C41: 171831114
B42: 5 | C42: 166637020
B43: 6 | C43: =(1640690*B43)+158194594 -> 168038734 | D43: =_xlfn.FORECAST.LINEAR(B43,C38:C42,B38:B42) -> 1.6803873e+08
C51: PROMEDIO MOVIL | D51: =B10 -> SUAVIZACIÓN EXPONENCIAL | E51: CAGR | F51: REGRESIÓN LINEAL
B52: AÑO 6 | C52: =C8 -> 1.868915e+08 | D52: =D17 -> 1.6732487e+08 | E52: =C28 -> 1.6282122e+08 | F52: =C43 -> 168038734

Sheet Ciclo operacional
B2: Concepto | C2: 1 | D2: 2 | E2: 3 | F2: 4 | G2: 5 | H2: 6 | I2: 7 | J2: 8
B3: Clientes | C3: 398877250 | D3: 434000000 | E3: 338877250 | F3: 338877250 | G3: =G6*G9 -> 2.910288e+08 | H3: =H6*H9 -> 3.3374647e+08 | I3: =I6*I9 -> 2.8531559e+08 | J3: =J6*J9 -> 3.0415685e+08
B4: Inventario | C4: 74548346 | D4: 84548346 | E4: 45048346 | F4: 63448346 | G4: =G7*G11 -> 55108830 | H4: =H7*H11 -> 62842749 | I4: =I7*I11 -> 53875223 | J4: =J7*J11 -> 57352067
B5: Proveedores | C5: 134483462 | D5: 185483462 | E5: 193483462 | F5: 194830462 | G5: =G7*G13 -> 1.6922236e+08 | H5: =H7*H13 -> 1.9297086e+08 | I5: =I7*I13 -> 1.6543433e+08 | J5: =J7*J13 -> 1.7611065e+08
B6: Ingresos de Actividades Ordinarias | C6: 135763990 | D6: 146638893 | E6: 103325502 | F6: 114869601 | G6: ='Costos y gastos'!G3 -> 98650357 | H6: ='Costos y gastos'!H3 -> 1.1313042e+08 | I6: ='Costos y gastos'!I3 -> 96713745 | J6: ='Costos y gastos'!J3 -> 1.0310039e+08
B7: Costos de venta | C7: 67881995 | D7: 65987502 | E7: 46496476 | F7: 50542624 | G7: ='Costos y gastos'!G4 -> 43899409 | H7: ='Costos y gastos'!H4 -> 50060209 | I7: ='Costos y gastos'!I4 -> 42916724 | J7: ='Costos y gastos'!J4 -> 45686360
B9: Rotación clientes -Veces | C9: =C3/C6 -> 2.9380195 | D9: =D3/D6 -> 2.9596514 | E9: =E3/E6 -> 3.2797058 | F9: =F3/F6 -> 2.9501038 | G9: =F9 -> 2.9501038 | H9: =G9 -> 2.9501038 | I9: =H9 -> 2.9501038 | J9: =I9 -> 2.9501038
B10: Rotación clientes - días | C10: =360/C9 -> 122.53152 | D10: =360/D9 -> 121.63595 | E10: =360/E9 -> 109.76594 | F10: =360/F9 -> 122.0296 | G10: =F10 -> 122.0296 | H10: =G10 -> 122.0296 | I10: =H10 -> 122.0296 | J10: =I10 -> 122.0296
B11: Rotación inventarios -Veces | C11: =C4/C7 -> 1.098205 | D11: =D4/D7 -> 1.2812782 | E11: =E4/E7 -> 0.96885506 | F11: =F4/F7 -> 1.2553433 | G11: =F11 -> 1.2553433 | H11: =G11 -> 1.2553433 | I11: =H11 -> 1.2553433 | J11: =I11 -> 1.2553433
B12: Rotación inventarios - días | C12: =360/C11 -> 327.80765 | D12: =360/D11 -> 280.96943 | E12: =360/E11 -> 371.57261 | F12: =360/F11 -> 286.77414 | G12: =F12 -> 286.77414 | H12: =G12 -> 286.77414 | I12: =H12 -> 286.77414 | J12: =I12 -> 286.77414
B13: Rotación Proveedores -Veces | C13: =C5/C7 -> 1.981136 | D13: =D5/D7 -> 2.8108878 | E13: =E5/E7 -> 4.16125 | F13: =F5/F7 -> 3.8547753 | G13: =F13 -> 3.8547753 | H13: =G13 -> 3.8547753 | I13: =H13 -> 3.8547753 | J13: =I13 -> 3.8547753
B14: Rotación Proveedores - días | C14: =360/C13 -> 181.71393 | D14: =360/D13 -> 128.07342 | E14: =360/E13 -> 86.512465 | F14: =360/F13 -> 93.390657 | G14: =F14 -> 93.390657 | H14: =G14 -> 93.390657 | I14: =H14 -> 93.390657 | J14: =I14 -> 93.390657

Sheet CAPEX y Financiacion
A4: CONCEPTO | B4: 1 | C4: 2 | D4: 3 | E4: 4
A5: TERRENO | B5: 0 | C5: 0 | D5: 0 | E5: 107819257
A6: EQUIPO DE OFICINA | B6: 202005 | C6: 118205 | D6: 118205 | E6: 9249723
A7: EQUIPO DE COMPUTO Y COMUNICACION | B7: 18754968 | C7: 15708121 | D7: 18506121 | E7: 19623694
A8: FLOTA Y EQUIPO DE TRANSPORTE | B8: 0 | C8: 10393699 | D8: 10393699 | E8: 10393699
A9: DEPRECIACION EQUIPO DE OFICINA | B9: 202005 | C9: 118205 | D9: 118205 | E9: 3543925
A10: DEPRECIACION EQUIPO DE COMPUTO Y COMUNICACION | B10: 6646973 | C10: 8992760 | D10: 11119157 | E10: 13245554
A11: DEPRECIACION FLOTA Y EQUIPO DE TRANSPORTE | B11: 0 | C11: 2078739.8 | D11: 4157479.6 | E11: 6236219.4
A13: COSTO | B13: =+SUM(B5:B8) -> 18956973 | C13: =+SUM(C5:C8) -> 26220025 | D13: =+SUM(D5:D8) -> 29018025 | E13: =+SUM(E5:E8) -> 147086373
A14: DEPRECIACIÓN | B14: =+SUM(B9:B11) -> 6848978 | C14: =+SUM(C9:C11) -> 11189705 | D14: =+SUM(D9:D11) -> 15394842 | E14: =+SUM(E9:E11) -> 23025698
A17: OPCIÓN 1
A19: Concepto | B19: 1 | C19: 2 | D19: 3 | E19: 4 | F19: 5 | G19: 6 | H19: 7 | I19: 8
A20: Costo | C20: =B22 -> 18956973 | D20: =C22 -> 26220025 | E20: =D22 -> 29018025 | F20: =E22 -> 147086373 | G20: =F22 -> 3.0147306e+08 | H20: =G22 -> 5.0952423e+08 | I20: =H22 -> 7.7787186e+08
A21: (+) Compras | C21: =C22-C20 -> 7263052 | D21: =D22-D20 -> 2798000 | E21: =E22-E20 -> 118068348 | F21: =(F28*'Costos y gastos'!G3)+E21 -> 1.5438669e+08 | G21: =(G28*'Costos y gastos'!H3)+F21 -> 2.0805117e+08 | H21: =(H28*'Costos y gastos'!I3)+G21 -> 2.6834763e+08 | I21: =(I28*'Costos y gastos'!J3)+H21 -> 3.1872813e+08
A22: Costo final | B22: =B13 -> 18956973 | C22: =C13 -> 26220025 | D22: =D13 -> 29018025 | E22: =E13 -> 147086373 | F22: =F20+F21 -> 3.0147306e+08 | G22: =G20+G21 -> 5.0952423e+08 | H22: =H20+H21 -> 7.7787186e+08 | I22: =I20+I21 -> 1.0966e+09
A24: Depreciación Acum | C24: =B26 -> 6848978 | D24: =C26 -> 11189705 | E24: =D26 -> 15394842 | F24: =E26 -> 23025698 | G24: =F26 -> 31502659 | H24: =G26 -> 46446243 | I24: =H26 -> 75403282
A25: (+) Gasto dep | C25: =C26-C24 -> 4340726.8 | D25: =D26-D24 -> 4205136.8 | E25: =E26-E24 -> 7630856.8 | F25: =F24*F28 -> 8476960.2 | G25: =G24*G28 -> 14943584 | H25: =H24*H28 -> 28957040 | I25: =I24*I28 -> 36846176
A26: Depreciacion final | B26: =B14 -> 6848978 | C26: =C14 -> 11189705 | D26: =D14 -> 15394842 | E26: =E14 -> 23025698 | F26: =F24+F25 -> 31502659 | G26: =G24+G25 -> 46446243 | H26: =H24+H25 -> 75403282 | I26: =I24+I25 -> 1.1224946e+08
A28: % Compras | C28: =C21/'Costos y gastos'!D3 -> 0.049530188 | D28: =D21/'Costos y gastos'!E3 -> 0.027079472 | E28: =E21/'Costos y gastos'!F3 -> 1.0278468 | F28: =AVERAGE(C28:E28) -> 0.36815214 | G28: =AVERAGE(D28:F28) -> 0.47435946 | H28: =AVERAGE(E28:G28) -> 0.62345279 | I28: =AVERAGE(F28:H28) -> 0.4886548
A30: OPCIÓN 2
A32: CONCEPTO | B32: 1 | C32: 2 | D32: 3 | E32: 4 | F32: 5 | G32: 6 | H32: 7 | I32: 8
A33: TERRENO | B33: 0 | C33: 0 | D33: 0 | E33: 107819257 | F33: =E33+D47 -> 107819257 | G33: =F33+E47 -> 127819257 | H33: =G33+F47 -> 127819257 | I33: =H33+G47 -> 127819257
A34: EQUIPO DE OFICINA | B34: 202005 | C34: 118205 | D34: 118205 | E34: 9249723 | F34: =E34+D48 -> 29249723 | G34: =F34+E48 -> 27249723 | H34: =G34+F48 -> 27249723 | I34: =H34+G48 -> 27249723
A35: EQUIPO DE COMPUTO Y COMUNICACION | B35: 18754968 | C35: 15708121 | D35: 18506121 | E35: 19623694 | F35: =E35+D49 -> 19623694 | G35: =F35+E49 -> 19623694 | H35: =G35+F49 -> 22623694 | I35: =H35+G49 -> 22623694
A36: FLOTA Y EQUIPO DE TRANSPORTE | B36: 0 | C36: 10393699 | D36: 10393699 | E36: 10393699 | F36: =E36+D50 -> 10393699 | G36: =F36+E50 -> 70393699 | H36: =G36+F50 -> 70393699 | I36: =H36+G50 -> 70393699
A37: DEPRECIACION EQUIPO DE OFICINA | B37: 202005 | C37: 118205 | D37: 118205 | E37: 3543925 | F37: =((F34-(F34*C48))/B48)+E37 -> 5615780.4 | G37: =((G34-(G34*C48))/B48)+F37 -> 7545969.1 | H37: =((H34-(H34*C48))/B48)+G37 -> 9476157.8 | I37: =((I34-(I34*C48))/B48)+H37 -> 11406347
A38: DEPRECIACION EQUIPO DE COMPUTO Y COMUNICACION | B38: 6646973 | C38: 8992760 | D38: 11119157 | E38: 13245554 | F38: =((F35-(F35*C49))/B49)+E38 -> 17170293 | G38: =((G35-(G35*C49))/B49)+F38 -> 21095032 | H38: =((H35-(H35*C49))/B49)+G38 -> 25619770 | I38: =((I35-(I35*C49))/B49)+H38 -> 30144509
A39: DEPRECIACION FLOTA Y EQUIPO DE TRANSPORTE | B39: 0 | C39: 2078739.8 | D39: 4157479.6 | E39: 6236219.4 | F39: =((F36-(F36*C50))/B50)+E39 -> 7201348.6 | G39: =((G36-(G36*C50))/B50)+F39 -> 13737906 | H39: =((H36-(H36*C50))/B50)+G39 -> 20274464 | I39: =((I36-(I36*C50))/B50)+H39 -> 26811022
A41: Costo | B41: =+SUM(B33:B36) -> 18956973 | C41: =+SUM(C33:C36) -> 26220025 | D41: =+SUM(D33:D36) -> 29018025 | E41: =+SUM(E33:E36) -> 147086373 | F41: =+SUM(F33:F36) -> 167086373 | G41: =+SUM(G33:G36) -> 245086373 | H41: =+SUM(H33:H36) -> 248086373 | I41: =+SUM(I33:I36) -> 248086373
A42: Depreciacion | B42: =+SUM(B37:B39) -> 6848978 | C42: =+SUM(C37:C39) -> 11189705 | D42: =+SUM(D37:D39) -> 15394842 | E42: =+SUM(E37:E39) -> 23025698 | F42: =+SUM(F37:F39) -> 29987422 | G42: =+SUM(G37:G39) -> 42378907 | H42: =+SUM(H37:H39) -> 55370392 | I42: =+SUM(I37:I39) -> 68361878
C43: =B37+B38+B39-C37-C38-C39 -> -4340726.8 | D43: =C37+C38+C39-D37-D38-D39 -> -4205136.8 | E43: =D37+D38+D39-E37-E38-E39 -> -7630856.8 | F43: =E37+E38+E39-F37-F38-F39 -> -6961723.4 | G43: =F37+F38+F39-G37-G38-G39 -> -12391485 | H43: =G37+G38+G39-H37-H38-H39 -> -12991485 | I43: =H37+H38+H39-I37-I38-I39 -> -12991485
A45: CONCEPTO | D45: Mejoras, adiciones o ventas
D46: 5 | E46: 6 | F46: 7 | G46: 8
A47: TERRENO | B47: N/A | C47: N/A | E47: 20000000
A48: EQUIPO DE OFICINA | B48: 12 | C48: 0.15 | D48: 20000000 | E48: -2000000
A49: EQUIPO DE COMPUTO Y COMUNICACION | B49: 5 | C49: 0 | F49: 3000000
A50: FLOTA Y EQUIPO DE TRANSPORTE | B50: 7 | C50: 0.35 | E50: 60000000
B51: VIDA UTIL | C51: VALOR RESIDUAL
A55: obligacion financiera
A57: Saldo | B57: 0
...
