Workbook
Name Reglon_renta: [1]Lists!$AQ$3:$AQ$58
Name renglon_renta1: [2]Lists!$AQ$3:$AQ$58

Sheet BP
A1: 1 | B1: A C T I V O | C1: 8.1519093e+09 | D1: 5.8207812e+09 | E1: 5.881238e+09 | F1: 8.0914525e+09
A2: 11 | B2: ACTIVO DISPONIBLE | C2: 261599303 | D2: 9.8670434e+08 | E2: 8.1868039e+08 | F2: 4.2962325e+08
A3: 1105 | B3: CAJA | C3: 942660 | D3: 0 | E3: 0 | F3: 942660
A4: 110505 | B4: CAJA GENERAL | C4: 70200 | D4: 0 | E4: 0 | F4: 70200
A5: 110510 | B5: CAJA MENOR-CAMINOS | C5: 872460 | D5: 0 | E5: 0 | F5: 872460
A6: 1110 | B6: BANCOS | C6: 250458650 | D6: 983415000 | E6: 8.1587851e+08 | F6: 4.1799514e+08
A7: 111005 | B7: BANCOS MONEDA NACIONAL | C7: 250458650 | D7: 983415000 | E7: 8.1587851e+08 | F7: 4.1799514e+08
A8: 1120 | B8: CUENTAS DE AHORRO | C8: 10197993 | D8: 3289338 | E8: 2801878.9 | F8: 10685452
A9: 112010 | B9: CORPORAC.DE AHORRO Y VIVIE | C9: 10197993 | D9: 3289338 | E9: 2801878.9 | F9: 10685452
A10: 12 | B10: INVERSIONES | C10: 390118676 | D10: 175000000 | E10: 0 | F10: 565118676
A11: 1205 | B11: CONSTRUCCION | C11: 90118676 | D11: 0 | E11: 0 | F11: 90118676
A12: 120555 | B12: PROYECTOS CONSTRUCCION | C12: 90118676 | D12: 0 | E12: 0 | F12: 90118676
A13: 1210 | B13: INVERSIONES EN ASOCIADAS | C13: 300000000 | D13: 125000000 | F13: 425000000
A14: 13 | B14: DEUDORES | C14: 3.4908256e+09 | D14: 593526148 | E14: 507522966 | F14: 3.5768288e+09
A15: 1305 | B15: CLIENTES | C15: 3.6629415e+08 | D15: 0 | E15: 72439489 | F15: 2.9385466e+08
A16: 130505 | B16: CLIENTES NACIONALES | C16: 3.6629415e+08 | D16: 0 | E16: 72439489 | F16: 2.9385466e+08
A17: 1330 | B17: ANTICIPOS Y AVANCES | C17: 8.1710351e+08 | D17: 583667089 | E17: 435083477 | F17: 9.6568712e+08
A18: 133005 | B18: ANTIC.Y AVANCES A PROVEEDO | C18: 543774055 | D18: 475718335 | E18: 247621368 | F18: 771871022
A19: 133010 | B19: ANTIC.Y AVANCES A CONTRATI | C19: 37831198 | D19: 74448428 | E19: 78282973 | F19: 33996653
A20: 133095 | B20: OTROS ANTICIPOS | C20: 2.3549826e+08 | D20: 33500326 | E20: 109179136 | F20: 1.5981945e+08
A21: 1340 | B21: PROMESAS DE COMPRA VENTA | C21: 330000000 | D21: 0 | E21: 0 | F21: 330000000
A22: 1355 | B22: ANTIC.DE IMPTOS.Y CONT.SAL | C22: 1.7202914e+08 | D22: 3051243 | E22: 0 | F22: 1.7508039e+08
A23: 135505 | B23: ANTIC.IMPTO.RENTA Y COMPLE | C23: 36830000 | D23: 0 | E23: 0 | F23: 36830000
A24: 135518 | B24: ICA RETENIDO | C24: 3960564 | D24: 0 | E24: 0 | F24: 3960564
A25: 135535 | B25: DEVOL IVA MATERAL INT SOCI | C25: 1.3123858e+08 | D25: 3051243 | E25: 0 | F25: 1.3428982e+08
... A187: 539595 | B187: OTROS | C187: 2671 | D187: 367.13 | E187: 21 | F187: 3017.13

Sheet Balance de prueba
A1: Cuenta | B1: Concepto | C1: Saldo anterior | D1: Debito | E1: Crédito | F1: Saldo final
F2: 0

Sheet 210
B5: No. Identificación | E5: Primer nombre | I5: Segundo nombre
B7: Clave de ingreso | I7: Clave de firma
B8: Patrimonio | C8: Patrimonio bruto | E8: 28 | F8: 0 | G8: Renta presuntiva | J8: 68 | K8: 0
C9: Deudas | E9: 29 | F9: 0 | G9: Cedula de pensiones | H9: Ingresos brutos por rentas de pensiones del país y del exterior | J9: 69 | K9: 0
C10: Total Patrimonio líquido (28 - 29) | E10: 30 | F10: =F8-F9 -> 0 | H10: Ingresos no constitutivos de renta | J10: 70 | K10: 0
B11: Cédula general | C11: Rentas de trabajo | D11: Ingresos brutos por rentas de trabajo (art. 103 del ET) | E11: 31 | F11: 0 | H11: Renta líquida (69 - 70) | J11: 71 | K11: =K9-K10 -> 0
D12: Ingresos no constitutivos de renta | E12: 32 | F12: 0 | H12: Rentas exentas de pensiones | J12: 72 | K12: 0
D13: costos y gastos procedentes (trabajadores independientes) | E13: 33 | F13: 0 | H13: Renta líquida cedular de pensiones (71 - 72) | J13: 73 | K13: =K11-K12 -> 0
D14: Renta líquida (31 - 32 - 33) | E14: 34 | F14: =F11-F12-F13 -> 0 | G14: Cédula de dividendos y participaciones | H14: Dividendos y participaciones 2016 y anteriores y otros | J14: 74 | K14: 0
D15: Rentas exentas y deducciones imputables a las rentas de trabajo | E15: 35 | F15: 0 | H15: Ingresos no constitutivos de renta | J15: 75 | K15: 0
D16: Rentas exentas y deducciones imputables (limitadas) | E16: 36 | F16: 0 | H16: Renta líquida ordinaria año 2016 y anteriores (74 - 75) | J16: 76 | K16: =K14-K15 -> 0
D17: Renta líquida de trabajo (34 - 36) | E17: 37 | F17: =F14-F16 -> 0 | H17: 1a. Subcédula año 2017 y siguientes numeral 3 art. 49 del E.T. | J17: 77 | K17: 0
C18: Rentas de capital | D18: Ingresos brutos por rentas de capital | E18: 38 | F18: 0 | H18: 2a. Subcédula año 2017 y siguientes parágrafo 2 art. 49 del E.T. | J18: 78 | K18: 0
D19: Ingresos no constitutivos de renta | E19: 39 | F19: 0 | H19: Renta líquida pasiva dividendos - ECE y/o recibidos del exterior | J19: 79 | K19: 0
D20: costos y gastos procedentes | E20: 40 | F20: 0 | H20: Rentas exentas de la casilla 79 | J20: 80 | K20: 0
D21: Renta líquida (38 - 39 - 40) | E21: 41 | F21: =IF(F18-F19-F20>0,F18-F19-F20,0) -> 0 | G21: Ganancias ocasionales | H21: Ingresos por ganancias ocasionales del país y del exterior | J21: 81 | K21: 0
D22: Rentas líquidas pasivas de capital-ECE | E22: 42 | F22: 0 | H22: Costos por ganancias ocasionales | J22: 82 | K22: 0
D23: Rentas exentas y deducciones imputables a las rentas de capital | E23: 43 | F23: 0 | H23: Ganancias ocasionales no gravadas y exentas | J23: 83 | K23: 0
D24: Rentas exentas y deducciones imputables (limitadas) | E24: 44 | F24: 0 | H24: Ganancias ocasionales gravables (81 - 82 - 83) | J24: 84 | K24: =IF(K21-K22-K23>0,K21-K22-K23,0) -> 0
D25: Renta líquida ordinaria del ejercicio (38 + 42 - 39 - 40 - 44) | E25: 45 | F25: =IF(F18+F22-F19-F20-F24>0,F18+F22-F19-F20-F24,0) -> 0 | G25: Liquidación privada | H25: Impuesto sobre las rentas liquidas gravables | I25: General y de pensiones (base casillas 67 + 73) | J25: 85 | K25: 0
D26: Pérdida líquida del ejercicio (39 + 40 - 38 - 42) | E26: 46 | F26: =IF(F19+F20-F18-F22>0,F19+F20-F18-F22,0) -> 0 | I26: o Renta presuntiva y de pensiones (base casillas 68 + 73) | J26: 86 | K26: 0
D27: Compensación de pérdidas rentas de capital | E27: 47 | F27: 0 | I27: Por dividendos y participaciones año 2016 (base casilla 76) | J27: 87 | K27: 0
D28: Renta líquida de capital (45 - 47) | E28: 48 | F28: =IF(F25>0,F25-F27,0) -> 0 | I28: Por dividendos y participaciones año 2017 y siguientes, 1a. Subcédula (base casilla 77) | J28: 88 | K28: 0
C29: Rentas no laborales | D29: Ingresos brutos rentas no laborales | E29: 49 | F29: 0 | I29: Por dividendos y participaciones año 2017 y siguientes, 2a. Subcédula y otros (base casilla 78 + 79 + 80) | J29: 89 | K29: 0
D30: Devoluciones, rebajas y descuentos | E30: 50 | F30: 0 | I30: Total impuesto sobre las rentas líquidas gravables (sume 85 a 89) | J30: 90 | K30: =SUM(K25:K29) -> 0
D31: Ingresos no constitutivos de renta | E31: 51 | F31: 0 | H31: Descuentos | I31: Impuestos pagados en el exterior | J31: 91 | K31: 0
D32: costos y gastos procedentes | E32: 52 | F32: 0 | I32: Donaciones | J32: 92 | K32: 0
D33: Renta líquida (49 - 50 - 51 - 52) | E33: 53 | F33: =IF(F29-F30-F31-F32>0,F29-F30-F31-F32,0) -> 0 | I33: Otros | J33: 93 | K33: 0
D34: Rentas líquidas pasivas no laboral - ECE | E34: 54 | F34: 0 | I34: Total descuentos tributarios (sume 91 a 93) | J34: 94 | K34: =SUM(K31:K33) -> 0
D35: Rentas exentas y deducciones imputables a las rentas no laboral | E35: 55 | F35: 0 | H35: Impuesto neto de renta (90 - 94) | J35: 95 | K35: =K30-K34 -> 0
D36: Rentas exentas y deducciones imputables (limitadas) | E36: 56 | F36: 0 | H36: Impuesto de ganancias ocasionales | J36: 96 | K36: 0
D37: Renta líquida ordinaria del ejercicio (49 - 50 - 51 - 52 - 56) | E37: 57 | F37: =IF(F29-F30-F31-F32-F36>0,F29-F30-F31-F32-F36,0) -> 0 | H37: Descuento por impuestos pagados en el exterior por ganancias ocasionales | J37: 97 | K37: 0
D38: Pérdida líquida del ejercicio (50 + 51 + 52 - 49 - 54) | E38: 58 | F38: =IF(F30+F31+F32-F29-F34>0,F30+F31+F32-F29-F34,0) -> 0 | H38: Total impuesto a cargo (95 + 96 - 97) | J38: 98 | K38: =K35+K36-K37 -> 0
D39: Compensación por pérdidas rentas no laborales | E39: 59 | F39: 0 | H39: Anticipo renta liquidado año gravable anterior | J39: 99 | K39: 0
D40: Renta líquida no laboral (57-59) | E40: 60 | F40: =IF(F37>0,F37-F39,0) -> 0 | H40: Saldo a favor del año gravable anterior sin solicitud de devolución y/o compensación | J40: 100 | K40: 0
C41: Renta líquida cedular | E41: 61 | F41: =IF(F20+F32<F18+F29,F14+F21+F22+F33+F34-F27-F39,IF(F26+F38>1,F14+F28+F33,IF(F26>1,F14+F28+F29+F34-F31-F30-F32-F39,IF(F38>1,F14+F18+F22+F40-F19-F20-F27,IF(F13+F20+F32>F11+F18+F29,F14+F18+F21+F29+F34-F19-F20-F27-F30-F31-F32-F39,0))))) -> 0 | H41: Retenciones año gravable a declarar | J41: 101 | K41: 0
C42: Rentas exentas y deduciones imputables limitadas (36 + 44 + 56) | E42: 62 | F42: =F16+F24+F36 -> 0 | H42: Anticipo renta para el año gravable siguiente | J42: 102 | K42: 0
C43: Renta líquida ordinaria cédula general | E43: 63 | F43: =F41-F42 -> 0 | H43: Saldo a pagar por impuesto (98 + 102 - 99 - 100 - 101) | J43: 103 | K43: =IF(K38+K42-K39-K40-K41>0,K38+K42-K39-K40-K41,0) -> 0
C44: Compensación por pérdidas año gravable 2016 y anteriores | E44: 64 | F44: =F27+F39 -> 0 | H44: Sanciones | J44: 104
C45: Compensación por exceso de renta presuntiva | E45: 65 | F45: 0 | H45: Saldo a pagar (98 + 102 + 104 - 99 - 100 - 101) | J45: 105 | K45: =IF(K38+K42+K44-K39-K40-K41>0,K38+K42+K44-K39-K40-K41,0) -> 0
...

Sheet H1 (Caratula)
J2: MODELO REPORTE DE CONCILIACION FISCAL ANEXO FORMULARIO 210 | AD2: Privada | AM2: 2517
B5: 1. Año | E5: | | |
B6: Modelo de referencia para la captura de datos, el cual no incluye generación de la declaración de renta y complementario ni su liquidación.
B12: Datos del declarante | D12: 5. Número de Identificación Tributaria (NIT) | T12: 6.DV. | W12: 7. Primer apellido | Z12: 8. Segundo apellido | AF12: 9. Primer nombre | AO12: 10. Otros nombres
D14: 24. No. Declaración de renta asociada: | W14: Si es una corrección Indique: 26. Cód. 27. No. Formulario anterior | AQ14: 12. Cód. Dirección seccional
B15: Datos informativos (SI / NO)
B16: 30. Sucesión ilíquida
B17: 31. Programa de reorganización empresarial durante el año gravable
B18: 32. Costo de los inventarios establecidos por el sistema de juego de inventarios
B19: 33. Costo de los inventarios establecido simultáneamente por el juego de inventarios y por el sistema de inventario permanente
B20: 34. Moneda funcional diferente al peso colombiano
B22: 89. No. Identificación Signatario | W22: 90. DV
B23: 981. Cód. Representación | V23: 997. Fecha efectiva de la transacción | AD23: 996. Espacio para el numero interno de la DIAN
B24: Firma del Declarante o de quien lo representa
B27: 982. Código contador o Revisor Fiscal
B28: Firma Contador o Revisor Fiscal 994. Con salvedades
B31: 983, No. Tarjeta profesional
C68: }

Sheet H2 (ESF - Patrimonio)
L1: Estado de Situación Financiera - Patrimonio
A8: Diligencie su cuenta contable | G8: NUM | H8: CONCEPTO | M8: VALOR CONTABLE | N8: EFECTO DE CONVERSION (Por Moneda Funcional Diferente al Peso Colombiano) | O8: MENOR VALOR FISCAL (por reconocimiento, exenciones, etc.) | P8: MAYOR VALOR FISCAL (por reconocimiento, exenciones, etc.) | Q8: VALOR FISCAL
G10: 1 | H10: ACTIVOS
G11: =G10+1 -> 2 | I11: Efectivo y equivalentes al efectivo | M11: =SUM(M12:M16) -> 0 | N11: =SUM(N12:N16) -> 0 | O11: =SUM(O12:O16) -> 0 | P11: =SUM(P12:P16) -> 0 | Q11: =SUM(Q12:Q16) -> 0
G12: =G11+1 -> 3 | J12: Efectivo | M12: =IFERROR(VLOOKUP(E12,'Balance de prueba'!$A$2:$F$500,6,0),0)+IFERROR(VLOOKUP(D12,'Balance de prueba'!$A$2:$F$500,6,0),0)+IFERROR(VLOOKUP(C12,'Balance de prueba'!$A$2:$F$500,6,0),0)+IFERROR(VLOOKUP(B12,'Balance de prueba'!$A$2:$F$500,6,0),0)+IFERROR(VLOOKUP(A12,'Balance de prueba'!$A$2:$F$500,6,0),0)+IFERROR(VLOOKUP(F12,'Balance de prueba'!$A$2:$F$500,6,0),0) -> 0 | Q12: =M12+N12-O12+P12 -> 0
G13: =G12+1 -> 4 | J13: Equivalentes al efectivo | L13: Aportes voluntarios fondos de pensión e invalidez | M13: =IFERROR(VLOOKUP(E13,'Balance de prueba'!$A$2:$F$500,6,0),0)+IFERROR(VLOOKUP(D13,'Balance de prueba'!$A$2:$F$500,6,0),0)+IFERROR(VLOOKUP(C13,'Balance de prueba'!$A$2:$F$500,6,0),0)+IFERROR(VLOOKUP(B13,'Balance de prueba'!$A$2:$F$500,6,0),0)+IFERROR(VLOOKUP(A13,'Balance de prueba'!$A$2:$F$500,6,0),0)+IFERROR(VLOOKUP(F13,'Balance de prueba'!$A$2:$F$500,6,0),0) -> 0 | Q13: =M13+N13-O13+P13 -> 0
G14: =G13+1 -> 5 | L14: Cuentas AFC | M14: =IFERROR(VLOOKUP(E14,'Balance de prueba'!$A$2:$F$500,6,0),0)+IFERROR(VLOOKUP(D14,'Balance de prueba'!$A$2:$F$500,6,0),0)+IFERROR(VLOOKUP(C14,'Balance de prueba'!$A$2:$F$500,6,0),0)+IFERROR(VLOOKUP(B14,'Balance de prueba'!$A$2:$F$500,6,0),0)+IFERROR(VLOOKUP(A14,'Balance de prueba'!$A$2:$F$500,6,0),0)+IFERROR(VLOOKUP(F14,'Balance de prueba'!$A$2:$F$500,6,0),0) -> 0 | Q14: =M14+N14-O14+P14 -> 0
G15: =G14+1 -> 6 | L15: Cesantías a cargo del fondo de cesantías | M15: =IFERROR(VLOOKUP(E15,'Balance de prueba'!$A$2:$F$500,6,0),0)+IFERROR(VLOOKUP(D15,'Balance de prueba'!$A$2:$F$500,6,0),0)+IFERROR(VLOOKUP(C15,'Balance de prueba'!$A$2:$F$500,6,0),0)+IFERROR(VLOOKUP(B15,'Balance de prueba'!$A$2:$F$500,6,0),0)+IFERROR(VLOOKUP(A15,'Balance de prueba'!$A$2:$F$500,6,0),0)+IFERROR(VLOOKUP(F15,'Balance de prueba'!$A$2:$F$500,6,0),0) -> 0 | Q15: =M15+N15-O15+P15 -> 0
G16: =G15+1 -> 7 | L16: Otros equivalentes a efectivo | M16: =IFERROR(VLOOKUP(E16,'Balance de prueba'!$A$2:$F$500,6,0),0)+IFERROR(VLOOKUP(D16,'Balance de prueba'!$A$2:$F$500,6,0),0)+IFERROR(VLOOKUP(C16,'Balance de prueba'!$A$2:$F$500,6,0),0)+IFERROR(VLOOKUP(B16,'Balance de prueba'!$A$2:$F$500,6,0),0)+IFERROR(VLOOKUP(A16,'Balance de prueba'!$A$2:$F$500,6,0),0)+IFERROR(VLOOKUP(F16,'Balance de prueba'!$A$2:$F$500,6,0),0) -> 0 | Q16: =M16+N16-O16+P16 -> 0
G17: =G16+1 -> 8 | I17: Inversiones e instrumentos financieros derivados | M17: =M18-M32 -> 0 | N17: =N18-N32 -> 0 | O17: =O18-O32 -> 0 | P17: =P18-P32 -> 0 | Q17: =Q18-Q32 -> 0
G18: =G17+1 -> 9 | J18: Inversiones e instrumentos financieros derivados | M18: =SUM(M19:M31) -> 0 | N18: =SUM(N19:N31) -> 0 | O18: =SUM(O19:O31) -> 0 | P18: =SUM(P19:P31) -> 0 | Q18: =SUM(Q19:Q31) -> 0
G19: =G18+1 -> 10 | K19: Derechos de recompra de inversiones | M19: =IFERROR(VLOOKUP(E19,'Balance de prueba'!$A$2:$F$500,6,0),0)+IFERROR(VLOOKUP(D19,'Balance de prueba'!$A$2:$F$500,6,0),0)+IFERROR(VLOOKUP(C19,'Balance de prueba'!$A$2:$F$500,6,0),0)+IFERROR(VLOOKUP(B19,'Balance de prueba'!$A$2:$F$500,6,0),0)+IFERROR(VLOOKUP(A19,'Balance de prueba'!$A$2:$F$500,6,0),0)+IFERROR(VLOOKUP(F19,'Balance de prueba'!$A$2:$F$500,6,0),0) -> 0 | Q19: =M19+N19-O19+P19 -> 0
G20: =G19+1 -> 11 | K20: Inversiones en sociedades, asociadas y negocios conjuntos | L20: Valor razonable con cambios en resultados | M20: =IFERROR(VLOOKUP(E20,'Balance de prueba'!$A$2:$F$500,6,0),0)+IFERROR(VLOOKUP(D20,'Balance de prueba'!$A$2:$F$500,6,0),0)+IFERROR(VLOOKUP(C20,'Balance de prueba'!$A$2:$F$500,6,0),0)+IFERROR(VLOOKUP(B20,'Balance de prueba'!$A$2:$F$500,6,0),0)+IFERROR(VLOOKUP(A20,'Balance de prueba'!$A$2:$F$500,6,0),0)+IFERROR(VLOOKUP(F20,'Balance de prueba'!$A$2:$F$500,6,0),0) -> 0 | Q20: =M20+N20-O20+P20 -> 0
G21: =G20+1 -> 12 | L21: Valor razonable con cambios en el ORI | M21: =IFERROR(VLOOKUP(E21,'Balance de prueba'!$A$2:$F$500,6,0),0)+IFERROR(VLOOKUP(D21,'Balance de prueba'!$A$2:$F$500,6,0),0)+IFERROR(VLOOKUP(C21,'Balance de prueba'!$A$2:$F$500,6,0),0)+IFERROR(VLOOKUP(B21,'Balance de prueba'!$A$2:$F$500,6,0),0)+IFERROR(VLOOKUP(A21,'Balance de prueba'!$A$2:$F$500,6,0),0)+IFERROR(VLOOKUP(F21,'Balance de prueba'!$A$2:$F$500,6,0),0) -> 0 | Q21: =M21+N21-O21+P21 -> 0
G22: =G21+1 -> 13 | L22: Método de la participación | M22: =IFERROR(VLOOKUP(E22,'Balance de prueba'!$A$2:$F$500,6,0),0)+IFERROR(VLOOKUP(D22,'Balance de prueba'!$A$2:$F$500,6,0),0)+IFERROR(VLOOKUP(C22,'Balance de prueba'!$A$2:$F$500,6,0),0)+IFERROR(VLOOKUP(B22,'Balance de prueba'!$A$2:$F$500,6,0),0)+IFERROR(VLOOKUP(A22,'Balance de prueba'!$A$2:$F$500,6,0),0)+IFERROR(VLOOKUP(F22,'Balance de prueba'!$A$2:$F$500,6,0),0) -> 0 | Q22: =M22+N22-O22+P22 -> 0
G23: =G22+1 -> 14 | L23: al costo | M23: =IFERROR(VLOOKUP(E23,'Balance de prueba'!$A$2:$F$500,6,0),0)+IFERROR(VLOOKUP(D23,'Balance de prueba'!$A$2:$F$500,6,0),0)+IFERROR(VLOOKUP(C23,'Balance de prueba'!$A$2:$F$500,6,0),0)+IFERROR(VLOOKUP(B23,'Balance de prueba'!$A$2:$F$500,6,0),0)+IFERROR(VLOOKUP(A23,'Balance de prueba'!$A$2:$F$500,6,0),0)+IFERROR(VLOOKUP(F23,'Balance de prueba'!$A$2:$F$500,6,0),0) -> 0 | Q23: =M23+N23-O23+P23 -> 0
G24: =G23+1 -> 15 | K24: Instrumentos de deuda a costo amortizado | M24: =IFERROR(VLOOKUP(E24,'Balance de prueba'!$A$2:$F$500,6,0),0)+IFERROR(VLOOKUP(D24,'Balance de prueba'!$A$2:$F$500,6,0),0)+IFERROR(VLOOKUP(C24,'Balance de prueba'!$A$2:$F$500,6,0),0)+IFERROR(VLOOKUP(B24,'Balance de prueba'!$A$2:$F$500,6,0),0)+IFERROR(VLOOKUP(A24,'Balance de prueba'!$A$2:$F$500,6,0),0)+IFERROR(VLOOKUP(F24,'Balance de prueba'!$A$2:$F$500,6,0),0) -> 0 | Q24: =M24+N24-O24+P24 -> 0
G25: =G24+1 -> 16 | K25: Instrumentos de deuda o patrimonio al costo | M25: =IFERROR(VLOOKUP(E25,'Balance de prueba'!$A$2:$F$500,6,0),0)+IFERROR(VLOOKUP(D25,'Balance de prueba'!$A$2:$F$500,6,0),0)+IFERROR(VLOOKUP(C25,'Balance de prueba'!$A$2:$F$500,6,0),0)+IFERROR(VLOOKUP(B25,'Balance de prueba'!$A$2:$F$500,6,0),0)+IFERROR(VLOOKUP(A25,'Balance de prueba'!$A$2:$F$500,6,0),0)+IFERROR(VLOOKUP(F25,'Balance de prueba'!$A$2:$F$500,6,0),0) -> 0 | Q25: =M25+N25-O25+P25 -> 0
G26: =G25+1 -> 17 | K26: Instrumentos de deuda o patrimonio al valor razonable con cambios en resultados | M26: =IFERROR(VLOOKUP(E26,'Balance de prueba'!$A$2:$F$500,6,0),0)+IFERROR(VLOOKUP(D26,'Balance de prueba'!$A$2:$F$500,6,0),0)+IFERROR(VLOOKUP(C26,'Balance de prueba'!$A$2:$F$500,6,0),0)+IFERROR(VLOOKUP(B26,'Balance de prueba'!$A$2:$F$500,6,0),0)+IFERROR(VLOOKUP(A26,'Balance de prueba'!$A$2:$F$500,6,0),0)+IFERROR(VLOOKUP(F26,'Balance de prueba'!$A$2:$F$500,6,0),0) -> 0 | Q26: =M26+N26-O26+P26 -> 0
G27: =G26+1 -> 18 | K27: Instrumentos de deuda o patrimonio al valor razonable con cambios en el ORI | M27: =IFERROR(VLOOKUP(E27,'Balance de prueba'!$A$2:$F$500,6,0),0)+IFERROR(VLOOKUP(D27,'Balance de prueba'!$A$2:$F$500,6,0),0)+IFERROR(VLOOKUP(C27,'Balance de prueba'!$A$2:$F$500,6,0),0)+IFERROR(VLOOKUP(B27,'Balance de prueba'!$A$2:$F$500,6,0),0)+IFERROR(VLOOKUP(A27,'Balance de prueba'!$A$2:$F$500,6,0),0)+IFERROR(VLOOKUP(F27,'Balance de prueba'!$A$2:$F$500,6,0),0) -> 0 | Q27: =M27+N27-O27+P27 -> 0
G28: =G27+1 -> 19 | K28: Instrumentos financieros derivados con fines de negociación | M28: =IFERROR(VLOOKUP(E28,'Balance de prueba'!$A$2:$F$500,6,0),0)+IFERROR(VLOOKUP(D28,'Balance de prueba'!$A$2:$F$500,6,0),0)+IFERROR(VLOOKUP(C28,'Balance de prueba'!$A$2:$F$500,6,0),0)+IFERROR(VLOOKUP(B28,'Balance de prueba'!$A$2:$F$500,6,0),0)+IFERROR(VLOOKUP(A28,'Balance de prueba'!$A$2:$F$500,6,0),0)+IFERROR(VLOOKUP(F28,'Balance de prueba'!$A$2:$F$500,6,0),0) -> 0 | Q28: =M28+N28-O28+P28 -> 0
G29: =G28+1 -> 20 | K29: Instrumentos financieros derivados con fines de cobertura | M29: =IFERROR(VLOOKUP(E29,'Balance de prueba'!$A$2:$F$500,6,0),0)+IFERROR(VLOOKUP(D29,'Balance de prueba'!$A$2:$F$500,6,0),0)+IFERROR(VLOOKUP(C29,'Balance de prueba'!$A$2:$F$500,6,0),0)+IFERROR(VLOOKUP(B29,'Balance de prueba'!$A$2:$F$500,6,0),0)+IFERROR(VLOOKUP(A29,'Balance de prueba'!$A$2:$F$500,6,0),0)+IFERROR(VLOOKUP(F29,'Balance de prueba'!$A$2:$F$500,6,0),0) -> 0 | Q29: =M29+N29-O29+P29 -> 0
G30: =G29+1 -> 21 | K30: Derechos fiduciarios | M30: =IFERROR(VLOOKUP(E30,'Balance de prueba'!$A$2:$F$500,6,0),0)+IFERROR(VLOOKUP(D30,'Balance de prueba'!$A$2:$F$500,6,0),0)+IFERROR(VLOOKUP(C30,'Balance de prueba'!$A$2:$F$500,6,0),0)+IFERROR(VLOOKUP(B30,'Balance de prueba'!$A$2:$F$500,6,0),0)+IFERROR(VLOOKUP(A30,'Balance de prueba'!$A$2:$F$500,6,0),0)+IFERROR(VLOOKUP(F30,'Balance de prueba'!$A$2:$F$500,6,0),0) -> 0 | Q30: =M30+N30-O30+P30 -> 0
G31: =G30+1 -> 22 | K31: Otros | M31: =IFERROR(VLOOKUP(E31,'Balance de prueba'!$A$2:$F$500,6,0),0)+IFERROR(VLOOKUP(D31,'Balance de prueba'!$A$2:$F$500,6,0),0)+IFERROR(VLOOKUP(C31,'Balance de prueba'!$A$2:$F$500,6,0),0)+IFERROR(VLOOKUP(B31,'Balance de prueba'!$A$2:$F$500,6,0),0)+IFERROR(VLOOKUP(A31,'Balance de prueba'!$A$2:$F$500,6,0),0)+IFERROR(VLOOKUP(F31,'Balance de prueba'!$A$2:$F$500,6,0),0) -> 0 | Q31: =M31+N31-O31+P31 -> 0
G32: =G31+1 -> 23 | J32: Deterioro acumulado de inversiones | M32: =SUM(M33:M39) -> 0 | N32: =SUM(N33:N39) -> 0 | O32: =SUM(O33:O39) -> 0 | P32: =SUM(P33:P39) -> 0 | Q32: =SUM(Q33:Q39) -> 0
G33: =G32+1 -> 24 | K33: Derechos de recompra de inversiones | M33: =IFERROR(VLOOKUP(E33,'Balance de prueba'!$A$2:$F$500,6,0),0)+IFERROR(VLOOKUP(D33,'Balance de prueba'!$A$2:$F$500,6,0),0)+IFERROR(VLOOKUP(C33,'Balance de prueba'!$A$2:$F$500,6,0),0)+IFERROR(VLOOKUP(B33,'Balance de prueba'!$A$2:$F$500,6,0),0)+IFERROR(VLOOKUP(A33,'Balance de prueba'!$A$2:$F$500,6,0),0)+IFERROR(VLOOKUP(F33,'Balance de prueba'!$A$2:$F$500,6,0),0) -> 0 | Q33: =M33+N33-O33+P33 -> 0
G34: =G33+1 -> 25 | K34: Inversiones en sociedades, asociadas y negocios conjuntos | L34: Método de la participación | M34: =IFERROR(VLOOKUP(E34,'Balance de prueba'!$A$2:$F$500,6,0),0)+IFERROR(VLOOKUP(D34,'Balance de prueba'!$A$2:$F$500,6,0),0)+IFERROR(VLOOKUP(C34,'Balance de prueba'!$A$2:$F$500,6,0),0)+IFERROR(VLOOKUP(B34,'Balance de prueba'!$A$2:$F$500,6,0),0)+IFERROR(VLOOKUP(A34,'Balance de prueba'!$A$2:$F$500,6,0),0)+IFERROR(VLOOKUP(F34,'Balance de prueba'!$A$2:$F$500,6,0),0) -> 0 | Q34: =M34+N34-O34+P34 -> 0
G35: =G34+1 -> 26 | L35: Costo | M35: =IFERROR(VLOOKUP(E35,'Balance de prueba'!$A$2:$F$500,6,0),0)+IFERROR(VLOOKUP(D35,'Balance de prueba'!$A$2:$F$500,6,0),0)+IFERROR(VLOOKUP(C35,'Balance de prueba'!$A$2:$F$500,6,0),0)+IFERROR(VLOOKUP(B35,'Balance de prueba'!$A$2:$F$500,6,0),0)+IFERROR(VLOOKUP(A35,'Balance de prueba'!$A$2:$F$500,6,0),0)+IFERROR(VLOOKUP(F35,'Balance de prueba'!$A$2:$F$500,6,0),0) -> 0 | Q35: =M35+N35-O35+P35 -> 0
G36: =G35+1 -> 27 | K36: instrumentos de deuda a costo amortizado | M36: =IFERROR(VLOOKUP(E36,'Balance de prueba'!$A$2:$F$500,6,0),0)+IFERROR(VLOOKUP(D36,'Balance de prueba'!$A$2:$F$500,6,0),0)+IFERROR(VLOOKUP(C36,'Balance de prueba'!$A$2:$F$500,6,0),0)+IFERROR(VLOOKUP(B36,'Balance de prueba'!$A$2:$F$500,6,0),0)+IFERROR(VLOOKUP(A36,'Balance de prueba'!$A$2:$F$500,6,0),0)+IFERROR(VLOOKUP(F36,'Balance de prueba'!$A$2:$F$500,6,0),0) -> 0 | Q36: =M36+N36-O36+P36 -> 0
G37: =G36+1 -> 28 | K37: Instrumentos de deuda o patrimonio al costo | M37: =IFERROR(VLOOKUP(E37,'Balance de prueba'!$A$2:$F$500,6,0),0)+IFERROR(VLOOKUP(D37,'Balance de prueba'!$A$2:$F$500,6,0),0)+IFERROR(VLOOKUP(C37,'Balance de prueba'!$A$2:$F$500,6,0),0)+IFERROR(VLOOKUP(B37,'Balance de prueba'!$A$2:$F$500,6,0),0)+IFERROR(VLOOKUP(A37,'Balance de prueba'!$A$2:$F$500,6,0),0)+IFERROR(VLOOKUP(F37,'Balance de prueba'!$A$2:$F$500,6,0),0) -> 0 | Q37: =M37+N37-O37+P37 -> 0
G38: =G37+1 -> 29 | K38: Derechos fiduciarios | M38: =IFERROR(VLOOKUP(E38,'Balance de prueba'!$A$2:$F$500,6,0),0)+IFERROR(VLOOKUP(D38,'Balance de prueba'!$A$2:$F$500,6,0),0)+IFERROR(VLOOKUP(C38,'Balance de prueba'!$A$2:$F$500,6,0),0)+IFERROR(VLOOKUP(B38,'Balance de prueba'!$A$2:$F$500,6,0),0)+IFERROR(VLOOKUP(A38,'Balance de prueba'!$A$2:$F$500,6,0),0)+IFERROR(VLOOKUP(F38,'Balance de prueba'!$A$2:$F$500,6,0),0) -> 0 | Q38: =M38+N38-O38+P38 -> 0
G39: =G38+1 -> 30 | K39: Otros | M39: =IFERROR(VLOOKUP(E39,'Balance de prueba'!$A$2:$F$500,6,0),0)+IFERROR(VLOOKUP(D39,'Balance de prueba'!$A$2:$F$500,6,0),0)+IFERROR(VLOOKUP(C39,'Balance de prueba'!$A$2:$F$500,6,0),0)+IFERROR(VLOOKUP(B39,'Balance de prueba'!$A$2:$F$500,6,0),0)+IFERROR(VLOOKUP(A39,'Balance de prueba'!$A$2:$F$500,6,0),0)+IFERROR(VLOOKUP(F39,'Balance de prueba'!$A$2:$F$500,6,0),0) -> 0 | Q39: =M39+N39-O39+P39 -> 0
G40: =G39+1 -> 31 | I40: Cuentas comerciales por cobrar y otras cuentas por cobrar | M40: =M41-M52 -> 0 | N40: =N41-N52 -> 0 | O40: =O41-O52 -> 0 | P40: =P41-P52 -> 0 | Q40: =Q41-Q52 -> 0
G41: =G40+1 -> 32 | J41: Cuentas y documentos por cobrar | M41: =SUM(M42:M51) -> 0 | N41: =SUM(N42:N51) -> 0 | O41: =SUM(O42:O51) -> 0 | P41: =SUM(P42:P51) -> 0 | Q41: =SUM(Q42:Q51) -> 0
G42: =G41+1 -> 33 | K42: Cuentas comerciales por cobrar | M42: =IFERROR(VLOOKUP(E42,'Balance de prueba'!$A$2:$F$500,6,0),0)+IFERROR(VLOOKUP(D42,'Balance de prueba'!$A$2:$F$500,6,0),0)+IFERROR(VLOOKUP(C42,'Balance de prueba'!$A$2:$F$500,6,0),0)+IFERROR(VLOOKUP(B42,'Balance de prueba'!$A$2:$F$500,6,0),0)+IFERROR(VLOOKUP(A42,'Balance de prueba'!$A$2:$F$500,6,0),0)+IFERROR(VLOOKUP(F42,'Balance de prueba'!$A$2:$F$500,6,0),0) -> 0 | Q42: =M42+N42-O42+P42 -> 0
G43: =G42+1 -> 34 | K43: Cuentas por cobrar en acuerdos de concesión (modelo del activo financiero) | M43: =IFERROR(VLOOKUP(E43,'Balance de prueba'!$A$2:$F$500,6,0),0)+IFERROR(VLOOKUP(D43,'Balance de prueba'!$A$2:$F$500,6,0),0)+IFERROR(VLOOKUP(C43,'Balance de prueba'!$A$2:$F$500,6,0),0)+IFERROR(VLOOKUP(B43,'Balance de prueba'!$A$2:$F$500,6,0),0)+IFERROR(VLOOKUP(A43,'Balance de prueba'!$A$2:$F$500,6,0),0)+IFERROR(VLOOKUP(F43,'Balance de prueba'!$A$2:$F$500,6,0),0) -> 0 | Q43: =M43+N43-O43+P43 -> 0
G44: =G43+1 -> 35 | K44: Arrendamiento financiero o leasing financiero | M44: =IFERROR(VLOOKUP(E44,'Balance de prueba'!$A$2:$F$500,6,0),0)+IFERROR(VLOOKUP(D44,'Balance de prueba'!$A$2:$F$500,6,0),0)+IFERROR(VLOOKUP(C44,'Balance de prueba'!$A$2:$F$500,6,0),0)+IFERROR(VLOOKUP(B44,'Balance de prueba'!$A$2:$F$500,6,0),0)+IFERROR(VLOOKUP(A44,'Balance de prueba'!$A$2:$F$500,6,0),0)+IFERROR(VLOOKUP(F44,'Balance de prueba'!$A$2:$F$500,6,0),0) -> 0 | Q44: =M44+N44-O44+P44 -> 0
G45: =G44+1 -> 36 | K45: Dividendos y participaciones | M45: =IFERROR(VLOOKUP(E45,'Balance de prueba'!$A$2:$F$500,6,0),0)+IFERROR(VLOOKUP(D45,'Balance de prueba'!$A$2:$F$500,6,0),0)+IFERROR(VLOOKUP(C45,'Balance de prueba'!$A$2:$F$500,6,0),0)+IFERROR(VLOOKUP(B45,'Balance de prueba'!$A$2:$F$500,6,0),0)+IFERROR(VLOOKUP(A45,'Balance de prueba'!$A$2:$F$500,6,0),0)+IFERROR(VLOOKUP(F45,'Balance de prueba'!$A$2:$F$500,6,0),0) -> 0 | Q45: =M45+N45-O45+P45 -> 0
G46: =G45+1 -> 37 | K46: Cuentas por cobrar a entidades de las cuales es socio, accionista o partícipe | M46: =IFERROR(VLOOKUP(E46,'Balance de prueba'!$A$2:$F$500,6,0),0)+IFERROR(VLOOKUP(D46,'Balance de prueba'!$A$2:$F$500,6,0),0)+IFERROR(VLOOKUP(C46,'Balance de prueba'!$A$2:$F$500,6,0),0)+IFERROR(VLOOKUP(B46,'Balance de prueba'!$A$2:$F$500,6,0),0)+IFERROR(VLOOKUP(A46,'Balance de prueba'!$A$2:$F$500,6,0),0)+IFERROR(VLOOKUP(F46,'Balance de prueba'!$A$2:$F$500,6,0),0) -> 0 | Q46: =M46+N46-O46+P46 -> 0
G47: =G46+1 -> 38 | K47: Cuentas y documentos por cobrar a otras partes relacionadas y asociadas | M47: =IFERROR(VLOOKUP(E47,'Balance de prueba'!$A$2:$F$500,6,0),0)+IFERROR(VLOOKUP(D47,'Balance de prueba'!$A$2:$F$500,6,0),0)+IFERROR(VLOOKUP(C47,'Balance de prueba'!$A$2:$F$500,6,0),0)+IFERROR(VLOOKUP(B47,'Balance de prueba'!$A$2:$F$500,6,0),0)+IFERROR(VLOOKUP(A47,'Balance de prueba'!$A$2:$F$500,6,0),0)+IFERROR(VLOOKUP(F47,'Balance de prueba'!$A$2:$F$500,6,0),0) -> 0 | Q47: =M47+N47-O47+P47 -> 0
...

Sheet H3 (ERI - Renta Liquida)
M1: Estado de resultados - Impuesto de Renta y complementarios
A8: Diligencie su cuenta | G8: NUM | H8: CONCEPTO | N8: VALOR CONTABLE | O8: EFECTO DE CONVERSION (Por Moneda Funcional Diferente al Peso Colombiano) | P8: MENOR VALOR FISCAL (por reconocimiento, exenciones, limitaciones, etc.) | Q8: MAYOR VALOR FISCAL (por reconocimiento, recuperaciones, deducciones, etc.) | R8: VALOR FISCAL
G9: 1 | H9: Ingresos
G10: =G9+1 -> 2 | I10: Rentas de trabajo | N10: =SUM(N11:N19) -> 0 | O10: =SUM(O11:O19) -> 0 | P10: =SUM(P11:P19) -> 0 | Q10: =SUM(Q11:Q19) -> 0 | R10: =SUM(R11:R19) -> 0
G11: =G10+1 -> 3 | J11: Salarios y demás ingresos laborales | N11: =IFERROR(VLOOKUP(E11,'Balance de prueba'!$A$2:$F$500,6,0),0)+IFERROR(VLOOKUP(D11,'Balance de prueba'!$A$2:$F$500,6,0),0)+IFERROR(VLOOKUP(C11,'Balance de prueba'!$A$2:$F$500,6,0),0)+IFERROR(VLOOKUP(B11,'Balance de prueba'!$A$2:$F$500,6,0),0)+IFERROR(VLOOKUP(A11,'Balance de prueba'!$A$2:$F$500,6,0),0)+IFERROR(VLOOKUP(F11,'Balance de prueba'!$A$2:$F$500,6,0),0) -> 0 | R11: =N11+O11-P11+Q11 -> 0
G12: =G11+1 -> 4 | J12: Honorarios, comisiones, servicios y compensaciones | N12: =IFERROR(VLOOKUP(E12,'Balance de prueba'!$A$2:$F$500,6,0),0)+IFERROR(VLOOKUP(D12,'Balance de prueba'!$A$2:$F$500,6,0),0)+IFERROR(VLOOKUP(C12,'Balance de prueba'!$A$2:$F$500,6,0),0)+IFERROR(VLOOKUP(B12,'Balance de prueba'!$A$2:$F$500,6,0),0)+IFERROR(VLOOKUP(A12,'Balance de prueba'!$A$2:$F$500,6,0),0)+IFERROR(VLOOKUP(F12,'Balance de prueba'!$A$2:$F$500,6,0),0) -> 0 | R12: =N12+O12-P12+Q12 -> 0
G13: =G12+1 -> 5 | J13: Ingresos Obtenidos en el exterior | N13: =IFERROR(VLOOKUP(E13,'Balance de prueba'!$A$2:$F$500,6,0),0)+IFERROR(VLOOKUP(D13,'Balance de prueba'!$A$2:$F$500,6,0),0)+IFERROR(VLOOKUP(C13,'Balance de prueba'!$A$2:$F$500,6,0),0)+IFERROR(VLOOKUP(B13,'Balance de prueba'!$A$2:$F$500,6,0),0)+IFERROR(VLOOKUP(A13,'Balance de prueba'!$A$2:$F$500,6,0),0)+IFERROR(VLOOKUP(F13,'Balance de prueba'!$A$2:$F$500,6,0),0) -> 0 | R13: =N13+O13-P13+Q13 -> 0
G14: =G13+1 -> 6 | J14: Prima especial y de costo de vida (servidores públicos diplomáticos…) | N14: =IFERROR(VLOOKUP(E14,'Balance de prueba'!$A$2:$F$500,6,0),0)+IFERROR(VLOOKUP(D14,'Balance de prueba'!$A$2:$F$500,6,0),0)+IFERROR(VLOOKUP(C14,'Balance de prueba'!$A$2:$F$500,6,0),0)+IFERROR(VLOOKUP(B14,'Balance de prueba'!$A$2:$F$500,6,0),0)+IFERROR(VLOOKUP(A14,'Balance de prueba'!$A$2:$F$500,6,0),0)+IFERROR(VLOOKUP(F14,'Balance de prueba'!$A$2:$F$500,6,0),0) -> 0 | R14: =N14+O14-P14+Q14 -> 0
G15: =G14+1 -> 7 | J15: Pagos a terceros por alimentación | N15: =IFERROR(VLOOKUP(E15,'Balance de prueba'!$A$2:$F$500,6,0),0)+IFERROR(VLOOKUP(D15,'Balance de prueba'!$A$2:$F$500,6,0),0)+IFERROR(VLOOKUP(C15,'Balance de prueba'!$A$2:$F$500,6,0),0)+IFERROR(VLOOKUP(B15,'Balance de prueba'!$A$2:$F$500,6,0),0)+IFERROR(VLOOKUP(A15,'Balance de prueba'!$A$2:$F$500,6,0),0)+IFERROR(VLOOKUP(F15,'Balance de prueba'!$A$2:$F$500,6,0),0) -> 0 | R15: =N15+O15-P15+Q15 -> 0
G16: =G15+1 -> 8 | J16: Apoyo económico para financiar programas educativos | N16: =IFERROR(VLOOKUP(E16,'Balance de prueba'!$A$2:$F$500,6,0),0)+IFERROR(VLOOKUP(D16,'Balance de prueba'!$A$2:$F$500,6,0),0)+IFERROR(VLOOKUP(C16,'Balance de prueba'!$A$2:$F$500,6,0),0)+IFERROR(VLOOKUP(B16,'Balance de prueba'!$A$2:$F$500,6,0),0)+IFERROR(VLOOKUP(A16,'Balance de prueba'!$A$2:$F$500,6,0),0)+IFERROR(VLOOKUP(F16,'Balance de prueba'!$A$2:$F$500,6,0),0) -> 0 | R16: =N16+O16-P16+Q16 -> 0
G17: =G16+1 -> 9 | J17: Otros ingresos laborales (Indemnizaciones, etc.) | N17: =IFERROR(VLOOKUP(E17,'Balance de prueba'!$A$2:$F$500,6,0),0)+IFERROR(VLOOKUP(D17,'Balance de prueba'!$A$2:$F$500,6,0),0)+IFERROR(VLOOKUP(C17,'Balance de prueba'!$A$2:$F$500,6,0),0)+IFERROR(VLOOKUP(B17,'Balance de prueba'!$A$2:$F$500,6,0),0)+IFERROR(VLOOKUP(A17,'Balance de prueba'!$A$2:$F$500,6,0),0)+IFERROR(VLOOKUP(F17,'Balance de prueba'!$A$2:$F$500,6,0),0) -> 0 | R17: =N17+O17-P17+Q17 -> 0
G18: =G17+1 -> 10 | J18: Mayor ingreso - Precios de Transferencia | R18: =N18+O18-P18+Q18 -> 0
G19: =G18+1 -> 11 | J19: Otros ingresos fiscales y no incluidos contablemente | R19: =N19+O19-P19+Q19 -> 0
G20: =G19+1 -> 12 | I20: Rentas de pensiones | N20: =SUM(N21:N24) -> 0 | O20: =SUM(O21:O24) -> 0 | P20: =SUM(P21:P24) -> 0 | Q20: =SUM(Q21:Q24) -> 0 | R20: =SUM(R21:R24) -> 0
G21: =G20+1 -> 13 | J21: Ingresos por pensiones | N21: =IFERROR(VLOOKUP(E21,'Balance de prueba'!$A$2:$F$500,6,0),0)+IFERROR(VLOOKUP(D21,'Balance de prueba'!$A$2:$F$500,6,0),0)+IFERROR(VLOOKUP(C21,'Balance de prueba'!$A$2:$F$500,6,0),0)+IFERROR(VLOOKUP(B21,'Balance de prueba'!$A$2:$F$500,6,0),0)+IFERROR(VLOOKUP(A21,'Balance de prueba'!$A$2:$F$500,6,0),0)+IFERROR(VLOOKUP(F21,'Balance de prueba'!$A$2:$F$500,6,0),0) -> 0 | R21: =N21+O21-P21+Q21 -> 0
G22: =G21+1 -> 14 | J22: Ingresos por pensiones del exterior | N22: =IFERROR(VLOOKUP(E22,'Balance de prueba'!$A$2:$F$500,6,0),0)+IFERROR(VLOOKUP(D22,'Balance de prueba'!$A$2:$F$500,6,0),0)+IFERROR(VLOOKUP(C22,'Balance de prueba'!$A$2:$F$500,6,0),0)+IFERROR(VLOOKUP(B22,'Balance de prueba'!$A$2:$F$500,6,0),0)+IFERROR(VLOOKUP(A22,'Balance de prueba'!$A$2:$F$500,6,0),0)+IFERROR(VLOOKUP(F22,'Balance de prueba'!$A$2:$F$500,6,0),0) -> 0 | R22: =N22+O22-P22+Q22 -> 0
G23: =G22+1 -> 15 | J23: Indemnizaciones Sustitutivas de las Pensiones o devoluciones de saldos de ahorro pensional | N23: =IFERROR(VLOOKUP(E23,'Balance de prueba'!$A$2:$F$500,6,0),0)+IFERROR(VLOOKUP(D23,'Balance de prueba'!$A$2:$F$500,6,0),0)+IFERROR(VLOOKUP(C23,'Balance de prueba'!$A$2:$F$500,6,0),0)+IFERROR(VLOOKUP(B23,'Balance de prueba'!$A$2:$F$500,6,0),0)+IFERROR(VLOOKUP(A23,'Balance de prueba'!$A$2:$F$500,6,0),0)+IFERROR(VLOOKUP(F23,'Balance de prueba'!$A$2:$F$500,6,0),0) -> 0 | R23: =N23+O23-P23+Q23 -> 0
G24: =G23+1 -> 16 | J24: Otros ingresos fiscales y no incluidos contablemente | R24: =N24+O24-P24+Q24 -> 0
G25: =G24+1 -> 17 | I25: Rentas de capital | N25: =SUM(N26:N36) -> 0 | O25: =SUM(O26:O36) -> 0 | P25: =SUM(P26:P36) -> 0 | Q25: =SUM(Q26:Q36) -> 0 | R25: =SUM(R26:R36) -> 0
G26: =G25+1 -> 18 | J26: Intereses devengados | N26: =IFERROR(VLOOKUP(E26,'Balance de prueba'!$A$2:$F$500,6,0),0)+IFERROR(VLOOKUP(D26,'Balance de prueba'!$A$2:$F$500,6,0),0)+IFERROR(VLOOKUP(C26,'Balance de prueba'!$A$2:$F$500,6,0),0)+IFERROR(VLOOKUP(B26,'Balance de prueba'!$A$2:$F$500,6,0),0)+IFERROR(VLOOKUP(A26,'Balance de prueba'!$A$2:$F$500,6,0),0)+IFERROR(VLOOKUP(F26,'Balance de prueba'!$A$2:$F$500,6,0),0) -> 0 | R26: =N26+O26-P26+Q26 -> 0
G27: =G26+1 -> 19 | J27: Intereses implícitos (transacciones de financiación) | N27: =IFERROR(VLOOKUP(E27,'Balance de prueba'!$A$2:$F$500,6,0),0)+IFERROR(VLOOKUP(D27,'Balance de prueba'!$A$2:$F$500,6,0),0)+IFERROR(VLOOKUP(C27,'Balance de prueba'!$A$2:$F$500,6,0),0)+IFERROR(VLOOKUP(B27,'Balance de prueba'!$A$2:$F$500,6,0),0)+IFERROR(VLOOKUP(A27,'Balance de prueba'!$A$2:$F$500,6,0),0)+IFERROR(VLOOKUP(F27,'Balance de prueba'!$A$2:$F$500,6,0),0) -> 0 | R27: =N27+O27-P27+Q27 -> 0
G28: =G27+1 -> 20 | J28: Rendimientos cotizaciones y aportes voluntarios, régimen de ahorro individual con solidaridad o fondos de pensiones obligatorias | N28: =IFERROR(VLOOKUP(E28,'Balance de prueba'!$A$2:$F$500,6,0),0)+IFERROR(VLOOKUP(D28,'Balance de prueba'!$A$2:$F$500,6,0),0)+IFERROR(VLOOKUP(C28,'Balance de prueba'!$A$2:$F$500,6,0),0)+IFERROR(VLOOKUP(B28,'Balance de prueba'!$A$2:$F$500,6,0),0)+IFERROR(VLOOKUP(A28,'Balance de prueba'!$A$2:$F$500,6,0),0)+IFERROR(VLOOKUP(F28,'Balance de prueba'!$A$2:$F$500,6,0),0) -> 0 | R28: =N28+O28-P28+Q28 -> 0
G29: =G28+1 -> 21 | J29: Rendimientos aportes voluntarios a los seguros privados de pensiones y a los fondos de pensiones voluntarias | N29: =IFERROR(VLOOKUP(E29,'Balance de prueba'!$A$2:$F$500,6,0),0)+IFERROR(VLOOKUP(D29,'Balance de prueba'!$A$2:$F$500,6,0),0)+IFERROR(VLOOKUP(C29,'Balance de prueba'!$A$2:$F$500,6,0),0)+IFERROR(VLOOKUP(B29,'Balance de prueba'!$A$2:$F$500,6,0),0)+IFERROR(VLOOKUP(A29,'Balance de prueba'!$A$2:$F$500,6,0),0)+IFERROR(VLOOKUP(F29,'Balance de prueba'!$A$2:$F$500,6,0),0) -> 0 | R29: =N29+O29-P29+Q29 -> 0
G30: =G29+1 -> 22 | J30: Rendimientos aportes a cuentas AFC | N30: =IFERROR(VLOOKUP(E30,'Balance de prueba'!$A$2:$F$500,6,0),0)+IFERROR(VLOOKUP(D30,'Balance de prueba'!$A$2:$F$500,6,0),0)+IFERROR(VLOOKUP(C30,'Balance de prueba'!$A$2:$F$500,6,0),0)+IFERROR(VLOOKUP(B30,'Balance de prueba'!$A$2:$F$500,6,0),0)+IFERROR(VLOOKUP(A30,'Balance de prueba'!$A$2:$F$500,6,0),0)+IFERROR(VLOOKUP(F30,'Balance de prueba'!$A$2:$F$500,6,0),0) -> 0 | R30: =N30+O30-P30+Q30 -> 0
G31: =G30+1 -> 23 | J31: Arrendamiento financiero o mercantil (leasing) | N31: =IFERROR(VLOOKUP(E31,'Balance de prueba'!$A$2:$F$500,6,0),0)+IFERROR(VLOOKUP(D31,'Balance de prueba'!$A$2:$F$500,6,0),0)+IFERROR(VLOOKUP(C31,'Balance de prueba'!$A$2:$F$500,6,0),0)+IFERROR(VLOOKUP(B31,'Balance de prueba'!$A$2:$F$500,6,0),0)+IFERROR(VLOOKUP(A31,'Balance de prueba'!$A$2:$F$500,6,0),0)+IFERROR(VLOOKUP(F31,'Balance de prueba'!$A$2:$F$500,6,0),0) -> 0 | R31: =N31+O31-P31+Q31 -> 0
G32: =G31+1 -> 24 | J32: Por arrendamientos operativos | N32: =IFERROR(VLOOKUP(E32,'Balance de prueba'!$A$2:$F$500,6,0),0)+IFERROR(VLOOKUP(D32,'Balance de prueba'!$A$2:$F$500,6,0),0)+IFERROR(VLOOKUP(C32,'Balance de prueba'!$A$2:$F$500,6,0),0)+IFERROR(VLOOKUP(B32,'Balance de prueba'!$A$2:$F$500,6,0),0)+IFERROR(VLOOKUP(A32,'Balance de prueba'!$A$2:$F$500,6,0),0)+IFERROR(VLOOKUP(F32,'Balance de prueba'!$A$2:$F$500,6,0),0) -> 0 | R32: =N32+O32-P32+Q32 -> 0
G33: =G32+1 -> 25 | J33: Regalías y propiedad intelectual | N33: =IFERROR(VLOOKUP(E33,'Balance de prueba'!$A$2:$F$500,6,0),0)+IFERROR(VLOOKUP(D33,'Balance de prueba'!$A$2:$F$500,6,0),0)+IFERROR(VLOOKUP(C33,'Balance de prueba'!$A$2:$F$500,6,0),0)+IFERROR(VLOOKUP(B33,'Balance de prueba'!$A$2:$F$500,6,0),0)+IFERROR(VLOOKUP(A33,'Balance de prueba'!$A$2:$F$500,6,0),0)+IFERROR(VLOOKUP(F33,'Balance de prueba'!$A$2:$F$500,6,0),0) -> 0 | R33: =N33+O33-P33+Q33 -> 0
G34: =G33+1 -> 26 | J34: Ingresos del exterior por rentas de capital | N34: =IFERROR(VLOOKUP(E34,'Balance de prueba'!$A$2:$F$500,6,0),0)+IFERROR(VLOOKUP(D34,'Balance de prueba'!$A$2:$F$500,6,0),0)+IFERROR(VLOOKUP(C34,'Balance de prueba'!$A$2:$F$500,6,0),0)+IFERROR(VLOOKUP(B34,'Balance de prueba'!$A$2:$F$500,6,0),0)+IFERROR(VLOOKUP(A34,'Balance de prueba'!$A$2:$F$500,6,0),0)+IFERROR(VLOOKUP(F34,'Balance de prueba'!$A$2:$F$500,6,0),0) -> 0 | R34: =N34+O34-P34+Q34 -> 0
G35: =G34+1 -> 27 | J35: Mayor ingreso - Precios de Transferencia | R35: =N35+O35-P35+Q35 -> 0
G36: =G35+1 -> 28 | J36: Intereses presuntos | R36: =N36+O36-P36+Q36 -> 0
G37: =G36+1 -> 29 | I37: Rentas no laborales | N37: =N38+N59+N62+N65+N71+N81+N91+N104+N111+N116+N127+N128 -> 0 | P37: =P38+P59+P62+P65+P71+P91+P104+P111+P116+P127+P128 -> 0 | Q37: =Q38+Q59+Q62+Q65+Q71+Q91+Q104+Q111+Q116+Q127+Q128 -> 0 | R37: =R38+R59+R62+R65+R71+R91+R104+R111+R116+R127+R128 -> 0
G38: =G37+1 -> 30 | J38: Ingresos netos Actividad Industrial, comercial y servicios | N38: =N39-N55 -> 0 | O38: =O39-O55 -> 0 | P38: =P39-P55 -> 0 | Q38: =Q39-Q55 -> 0 | R38: =R39-R55 -> 0
G39: =G38+1 -> 31 | K39: Ingresos brutos Actividad Industrial, comercial y servicios | N39: =SUM(N40:N54) -> 0 | O39: =SUM(O40:O54) -> 0 | P39: =SUM(P40:P54) -> 0 | Q39: =SUM(Q40:Q54) -> 0 | R39: =SUM(R40:R54) -> 0
G40: =G39+1 -> 32 | L40: Venta de bienes | M40: Al territorio nacional | N40: =IFERROR(VLOOKUP(E40,'Balance de prueba'!$A$2:$F$500,6,0),0)+IFERROR(VLOOKUP(D40,'Balance de prueba'!$A$2:$F$500,6,0),0)+IFERROR(VLOOKUP(C40,'Balance de prueba'!$A$2:$F$500,6,0),0)+IFERROR(VLOOKUP(B40,'Balance de prueba'!$A$2:$F$500,6,0),0)+IFERROR(VLOOKUP(A40,'Balance de prueba'!$A$2:$F$500,6,0),0)+IFERROR(VLOOKUP(F40,'Balance de prueba'!$A$2:$F$500,6,0),0) -> 0 | R40: =N40+O40-P40+Q40 -> 0
G41: =G40+1 -> 33 | M41: Exportación a otros países | N41: =IFERROR(VLOOKUP(E41,'Balance de prueba'!$A$2:$F$500,6,0),0)+IFERROR(VLOOKUP(D41,'Balance de prueba'!$A$2:$F$500,6,0),0)+IFERROR(VLOOKUP(C41,'Balance de prueba'!$A$2:$F$500,6,0),0)+IFERROR(VLOOKUP(B41,'Balance de prueba'!$A$2:$F$500,6,0),0)+IFERROR(VLOOKUP(A41,'Balance de prueba'!$A$2:$F$500,6,0),0)+IFERROR(VLOOKUP(F41,'Balance de prueba'!$A$2:$F$500,6,0),0) -> 0 | R41: =N41+O41-P41+Q41 -> 0
G42: =G41+1 -> 34 | M42: Zona franca | N42: =IFERROR(VLOOKUP(E42,'Balance de prueba'!$A$2:$F$500,6,0),0)+IFERROR(VLOOKUP(D42,'Balance de prueba'!$A$2:$F$500,6,0),0)+IFERROR(VLOOKUP(C42,'Balance de prueba'!$A$2:$F$500,6,0),0)+IFERROR(VLOOKUP(B42,'Balance de prueba'!$A$2:$F$500,6,0),0)+IFERROR(VLOOKUP(A42,'Balance de prueba'!$A$2:$F$500,6,0),0)+IFERROR(VLOOKUP(F42,'Balance de prueba'!$A$2:$F$500,6,0),0) -> 0 | R42: =N42+O42-P42+Q42 -> 0
G43: =G42+1 -> 35 | M43: Comercializadoras Internacionales | N43: =IFERROR(VLOOKUP(E43,'Balance de prueba'!$A$2:$F$500,6,0),0)+IFERROR(VLOOKUP(D43,'Balance de prueba'!$A$2:$F$500,6,0),0)+IFERROR(VLOOKUP(C43,'Balance de prueba'!$A$2:$F$500,6,0),0)+IFERROR(VLOOKUP(B43,'Balance de prueba'!$A$2:$F$500,6,0),0)+IFERROR(VLOOKUP(A43,'Balance de prueba'!$A$2:$F$500,6,0),0)+IFERROR(VLOOKUP(F43,'Balance de prueba'!$A$2:$F$500,6,0),0) -> 0 | R43: =N43+O43-P43+Q43 -> 0
G44: =G43+1 -> 36 | M44: Jurisdicciones no cooperantes, de baja o nula imposición y regímenes tributarios preferenciales | N44: =IFERROR(VLOOKUP(E44,'Balance de prueba'!$A$2:$F$500,6,0),0)+IFERROR(VLOOKUP(D44,'Balance de prueba'!$A$2:$F$500,6,0),0)+IFERROR(VLOOKUP(C44,'Balance de prueba'!$A$2:$F$500,6,0),0)+IFERROR(VLOOKUP(B44,'Balance de prueba'!$A$2:$F$500,6,0),0)+IFERROR(VLOOKUP(A44,'Balance de prueba'!$A$2:$F$500,6,0),0)+IFERROR(VLOOKUP(F44,'Balance de prueba'!$A$2:$F$500,6,0),0) -> 0 | R44: =N44+O44-P44+Q44 -> 0
G45: =G44+1 -> 37 | M45: Vinculado Económicos zona Franca y exterior | N45: =IFERROR(VLOOKUP(E45,'Balance de prueba'!$A$2:$F$500,6,0),0)+IFERROR(VLOOKUP(D45,'Balance de prueba'!$A$2:$F$500,6,0),0)+IFERROR(VLOOKUP(C45,'Balance de prueba'!$A$2:$F$500,6,0),0)+IFERROR(VLOOKUP(B45,'Balance de prueba'!$A$2:$F$500,6,0),0)+IFERROR(VLOOKUP(A45,'Balance de prueba'!$A$2:$F$500,6,0),0)+IFERROR(VLOOKUP(F45,'Balance de prueba'!$A$2:$F$500,6,0),0) -> 0 | R45: =N45+O45-P45+Q45 -> 0
G46: =G45+1 -> 38 | L46: Prestación de servicios (diferentes de honorarios profesionales) | M46: Al territorio nacional | N46: =IFERROR(VLOOKUP(E46,'Balance de prueba'!$A$2:$F$500,6,0),0)+IFERROR(VLOOKUP(D46,'Balance de prueba'!$A$2:$F$500,6,0),0)+IFERROR(VLOOKUP(C46,'Balance de prueba'!$A$2:$F$500,6,0),0)+IFERROR(VLOOKUP(B46,'Balance de prueba'!$A$2:$F$500,6,0),0)+IFERROR(VLOOKUP(A46,'Balance de prueba'!$A$2:$F$500,6,0),0)+IFERROR(VLOOKUP(F46,'Balance de prueba'!$A$2:$F$500,6,0),0) -> 0 | R46: =N46+O46-P46+Q46 -> 0
...

Sheet H4 (Impuesto Diferido)
F1: Activos y pasivos por impuestos diferidos
A8: 1. Impuestos diferidos provenientes de diferencias temporarias
A10: Num | B10: Concepto | D10: Base contable | E10: Base Fiscal | F10: Diferencia Temporaria | G10: Diferencia Permanente | H10: Saldo impuesto diferido a 31 -DIC vigencia actual | I10: Saldo impuesto diferido a 31 -DIC vigencia anterior | J10: Variación | K10: Tasa fiscal aplicada
A12: 1 | B12: Activo (Diferencias temporarias deducibles)
A13: =A12+1 -> 2 | C13: Efectivo y equivalentes al efectivo | J13: =I13-H13 -> 0 | K13: =IF(F13=" ",0,IF(F13=0,0,H13/F13)) -> 0
A14: =A13+1 -> 3 | C14: Inversiones e instrumentos derivados | J14: =I14-H14 -> 0 | K14: =IF(F14=" ",0,IF(F14=0,0,H14/F14)) -> 0
A15: =A14+1 -> 4 | C15: Cuentas por cobrar | J15: =I15-H15 -> 0 | K15: =IF(F15=" ",0,IF(F15=0,0,H15/F15)) -> 0
A16: =A15+1 -> 5 | C16: Inventarios | J16: =I16-H16 -> 0 | K16: =IF(F16=" ",0,IF(F16=0,0,H16/F16)) -> 0
A17: =A16+1 -> 6 | C17: Propiedades, planta y equipo | J17: =I17-H17 -> 0 | K17: =IF(F17=" ",0,IF(F17=0,0,H17/F17)) -> 0
A18: =A17+1 -> 7 | C18: Activos intangibles | J18: =I18-H18 -> 0 | K18: =IF(F18=" ",0,IF(F18=0,0,H18/F18)) -> 0
A19: =A18+1 -> 8 | C19: Propiedades de inversión | J19: =I19-H19 -> 0 | K19: =IF(F19=" ",0,IF(F19=0,0,H19/F19)) -> 0
A20: =A19+1 -> 9 | C20: Activos biológicos | J20: =I20-H20 -> 0 | K20: =IF(F20=" ",0,IF(F20=0,0,H20/F20)) -> 0
A21: =A20+1 -> 10 | C21: Activos no corrientes mantenidos para la venta | J21: =I21-H21 -> 0 | K21: =IF(F21=" ",0,IF(F21=0,0,H21/F21)) -> 0
A22: =A21+1 -> 11 | C22: Pasivos financieros y cuentas por pagar | J22: =I22-H22 -> 0 | K22: =IF(F22=" ",0,IF(F22=0,0,H22/F22)) -> 0
A23: =A22+1 -> 12 | C23: Impuestos, gravámenes y tasas | J23: =I23-H23 -> 0 | K23: =IF(F23=" ",0,IF(F23=0,0,H23/F23)) -> 0
A24: =A23+1 -> 13 | C24: Beneficios a empleados | J24: =I24-H24 -> 0 | K24: =IF(F24=" ",0,IF(F24=0,0,H24/F24)) -> 0
... A30: =A29+1 -> 19 | C30: Otros activos | J30: =I30-H30 -> 0 | K30: =IF(F30=" ",0,IF(F30=0,0,H30/F30)) -> 0
A31: =A30+1 -> 20 | C31: Valor total | H31: =SUM(H13:H30) -> 0 | I31: =SUM(I13:I30) -> 0 | J31: =SUM(J13:J30) -> 0
A32: =A31+1 -> 21 | B32: Pasivo (Diferencias temporarias imponibles)
A33: =A32+1 -> 22 | C33: Efectivo y equivalentes al efectivo | J33: =I33-H33 -> 0 | K33: =IF(F33=" ",0,IF(F33=0,0,H33/F33)) -> 0
A34: =A33+1 -> 23 | C34: Inversiones e instrumentos derivados | J34: =I34-H34 -> 0 | K34: =IF(F34=" ",0,IF(F34=0,0,H34/F34)) -> 0
A35: =A34+1 -> 24 | C35: Cuentas por cobrar | J35: =I35-H35 -> 0 | K35: =IF(F35=" ",0,IF(F35=0,0,H35/F35)) -> 0
A36: =A35+1 -> 25 | C36: Inventarios | J36: =I36-H36 -> 0 | K36: =IF(F36=" ",0,IF(F36=0,0,H36/F36)) -> 0
A37: =A36+1 -> 26 | C37: Propiedades, planta y equipo | J37: =I37-H37 -> 0 | K37: =IF(F37=" ",0,IF(F37=0,0,H37/F37)) -> 0
A38: =A37+1 -> 27 | C38: Activos intangibles | J38: =I38-H38 -> 0 | K38: =IF(F38=" ",0,IF(F38=0,0,H38/F38)) -> 0
A39: =A38+1 -> 28 | C39: Propiedades de inversión | J39: =I39-H39 -> 0 | K39: =IF(F39=" ",0,IF(F39=0,0,H39/F39)) -> 0
A40: =A39+1 -> 29 | C40: Activos biológicos | J40: =I40-H40 -> 0 | K40: =IF(F40=" ",0,IF(F40=0,0,H40/F40)) -> 0
A41: =A40+1 -> 30 | C41: Activos no corrientes mantenidos para la venta | J41: =I41-H41 -> 0 | K41: =IF(F41=" ",0,IF(F41=0,0,H41/F41)) -> 0
A42: =A41+1 -> 31 | C42: Pasivos financieros y cuentas por pagar | J42: =I42-H42 -> 0 | K42: =IF(F42=" ",0,IF(F42=0,0,H42/F42)) -> 0
A43: =A42+1 -> 32 | C43: Impuestos, gravámenes y tasas | J43: =I43-H43 -> 0 | K43: =IF(F43=" ",0,IF(F43=0,0,H43/F43)) -> 0
A44: =A43+1 -> 33 | C44: Beneficios a empleados | J44: =I44-H44 -> 0 | K44: =IF(F44=" ",0,IF(F44=0,0,H44/F44)) -> 0
... A50: =A49+1 -> 39 | C50: Otros activos | J50: =I50-H50 -> 0 | K50: =IF(F50=" ",0,IF(F50=0,0,H50/F50)) -> 0
A51: =A50+1 -> 40 | C51: Valor total | H51: =SUM(H33:H50) -> 0 | I51: =SUM(I33:I50) -> 0 | J51: =SUM(J33:J50) -> 0
A55: 2. Activos por créditos tributarios (saldos a favor e Impuestos pagados en el exterior)
A57: Num | B57: Tipo de crédito tributario | D57: Saldo al 31 -DIC vigencia actual | E57: Saldo al 31-DIC vigencia anterior | F57: Variación | G57: Explicación de la variación
G58: Reducción (compensación / aplicación) | H58: Incremento (generado en el periodo) | I58: Correcciones en declaraciones anteriores | K58: Ajustes contables por correcciones valorativas
I59: Mayor valor | J59: Menor valor | K59: Mayor valor | L59: Menor valor
A60: =A51+1 -> 41 | B60: Saldos a favor | F60: =D60-E60 -> 0
A61: =A60+1 -> 42 | B61: Impuestos pagados en el exterior | F61: =D61-E61 -> 0
A66: 3. Detalle de compensación de pérdidas fiscales
...

Sheet H5 (Ingresos y Facturación)
D1: Conciliación ingreso contable (devengado) y facturación emitida
A9: Num | B9: Concepto | C9: Pasivo por ingreso diferido | G9: Facturación emitida en el período | L9: Ingreso contable devengado en el período
C10: Saldo al inicio del período | D10: Registrado como ingreso contable en el período | E10: Generado en el período | F10: Saldo al final del período | G10: Devengada como ingreso en períodos anteriores | H10: Devengada como ingresos del periodo | I10: Registrada como pasivo por ingreso diferido | J10: Solo facturado (No ha generado ingreso ni pasivo diferido) | K10: Valor total | L10: Sin facturar | M10: Facturado períodos anteriores | N10: valor total
C11: 1 | D11: 2 | E11: 3 | F11: 4=1-2+3 | G11: 5 | H11: 6 | I11: 7 | J11: 8 | K11: 9=5+6+7+8 | L11: 10 | M11: 11 | N11: 12=6+10+11
A12: 1 | B12: Venta de bienes | F12: =C12-D12+E12 -> 0 | K12: =G12+H12+I12+J12 -> 0 | N12: =H12+L12+M12 -> 0
A13: =A12+1 -> 2 | B13: Prestación de servicios | F13: =C13-D13+E13 -> 0 | K13: =G13+H13+I13+J13 -> 0 | N13: =H13+L13+M13 -> 0
A14: =A13+1 -> 3 | B14: Otros ingresos | F14: =C14-D14+E14 -> 0 | K14: =G14+H14+I14+J14 -> 0 | N14: =H14+L14+M14 -> 0
A15: =A14+1 -> 4 | B15: Ingresos para terceros | F15: =C15-D15+E15 -> 0 | K15: =G15+H15+I15+J15 -> 0 | N15: =H15+L15+M15 -> 0
A16: =A15+1 -> 5 | B16: Ajustes al valor facturado (descuentos, notas) | F16: =C16-D16+E16 -> 0 | K16: =G16+H16+I16+J16 -> 0 | N16: =H16+L16+M16 -> 0
A17: =A16+1 -> 6 | B17: TOTAL | C17: =SUM(C12:C15)-C16 -> 0 | D17: =SUM(D12:D15)-D16 -> 0 | E17: =SUM(E12:E15)-E16 -> 0 | F17: =SUM(F12:F15)-F16 -> 0 | G17: =SUM(G12:G15)-G16 -> 0 | H17: =SUM(H12:H15)-H16 -> 0 | I17: =SUM(I12:I15)-I16 -> 0 | J17: =SUM(J12:J15)-J16 -> 0 | ... N17: =SUM(N12:N15)-N16 -> 0

Sheet H6 (Activos fijos)
F1: Conciliación Propiedades, planta y equipo (PPE), propiedades de inversión (PI), activos no corrientes mantenidos para la venta o para distribuir a los propietarios (ANCMV) y activos Intangibles
A8: NUM | B8: CONCEPTO | D8: DATOS CONTABLES | X8: DATOS FISCALES
D9: Valor total, incluyendo leasing | U9: Datos informativos | X9: Valor total, incluyendo arrendamiento financiero o leasing financiero | AE9: Datos Informativos: Valor activos adquiridos mediante arrendamiento financiero
D10: Importe al comienzo del periodo (No incluye Depreciación, amortización o deterioro) | G10: Incrementos | I10: Disminuciones | K10: Depreciación o amortización acumulada al final del período | N10: Deterioro acumulado al final del período | O10: Importe Neto al final del período | Q10: Gasto del período por depreciación o amortización | S10: Gasto del período por deterioro | T10: Ingresos del período por recuperación del deterioro | U10: Valor de activos adquiridos mediante Leasing | V10: Desmantelamiento, restauración y rehabilitación total acumulado al final del período | W10: Mayor valor por revaluación acumulado al final del período | X10: Saldo al comienzo del período | Y10: Incrementos por transferencias, adquisiciones y otros cambios | Z10: Disminuciones por transferencias y otros cambios | AA10: Subtotal al final del período | AB10: Depreciación y/o amortización acumulada al final del período | AC10: Total Neto al final del período | AD10: Gasto fiscal por Depreciación y/o amortización del período | AE10: Valor total al final del periodo | AF10: Depreciación y/o Amortización acumulada al final del período | AG10: Valor Neto al final del período | AH10: Gasto fiscal Depreciación y/o Amortización del período
D11: Costo | E11: Efecto de conversión (Por moneda funcional diferente al peso colombiano) | F11: Ajuste por revaluaciones o re-expresiones | G11: Transferencias y/o adquisiciones | H11: Cambios en Valor Razonable | I11: Transferencias y/o eliminaciones | J11: Cambios en Valor Razonable | K11: Por Costo | L11: Efecto de conversión (Por moneda funcional diferente al peso colombiano) | M11: Por Ajuste por revaluaciones o re-expresiones | O11: Costo | P11: Ajuste por revaluaciones o re-expresiones | Q11: Por Costo | R11: Por Ajuste por revaluaciones o re-expresiones
A12: 1 | B12: Propiedades, planta y equipo
A13: =A12+1 -> 2 | C13: Terrenos | O13: =D13+E13+G13-I13-K13-L13-N13 -> 0 | P13: =F13+H13-J13-M13 -> 0 | AA13: =X13+Y13-Z13 -> 0 | AC13: =AA13-AB13 -> 0 | AG13: =AE13-AF13 -> 0
A14: =A13+1 -> 3 | C14: Edificios | O14: =D14+E14+G14-I14-K14-L14-N14 -> 0 | P14: =F14+H14-J14-M14 -> 0 | AA14: =X14+Y14-Z14 -> 0 | AC14: =AA14-AB14 -> 0 | AG14: =AE14-AF14 -> 0
A15: =A14+1 -> 4 | C15: Casa de habitación | O15: =D15+E15+G15-I15-K15-L15-N15 -> 0 | P15: =F15+H15-J15-M15 -> 0 | AA15: =X15+Y15-Z15 -> 0 | AC15: =AA15-AB15 -> 0 | AG15: =AE15-AF15 -> 0
A16: =A15+1 -> 5 | C16: Maquinaria | O16: =D16+E16+G16-I16-K16-L16-N16 -> 0 | P16: =F16+H16-J16-M16 -> 0 | AA16: =X16+Y16-Z16 -> 0 | AC16: =AA16-AB16 -> 0 | AG16: =AE16-AF16 -> 0
A17: =A16+1 -> 6 | C17: Buques | O17: =D17+E17+G17-I17-K17-L17-N17 -> 0 | P17: =F17+H17-J17-M17 -> 0 | AA17: =X17+Y17-Z17 -> 0 | AC17: =AA17-AB17 -> 0 | AG17: =AE17-AF17 -> 0
A18: =A17+1 -> 7 | C18: Aeronave | O18: =D18+E18+G18-I18-K18-L18-N18 -> 0 | P18: =F18+H18-J18-M18 -> 0 | AA18: =X18+Y18-Z18 -> 0 | AC18: =AA18-AB18 -> 0 | AG18: =AE18-AF18 -> 0
A19: =A18+1 -> 8 | C19: Equipos de Transporte | O19: =D19+E19+G19-I19-K19-L19-N19 -> 0 | P19: =F19+H19-J19-M19 -> 0 | AA19: =X19+Y19-Z19 -> 0 | AC19: =AA19-AB19 -> 0 | AG19: =AE19-AF19 -> 0
A20: =A19+1 -> 9 | C20: Enseres y accesorios | O20: =D20+E20+G20-I20-K20-L20-N20 -> 0 | P20: =F20+H20-J20-M20 -> 0 | AA20: =X20+Y20-Z20 -> 0 | AC20: =AA20-AB20 -> 0 | AG20: =AE20-AF20 -> 0
A21: =A20+1 -> 10 | C21: Equipos informáticos | O21: =D21+E21+G21-I21-K21-L21-N21 -> 0 | P21: =F21+H21-J21-M21 -> 0 | AA21: =X21+Y21-Z21 -> 0 | AC21: =AA21-AB21 -> 0 | AG21: =AE21-AF21 -> 0
A22: =A21+1 -> 11 | C22: Equipos de redes y comunicación | O22: =D22+E22+G22-I22-K22-L22-N22 -> 0 | P22: =F22+H22-J22-M22 -> 0 | AA22: =X22+Y22-Z22 -> 0 | AC22: =AA22-AB22 -> 0 | AG22: =AE22-AF22 -> 0
A23: =A22+1 -> 12 | C23: Infraestructura de red | O23: =D23+E23+G23-I23-K23-L23-N23 -> 0 | P23: =F23+H23-J23-M23 -> 0 | AA23: =X23+Y23-Z23 -> 0 | AC23: =AA23-AB23 -> 0 | AG23: =AE23-AF23 -> 0
A24: =A23+1 -> 13 | C24: Activos tangibles de exploración y evaluación | O24: =D24+E24+G24-I24-K24-L24-N24 -> 0 | P24: =F24+H24-J24-M24 -> 0 | AA24: =X24+Y24-Z24 -> 0 | AC24: =AA24-AB24 -> 0 | AG24: =AE24-AF24 -> 0
... A31: =A30+1 -> 20 | C31: Otras propiedades, plantas y equipo | O31: =D31+E31+G31-I31-K31-L31-N31 -> 0 | P31: =F31+H31-J31-M31 -> 0 | AA31: =X31+Y31-Z31 -> 0 | AC31: =AA31-AB31 -> 0 | AG31: =AE31-AF31 -> 0
A32: =A31+1 -> 21 | C32: Total propiedades, planta y equipo | D32: =SUM(D13:D31) -> 0 | E32: =SUM(E13:E31) -> 0 | F32: =SUM(F13:F31) -> 0 | G32: =SUM(G13:G31) -> 0 | H32: =SUM(H13:H31) -> 0 | I32: =SUM(I13:I31) -> 0 | J32: =SUM(J13:J31) -> 0 | K32: =SUM(K13:K31) -> 0 | ... AH32: =SUM(AH13:AH31) -> 0
A33: =A32+1 -> 22 | B33: Propiedades de inversión | O33: =D33+G33-I33-K33-N33 -> 0 | P33: =F33+H33-J33-M33 -> 0 | AA33: =X33+Y33-Z33 -> 0 | AC33: =AA33-AB33 -> 0 | AG33: =AE33-AF33 -> 0
A34: =A33+1 -> 23 | C34: Terrenos | O34: =D34+E34+G34-I34-K34-L34-N34 -> 0 | P34: =F34+H34-J34-M34 -> 0 | AA34: =X34+Y34-Z34 -> 0 | AC34: =AA34-AB34 -> 0 | AG34: =AE34-AF34 -> 0
A35: =A34+1 -> 24 | C35: Edificios | O35: =D35+E35+G35-I35-K35-L35-N35 -> 0 | P35: =F35+H35-J35-M35 -> 0 | AA35: =X35+Y35-Z35 -> 0 | AC35: =AA35-AB35 -> 0 | AG35: =AE35-AF35 -> 0
A36: =A35+1 -> 25 | C36: Total propiedades de inversión | D36: =SUM(D34:D35) -> 0 | E36: =SUM(E34:E35) -> 0 | F36: =SUM(F34:F35) -> 0 | G36: =SUM(G34:G35) -> 0 | H36: =SUM(H34:H35) -> 0 | I36: =SUM(I34:I35) -> 0 | J36: =SUM(J34:J35) -> 0 | K36: =SUM(K34:K35) -> 0 | ... AH36: =SUM(AH34:AH35) -> 0
A37: =A36+1 -> 26 | B37: ANCMV | O37: =D37+E37+G37-I37-K37-L37-N37 -> 0 | P37: =F37+H37-J37-M37 -> 0 | AA37: =X37+Y37-Z37 -> 0 | AC37: =AA37-AB37 -> 0 | AG37: =AE37-AF37 -> 0
A38: =A37+1 -> 27 | B38: Total PPE, PI y ANCMV | D38: =D32+D36+D37 -> 0 | E38: =E32+E36+E37 -> 0 | F38: =F32+F36+F37 -> 0 | G38: =G32+G36+G37 -> 0 | H38: =H32+H36+H37 -> 0 | I38: =I32+I36+I37 -> 0 | J38: =J32+J36+J37 -> 0 | K38: =K32+K36+K37 -> 0 | ... AH38: =AH32+AH36+AH37 -> 0
A39: =A38+1 -> 28 | B39: Activos Intangibles | O39: =D39+G39-I39-K39-N39 -> 0 | P39: =F39+H39-J39-M39 -> 0 | AA39: =X39+Y39-Z39 -> 0 | AC39: =AA39-AB39 -> 0 | AG39: =AE39-AF39 -> 0
A40: =A39+1 -> 29 | C40: Marcas Comerciales | O40: =D40+E40+G40-I40-K40-L40-N40 -> 0 | P40: =F40+H40-J40-M40 -> 0 | AA40: =X40+Y40-Z40 -> 0 | AC40: =AA40-AB40 -> 0 | AG40: =AE40-AF40 -> 0
A41: =A40+1 -> 30 | C41: Activos intangibles de exploración y evaluación | O41: =D41+E41+G41-I41-K41-L41-N41 -> 0 | P41: =F41+H41-J41-M41 -> 0 | AA41: =X41+Y41-Z41 -> 0 | AC41: =AA41-AB41 -> 0 | AG41: =AE41-AF41 -> 0
A42: =A41+1 -> 31 | C42: Cabeceras de periódicos, revistas, títulos de publicaciones | O42: =D42+E42+G42-I42-K42-L42-N42 -> 0 | P42: =F42+H42-J42-M42 -> 0 | AA42: =X42+Y42-Z42 -> 0 | AC42: =AA42-AB42 -> 0 | AG42: =AE42-AF42 -> 0
A43: =A42+1 -> 32 | C43: Programas y aplicaciones informáticos | O43: =D43+E43+G43-I43-K43-L43-N43 -> 0 | P43: =F43+H43-J43-M43 -> 0 | AA43: =X43+Y43-Z43 -> 0 | AC43: =AA43-AB43 -> 0 | AG43: =AE43-AF43 -> 0
A44: =A43+1 -> 33 | C44: Licencias y Franquicias | O44: =D44+E44+G44-I44-K44-L44-N44 -> 0 | P44: =F44+H44-J44-M44 -> 0 | AA44: =X44+Y44-Z44 -> 0 | AC44: =AA44-AB44 -> 0 | AG44: =AE44-AF44 -> 0
A45: =A44+1 -> 34 | C45: Propiedad intelectual, patentes y otra propiedad industrial, servicios y derechos de operación | O45: =D45+E45+G45-I45-K45-L45-N45 -> 0 | P45: =F45+H45-J45-M45 -> 0 | AA45: =X45+Y45-Z45 -> 0 | AC45: =AA45-AB45 -> 0 | AG45: =AE45-AF45 -> 0
A46: =A45+1 -> 35 | C46: Recetas, fórmulas, modelos, diseños y prototipos | O46: =D46+E46+G46-I46-K46-L46-N46 -> 0 | P46: =F46+H46-J46-M46 -> 0 | AA46: =X46+Y46-Z46 -> 0 | AC46: =AA46-AB46 -> 0 | AG46: =AE46-AF46 -> 0
A47: =A46+1 -> 36 | C47: Concesiones | O47: =D47+E47+G47-I47-K47-L47-N47 -> 0 | P47: =F47+H47-J47-M47 -> 0 | AA47: =X47+Y47-Z47 -> 0 | AC47: =AA47-AB47 -> 0 | AG47: =AE47-AF47 -> 0
A48: =A47+1 -> 37 | C48: Desembolsos de desarrollo capitalizados | O48: =D48+E48+G48-I48-K48-L48-N48 -> 0 | P48: =F48+H48-J48-M48 -> 0 | AA48: =X48+Y48-Z48 -> 0 | AC48: =AA48-AB48 -> 0 | AG48: =AE48-AF48 -> 0
A49: =A48+1 -> 38 | C49: Activos intangibles en desarrollo | O49: =D49+E49+G49-I49-K49-L49-N49 -> 0 | P49: =F49+H49-J49-M49 -> 0 | AA49: =X49+Y49-Z49 -> 0 | AC49: =AA49-AB49 -> 0 | AG49: =AE49-AF49 -> 0
A50: =A49+1 -> 39 | C50: Plusvalía | O50: =D50+E50+G50-I50-K50-L50-N50 -> 0 | P50: =F50+H50-J50-M50 -> 0 | AA50: =X50+Y50-Z50 -> 0 | AC50: =AA50-AB50 -> 0 | AG50: =AE50-AF50 -> 0
A51: =A50+1 -> 40 | C51: Mejoras de derechos de arrendamiento | O51: =D51+E51+G51-I51-K51-L51-N51 -> 0 | P51: =F51+H51-J51-M51 -> 0 | AA51: =X51+Y51-Z51 -> 0 | AC51: =AA51-AB51 -> 0 | AG51: =AE51-AF51 -> 0
... A53: =A52+1 -> 42 | C53: Otros activos intangibles | O53: =D53+E53+G53-I53-K53-L53-N53 -> 0 | P53: =F53+H53-J53-M53 -> 0 | AA53: =X53+Y53-Z53 -> 0 | AC53: =AA53-AB53 -> 0 | AG53: =AE53-AF53 -> 0
...

Sheet H7 (Resumen ESF-ERI)
F1: RESUMEN ESF - PATRIMONIO y ERI - RENTA LIQUIDA
A8: NUM | B8: CONCEPTO | G8: VALOR CONTABLE | H8: VALOR FISCAL | I8: VARIACIÓN
A9: 1 | B9: ESTADO DE SITUACION FINANCIERA - PATRIMONIO
A10: =A9+1 -> 2 | C10: Activos
A11: =A10+1 -> 3 | D11: Efectivo y equivalentes al efectivo | G11: =+'H2 (ESF - Patrimonio)'!M11 -> 0 | H11: =+'H2 (ESF - Patrimonio)'!Q11 -> 0 | I11: =+G11-H11 -> 0
A12: =A11+1 -> 4 | D12: Inversiones e instrumentos financieros derivados | G12: =+'H2 (ESF - Patrimonio)'!M17 -> 0 | H12: =+'H2 (ESF - Patrimonio)'!Q17 -> 0 | I12: =+G12-H12 -> 0
A13: =A12+1 -> 5 | D13: Cuentas por cobrar | G13: =+'H2 (ESF - Patrimonio)'!M40 -> 0 | H13: =+'H2 (ESF - Patrimonio)'!Q40 -> 0 | I13: =+G13-H13 -> 0
A14: =A13+1 -> 6 | D14: Inventarios | G14: =+'H2 (ESF - Patrimonio)'!M60 -> 0 | H14: =+'H2 (ESF - Patrimonio)'!Q60 -> 0 | I14: =+G14-H14 -> 0
A15: =A14+1 -> 7 | D15: Gastos pagados por anticipado | G15: =+'H2 (ESF - Patrimonio)'!M72 -> 0 | H15: =+'H2 (ESF - Patrimonio)'!Q72 -> 0 | I15: =+G15-H15 -> 0
A16: =A15+1 -> 8 | D16: Activos por impuestos corrientes | G16: =+'H2 (ESF - Patrimonio)'!M77 -> 0 | H16: =+'H2 (ESF - Patrimonio)'!Q77 -> 0 | I16: =+G16-H16 -> 0
A17: =A16+1 -> 9 | D17: Activos por impuestos diferidos | G17: =+'H2 (ESF - Patrimonio)'!M82 -> 0 | H17: =+'H2 (ESF - Patrimonio)'!Q82 -> 0 | I17: =+G17-H17 -> 0
A18: =A17+1 -> 10 | D18: Propiedades, planta y equipo | G18: =+'H2 (ESF - Patrimonio)'!M83 -> 0 | H18: =+'H2 (ESF - Patrimonio)'!Q83 -> 0 | I18: =+G18-H18 -> 0
A19: =A18+1 -> 11 | D19: Activos intangibles | G19: =+'H2 (ESF - Patrimonio)'!M93 -> 0 | H19: =+'H2 (ESF - Patrimonio)'!Q93 -> 0 | I19: =+G19-H19 -> 0
A20: =A19+1 -> 12 | D20: Propiedades de inversión | G20: =+'H2 (ESF - Patrimonio)'!M110 -> 0 | H20: =+'H2 (ESF - Patrimonio)'!Q110 -> 0 | I20: =+G20-H20 -> 0
A21: =A20+1 -> 13 | D21: Activos no corrientes mantenidos para la venta | G21: =+'H2 (ESF - Patrimonio)'!M115 -> 0 | H21: =+'H2 (ESF - Patrimonio)'!Q115 -> 0 | I21: =+G21-H21 -> 0
A22: =A21+1 -> 14 | D22: Activos biológicos | G22: =+'H2 (ESF - Patrimonio)'!M118 -> 0 | H22: =+'H2 (ESF - Patrimonio)'!Q118 -> 0 | I22: =+G22-H22 -> 0
A23: =A22+1 -> 15 | D23: Otros activos | G23: =+'H2 (ESF - Patrimonio)'!M135 -> 0 | H23: =+'H2 (ESF - Patrimonio)'!Q135 -> 0 | I23: =+G23-H23 -> 0
A24: =A23+1 -> 16 | D24: Total activos | G24: =SUM(G11:G23) -> 0 | H24: =SUM(H11:H23) -> 0 | I24: =+G24-H24 -> 0
A25: =A24+1 -> 17 | C25: Pasivos
A26: =A25+1 -> 18 | D26: Obligaciones financieras y cuentas por pagar | G26: =+'H2 (ESF - Patrimonio)'!M141 -> 0 | H26: =+'H2 (ESF - Patrimonio)'!Q141 -> 0 | I26: =+G26-H26 -> 0
A27: =A26+1 -> 19 | D27: Arrendamientos por pagar | G27: =+'H2 (ESF - Patrimonio)'!M152 -> 0 | H27: =+'H2 (ESF - Patrimonio)'!Q152 -> 0 | I27: =+G27-H27 -> 0
